BEGIN:VCALENDAR
VERSION:2.0
PRODID:-//ChamberMaster//Event Calendar 2.0//EN
METHOD:PUBLISH
X-PUBLISHED-TTL:P3D
REFRESH-INTERVAL:P3D
CALSCALE:GREGORIAN
BEGIN:VEVENT
DTSTART:20251209T190000Z
DTEND:20251210T000000Z
X-MICROSOFT-CDO-ALLDAYEVENT:FALSE
SUMMARY:VBOC
DESCRIPTION:VBOC of the Pacific: Reboot Training\n\nBoots to Business Reboot entrepreneurial education/training program presented by the Veteran's Business Outreach Center of the Pacific (VBOC).The workshop will include entrepreneur basics and resources for small businesses plus the bonus topics below.\n\n\n\nTaxes and Financials (2 hours)\n\n\n	How to choose the proper Business Entity\n	How to understand your tax return \n	Tax Deductions and Credits \n	Individual and business income tax\n	The difference between a Bookkeeper\, Accountant\, EA\, CPA\, Tax Attorney \n	Financial Statements that help you get loans\n\n\nBookkeeping\, Financials\, and Quickbooks (2 hours)  \n\n\n	"Hands-on" Session" \n	Choosing your Quickbooks version \n	Customizing the Chart of Accounts \n	Connecting the Banking Center \n	Creating Invoices and Managing Customers \n	How to create and read financial reports \n	Budgeting and Planning \n\n\nPresenters: Lise Wells\, Andra Tejero-Gasper and Lori Hiramatsu
X-ALT-DESC;FMTTYPE=text/html:<p><strong>VBOC of the Pacific: Reboot Training</strong><br />\nBoots to Business Reboot entrepreneurial education/training program presented by the Veteran&rsquo\;s Business Outreach Center of the Pacific (VBOC).The workshop will include entrepreneur basics and resources for small businesses plus the bonus topics below.<br />\n<br />\n<u>Taxes and Financials (2 hours)</u></p>\n\n<ul>\n	<li>How to choose the proper Business Entity</li>\n	<li>How to understand your tax return&nbsp\;</li>\n	<li>Tax Deductions and Credits&nbsp\;</li>\n	<li>Individual and business income tax</li>\n	<li>The difference between a Bookkeeper\, Accountant\, EA\, CPA\, Tax Attorney&nbsp\;</li>\n	<li>Financial Statements that help you get loans</li>\n</ul>\n\n<p><u>Bookkeeping\, Financials\, and Quickbooks (2 hours)&nbsp\;&nbsp\;</u></p>\n\n<ul>\n	<li>&ldquo\;Hands-on&rdquo\; Session&quot\;&nbsp\;</li>\n	<li>Choosing your Quickbooks version&nbsp\;</li>\n	<li>Customizing the Chart of Accounts&nbsp\;</li>\n	<li>Connecting the Banking Center&nbsp\;</li>\n	<li>Creating Invoices and Managing Customers&nbsp\;</li>\n	<li>How to create and read financial reports&nbsp\;</li>\n	<li>Budgeting and Planning&nbsp\;</li>\n</ul>\n\n<p><strong>Presenters:</strong> Lise Wells\, Andra Tejero-Gasper and Lori Hiramatsu</p>\n
LOCATION:BIA Hawaii 94-487 Akoki St. Waipahu\, HI 96797
UID:e.9314.887203
SEQUENCE:3
DTSTAMP:20260424T142131Z
URL:https://members.biahawaii.org/events/details/vboc-887203
END:VEVENT

END:VCALENDAR
