BEGIN:VCALENDAR
VERSION:2.0
PRODID:-//ChamberMaster//Event Calendar 2.0//EN
METHOD:PUBLISH
X-PUBLISHED-TTL:P3D
REFRESH-INTERVAL:P3D
CALSCALE:GREGORIAN
BEGIN:VEVENT
DTSTART:20250603T220000Z
DTEND:20250606T020000Z
X-MICROSOFT-CDO-ALLDAYEVENT:FALSE
SUMMARY:USACE Construction Quality Management (CQM)
DESCRIPTION:Construction Quality Management (CQM) for Contractors\n\nUSACE- and NAVFAC-Approved Training\n\nEnsure quality results\, build trust with clients\, and meet federal contract requirements with Construction Quality Management (CQM) training at BIA Hawaii.\n\nThis 9-hour certification course is developed by the U.S. Army Corps of Engineers (USACE) and Naval Facilities Engineering Systems Command (NAVFAC) and is required for Quality Control (QC) Managers and Administrators on most USACE- and NAVFAC-administered construction projects. Participants who complete the course and pass the final exam will receive a certificate valid for five years.\n\nCourse Overview:\n\n\n	\n	Learn the principles of Contractor Quality Control (CQC) and Government Quality Assurance (QA)\n	\n	\n	Understand how effective quality management improves performance and profitability\n	\n	\n	Gain the tools needed to meet contract quality standards and manage field quality programs\n	\n\n\nWho Should Attend:\n\nContractors\, superintendents\, QC managers\, and those designated as alternates on federal construction projects. This course must be completed within 45 calendar days of contract award.
X-ALT-DESC;FMTTYPE=text/html:<p data-end="313" data-start="214"><strong data-end="271" data-start="214">Construction Quality Management (CQM) for Contractors</strong><br data-end="274" data-start="271" />\n<strong data-end="313" data-start="274">USACE- and NAVFAC-Approved Training</strong></p>\n\n<p data-end="470" data-start="315">Ensure quality results\, build trust with clients\, and meet federal contract requirements with Construction Quality Management (CQM) training at BIA Hawaii.</p>\n\n<p data-end="868" data-start="472">This 9-hour certification course is developed by the U.S. Army Corps of Engineers (USACE) and Naval Facilities Engineering Systems Command (NAVFAC) and is <strong data-end="692" data-start="627">required for Quality Control (QC) Managers and Administrators</strong> on most USACE- and NAVFAC-administered construction projects. Participants who complete the course and pass the final exam will receive a certificate valid for <strong data-end="867" data-start="853">five years</strong>.</p>\n\n<p data-end="890" data-start="870"><strong data-end="890" data-start="870">Course Overview:</strong></p>\n\n<ul data-end="1165" data-start="891">\n	<li data-end="987" data-start="891">\n	<p data-end="987" data-start="893">Learn the principles of Contractor Quality Control (CQC) and Government Quality Assurance (QA)</p>\n	</li>\n	<li data-end="1072" data-start="988">\n	<p data-end="1072" data-start="990">Understand how effective quality management improves performance and profitability</p>\n	</li>\n	<li data-end="1165" data-start="1073">\n	<p data-end="1165" data-start="1075">Gain the tools needed to meet contract quality standards and manage field quality programs</p>\n	</li>\n</ul>\n\n<p data-end="1376" data-start="1167"><strong data-end="1189" data-start="1167">Who Should Attend:</strong><br data-end="1192" data-start="1189" />\nContractors\, superintendents\, QC managers\, and those designated as alternates on federal construction projects. This course must be completed within 45 calendar days of contract award.</p>\n
LOCATION:BIA Hawaii 94-487 Akoki St Ste 213 2nd Floor Waipahu\, HI 96797
UID:e.9314.887044
SEQUENCE:3
DTSTAMP:20260425T042921Z
URL:https://members.biahawaii.org/events/details/usace-construction-quality-management-cqm-887044
END:VEVENT

END:VCALENDAR
