BEGIN:VCALENDAR
VERSION:2.0
PRODID:-//ChamberMaster//Event Calendar 2.0//EN
METHOD:PUBLISH
X-PUBLISHED-TTL:P3D
REFRESH-INTERVAL:P3D
CALSCALE:GREGORIAN
BEGIN:VEVENT
DTSTART;VALUE=DATE:20250701
DTEND;VALUE=DATE:20250822
TRANSP:TRANSPARENT
X-MICROSOFT-CDO-ALLDAYEVENT:TRUE
SUMMARY:The BIG T Golf Tournament: Anniversary Presale
DESCRIPTION:Pre-Sales: Celebrate 70 Years with Exclusive Savings\n\nIn honor of BIA Hawaii's 70th anniversary\, we're excited to offer special pre-sale packages to help you get the most out of tournament day at the best value.\n\n70th Swing Special   $100 (Valued at $140)\n\nCelebrate our milestone with this team-ready bundle:\n\n\n	4 Mulligans (1 per player)\n	16 Greenies (4 per player)\n	 4 Raffle Tickets\n\n\n70 Years of Winning   Raffle Ticket Bundle\n\n\n	30 Raffle Tickets for $100\n\n\nHOW TO PURCHASE\n\n\n	Click the REGISTER button on the golf tournament event page.\n	Both pre-sale packages will be shown.\n	Select one package to purchase per transaction.\n	Complete the registration and checkout process.\n	To purchase additional packages\, repeat the process by clicking the REGISTER button again.\n\n\nYou may purchase multiple packages\, but only one package can be purchased per transaction.\n\n\nDAY OF TOURNAMENT PRICING\n\nMulligans\n\n\n	$5 each\n	$20 for four\n	 Max: 4 per player ($80/team max)\n\n\nGreenies\n\n\n	$5 each\n	 $20 per player (1 per Par 3\, 4 total)\n\n\nRaffle Tickets\n\n\n	$10 for 1\n	$50 for 10\n	$100 for 30
X-ALT-DESC;FMTTYPE=text/html:<p data-end="143" data-start="87"><strong data-end="143" data-start="87">Pre-Sales: Celebrate 70 Years with Exclusive Savings</strong></p>\n\n<p data-end="302" data-start="145">In honor of BIA Hawaii&rsquo\;s 70th anniversary\, we&rsquo\;re excited to offer special pre-sale packages to help you get the most out of tournament day at the best value.</p>\n\n<p data-end="407" data-start="304"><strong data-end="350" data-start="304">70th Swing Special &ndash\; $100 (Valued at $140)</strong><br data-end="353" data-start="350" />\nCelebrate our milestone with this team-ready bundle:</p>\n\n<ul>\n	<li data-end="438" data-start="410">4 Mulligans (1 per player)</li>\n	<li data-end="438" data-start="410">16 Greenies (4 per player)</li>\n	<li data-end="438" data-start="410">&#8203\;4 Raffle Tickets</li>\n</ul>\n\n<p data-end="540" data-start="492"><strong data-end="538" data-start="492">70 Years of Winning &ndash\; Raffle Ticket Bundle</strong></p>\n\n<ul>\n	<li data-end="623" data-start="543">30 Raffle Tickets for $100</li>\n</ul>\n\n<hr /><strong>HOW TO PURCHASE</strong>\n\n<ol>\n	<li data-end="623" data-start="543">Click the REGISTER button on the golf tournament event page.</li>\n	<li data-end="623" data-start="543">Both pre-sale packages will be shown.</li>\n	<li data-end="623" data-start="543">Select one package to purchase per transaction.</li>\n	<li data-end="623" data-start="543">Complete the registration and checkout process.</li>\n	<li data-end="623" data-start="543">To purchase additional packages\, repeat the process by clicking the REGISTER button again.</li>\n</ol>\n\n<p data-end="623" data-start="543"><em>You may purchase multiple packages\, but only one package can be purchased per transaction.</em></p>\n\n<hr data-end="628" data-start="625" />\n<p data-end="711" data-start="630"><strong data-end="659" data-start="630">DAY OF TOURNAMENT PRICING</strong></p>\n\n<p data-end="728" data-start="713"><strong data-end="726" data-start="713">Mulligans</strong></p>\n\n<ul>\n	<li data-end="740" data-start="731">$5 each</li>\n	<li data-end="740" data-start="731">$20 for four</li>\n	<li data-end="740" data-start="731">&#8203\;Max: 4 per player ($80/team max)</li>\n</ul>\n\n<p data-end="808" data-start="794"><strong data-end="806" data-start="794">Greenies</strong></p>\n\n<ul>\n	<li data-end="820" data-start="811">$5 each</li>\n	<li data-end="820" data-start="811">&#8203\;$20 per player (1 per Par 3\, 4 total)</li>\n</ul>\n\n<p data-end="882" data-start="862"><strong data-end="880" data-start="862">Raffle Tickets</strong></p>\n\n<ul>\n	<li data-end="896" data-start="885">$10 for 1</li>\n	<li data-end="896" data-start="885">$50 for 10</li>\n	<li data-end="896" data-start="885">$100 for 30</li>\n</ul>\n
LOCATION:Waikele Country Club
UID:e.9314.887167
SEQUENCE:3
DTSTAMP:20260425T011118Z
URL:https://members.biahawaii.org/events/details/the-big-t-golf-tournament-anniversary-presale-887167
END:VEVENT

END:VCALENDAR
