BEGIN:VCALENDAR
VERSION:2.0
PRODID:-//ChamberMaster//Event Calendar 2.0//EN
METHOD:PUBLISH
X-PUBLISHED-TTL:P3D
REFRESH-INTERVAL:P3D
CALSCALE:GREGORIAN
BEGIN:VEVENT
DTSTART;VALUE=DATE:20250822
DTEND;VALUE=DATE:20250823
TRANSP:TRANSPARENT
X-MICROSOFT-CDO-ALLDAYEVENT:TRUE
SUMMARY:The BIG T Golf Tournament
DESCRIPTION:The BIG T Golf Tournament\n\nFriday\, August 22\, 2025\n\nWaikele Country Club\n\n\n\nJoin BIA Hawaii for a day on the green filled with friendly competition\, relationship building\, and community spirit. Held at the beautiful Waikele Country Club\, the annual BIA Hawaii Golf Tournament is one of the most anticipated events of the year bringing together members\, partners\, and industry professionals from across Hawai i's building community.\n\nSponsorship Opportunities\n\nSponsorship packages are available for companies looking to showcase their brand to key decision-makers and leaders across the construction and development industry.\n\n\n\nExplore sponsorships and register here: https://bia-hawaii-golf-tournament.perfectgolfevent.com/registration
X-ALT-DESC;FMTTYPE=text/html:<p data-end="246" data-start="159"><strong data-end="189" data-start="159">The BIG T Golf Tournament</strong><br data-end="192" data-start="189" />\n<strong data-end="219" data-start="192">Friday\, August 22\, 2025</strong><br data-end="222" data-start="219" />\n<strong data-end="246" data-start="222">Waikele Country Club</strong><br />\n<br />\nJoin BIA Hawaii for a day on the green filled with friendly competition\, relationship building\, and community spirit. Held at the beautiful Waikele Country Club\, the annual BIA Hawaii Golf Tournament is one of the most anticipated events of the year&mdash\;bringing together members\, partners\, and industry professionals from across Hawai&#699\;i&rsquo\;s building community.</p>\n\n<p data-end="1116" data-start="731"><strong data-end="760" data-start="731">Sponsorship Opportunities</strong><br data-end="763" data-start="760" />\nSponsorship packages are available for companies looking to showcase their brand to key decision-makers and leaders across the construction and development industry.<br data-end="931" data-start="928" />\n<br />\nExplore sponsorships and register here:&nbsp\;<a data-end="1116" data-start="976" href="https://bia-hawaii-golf-tournament.perfectgolfevent.com/registration" rel="noopener" target="_new">https://bia-hawaii-golf-tournament.perfectgolfevent.com/registration</a></p>\n\n<p>&nbsp\;</p>\n
LOCATION:Waikele Golf Club
UID:e.9314.887119
SEQUENCE:3
DTSTAMP:20260425T011113Z
URL:https://members.biahawaii.org/events/details/the-big-t-golf-tournament-887119
END:VEVENT

END:VCALENDAR
