BEGIN:VCALENDAR
VERSION:2.0
PRODID:-//ChamberMaster//Event Calendar 2.0//EN
METHOD:PUBLISH
X-PUBLISHED-TTL:P3D
REFRESH-INTERVAL:P3D
CALSCALE:GREGORIAN
BEGIN:VEVENT
DTSTART:20250802T180000Z
DTEND:20250803T000000Z
X-MICROSOFT-CDO-ALLDAYEVENT:FALSE
SUMMARY:PWB: FOOD DRIVE DAY 2025
DESCRIPTION:Join BIA Hawaii's Professional Women in Building (PWB) Council as we support Hawai i Foodbank's annual Food Drive Day. This statewide campaign helps provide meals for local families during a time of urgent need. One in three households in Hawai i struggles with hunger.\n\nBring your non-perishable food donations\, monetary contributions\, or volunteer to help collect items and raise awareness. Every contribution supports Hawai i Foodbank's mission to nourish our 'ohana.\n\nWays You Can Help:\n\n\n	\n	Donate food or funds at the Mililani site\n	\n	\n	Sign wave to raise awareness\n	\n	\n	Help with food collection and sorting\n	\n	\n	Share the event on social media using #NourishOurOhana\n	\n\n\nWhy It Matters:\n\nThe cost of living continues to rise\, and community support is essential. Hawai i Foodbank serves over 170\,000 people each month across the state. Your support helps ensure families in our community do not go hungry.
X-ALT-DESC;FMTTYPE=text/html:<p data-end="662" data-start="368">Join BIA Hawaii&rsquo\;s <a href="https://www.biahawaii.org/professional-women-in-building/">Professional Women in Building (PWB) Council</a> as we support <a href="https://hawaiifoodbank.org/food-drive-day/">Hawai&#699\;i Foodbank&rsquo\;s annual Food Drive Day</a>. This statewide campaign helps provide meals for local families during a time of urgent need. One in three households in Hawai&#699\;i struggles with hunger.</p>\n\n<p data-end="863" data-start="664">Bring your non-perishable food donations\, monetary contributions\, or volunteer to help collect items and raise awareness. Every contribution supports Hawai&#699\;i Foodbank&rsquo\;s mission to nourish our &lsquo\;ohana.</p>\n\n<p data-end="889" data-start="865"><strong data-end="887" data-start="865">Ways You Can Help:</strong></p>\n\n<ul data-end="1071" data-start="890">\n	<li data-end="935" data-start="890">\n	<p data-end="935" data-start="892">Donate food or funds at the Mililani site</p>\n	</li>\n	<li data-end="968" data-start="936">\n	<p data-end="968" data-start="938">Sign wave to raise awareness</p>\n	</li>\n	<li data-end="1010" data-start="969">\n	<p data-end="1010" data-start="971">Help with food collection and sorting</p>\n	</li>\n	<li data-end="1071" data-start="1011">\n	<p data-end="1071" data-start="1013">Share the event on social media using <strong data-end="1071" data-start="1051">#NourishOurOhana</strong></p>\n	</li>\n</ul>\n\n<p data-end="1311" data-start="1073"><strong data-end="1092" data-start="1073">Why It Matters:</strong><br data-end="1095" data-start="1092" />\nThe cost of living continues to rise\, and community support is essential. Hawai&#699\;i Foodbank serves over 170\,000 people each month across the state. Your support helps ensure families in our community do not go hungry.</p>\n
LOCATION:Town Center of Mililani
UID:e.9314.887165
SEQUENCE:3
DTSTAMP:20260425T024521Z
URL:https://members.biahawaii.org/events/details/pwb-food-drive-day-2025-887165
END:VEVENT

END:VCALENDAR
