BEGIN:VCALENDAR
VERSION:2.0
PRODID:-//ChamberMaster//Event Calendar 2.0//EN
METHOD:PUBLISH
X-PUBLISHED-TTL:P3D
REFRESH-INTERVAL:P3D
CALSCALE:GREGORIAN
BEGIN:VEVENT
DTSTART:20250711T030000Z
DTEND:20250711T060000Z
X-MICROSOFT-CDO-ALLDAYEVENT:FALSE
SUMMARY:PWB: Drop\, Sip\, and Shop
DESCRIPTION:Join us for an uplifting evening of style\, connection\, and purpose in support of Dress for Success Honolulu.\n\n \n\nBring a bag of gently used professional clothing\, sip curated cocktails\, enjoy light bites\, connect with inspiring women\, and shop the Dress for Success boutique   all while helping local women thrive in work and life.\n\n \n\nWhat to Expect:\n\n	Clothing donation drop-off for Dress for Success\n	Boutique shopping to support the cause\n	Networking with women professionals and leaders\n	Sips\, bites\, and great conversation\n	Dress to impress and bring your best energy we're turning fashion into empowerment\, one outfit at a time.\n\n \n\nDonation Guidelines:\n\n\n	Clothing must be clean and ready to wear\n	Limit one (1) kitchen-sized bag (max 15 lbs)\n	No boxes or oversized containers\n	Receipts available upon request\n\n \n\nExcess items may be sold at benefit sales to support Dress for Success programs\n\n \n\nAccepted Items:\n\n\n	Clothing: Blouses\, slacks\, skirts\, dresses\, blazers\, cardigans\, dark jeans (no rips)\n	Shoes: Closed-toe flats/heels\, athletic shoes\, non-slip shoes\n	Accessories: Totes\, purses\, wallets\, jewelry\, cosmetic bags\n	Industry Wear: Medical scrubs\, solid black tops\n	Undergarments: Brand new socks\, new or gently used bras\, shapewear\, camisoles\n	Toiletries & Makeup: New\, sealed\, unexpired only\n	Monetary Donations: Cash or gift cards to Macy's\, Ross\, Target\, TJ Maxx\, Visa\n\n \n\nItems We Do Not Accept:\n\n\n	Hangers\, men's/kids' clothing\, used lingerie/swimwear\n	Items with stains\, odors\, pet hair\, or visible wear\n	Shoes with toe marks\n	Household goods\, boxes\, or bins\n\n \n\nWe especially need plus-size clothing (XL+)\, neutral tones\, and women's shoes size 9+.\n\n \n\nSpecial thanks to our partner organizations:\n\n\n	National Association of Women in Construction (NAWIC)\n	Japanese Women Society Foundation (JWSF)\n	Commercial Real Estate Women (CREW)\n	Organization of Women Leaders (OWL)\n	Professional Women in Building (PWB)\n\n \n\nREGISTER NOW: https://www.eventbrite.com/e/drop-sip-shop-tickets-1409719401679?aff=oddtdtcreator
X-ALT-DESC;FMTTYPE=text/html:Join us for an uplifting evening of style\, connection\, and purpose in support of Dress for Success Honolulu.<br />\n&nbsp\;<br />\nBring a bag of gently used professional clothing\, sip curated cocktails\, enjoy light bites\, connect with inspiring women\, and shop the Dress for Success boutique &mdash\; all while helping local women thrive in work and life.<br />\n&nbsp\;<br />\n<strong>What to Expect:</strong>\n<ul>\n	<li style="margin-left:0in\;">Clothing donation drop-off for Dress for Success</li>\n	<li style="margin-left:0in\;">Boutique shopping to support the cause</li>\n	<li style="margin-left:0in\;">Networking with women professionals and leaders</li>\n	<li style="margin-left:0in\;">Sips\, bites\, and great conversation</li>\n	<li style="margin-left:0in\;">Dress to impress and bring your best energy&mdash\;we&rsquo\;re turning fashion into empowerment\, one outfit at a time.</li>\n</ul>\n&nbsp\;<br />\n<strong>Donation Guidelines:</strong>\n\n<ul>\n	<li style="margin-left:0in\;">Clothing must be clean and ready to wear</li>\n	<li style="margin-left:0in\;">Limit one (1) kitchen-sized bag (max 15 lbs)</li>\n	<li style="margin-left:0in\;">No boxes or oversized containers</li>\n	<li style="margin-left:0in\;">Receipts available upon request</li>\n</ul>\n&nbsp\;<br />\n<em>Excess items may be sold at benefit sales to support Dress for Success programs</em><br />\n&nbsp\;<br />\n<strong>Accepted Items:</strong>\n\n<ul>\n	<li style="margin-left:0in\;">Clothing: Blouses\, slacks\, skirts\, dresses\, blazers\, cardigans\, dark jeans (no rips)</li>\n	<li style="margin-left:0in\;">Shoes: Closed-toe flats/heels\, athletic shoes\, non-slip shoes</li>\n	<li style="margin-left:0in\;">Accessories: Totes\, purses\, wallets\, jewelry\, cosmetic bags</li>\n	<li style="margin-left:0in\;">Industry Wear: Medical scrubs\, solid black tops</li>\n	<li style="margin-left:0in\;">Undergarments: Brand new socks\, new or gently used bras\, shapewear\, camisoles</li>\n	<li style="margin-left:0in\;">Toiletries &amp\; Makeup: New\, sealed\, unexpired only</li>\n	<li style="margin-left:0in\;">Monetary Donations: Cash or gift cards to Macy&rsquo\;s\, Ross\, Target\, TJ Maxx\, Visa</li>\n</ul>\n&nbsp\;<br />\n<strong>Items We Do Not Accept:</strong>\n\n<ul>\n	<li style="margin-left:0in\;">Hangers\, men&rsquo\;s/kids&rsquo\; clothing\, used lingerie/swimwear</li>\n	<li style="margin-left:0in\;">Items with stains\, odors\, pet hair\, or visible wear</li>\n	<li style="margin-left:0in\;">Shoes with toe marks</li>\n	<li style="margin-left:0in\;">Household goods\, boxes\, or bins</li>\n</ul>\n&nbsp\;<br />\n<em>We especially need plus-size clothing (XL+)\, neutral tones\, and women&rsquo\;s shoes size 9+.</em><br />\n&nbsp\;<br />\n<strong>Special thanks to our partner organizations:</strong>\n\n<ul>\n	<li style="margin-left:0in\;">National Association of Women in Construction (NAWIC)</li>\n	<li style="margin-left:0in\;">Japanese Women Society Foundation (JWSF)</li>\n	<li style="margin-left:0in\;">Commercial Real Estate Women (CREW)</li>\n	<li style="margin-left:0in\;">Organization of Women Leaders (OWL)</li>\n	<li style="margin-left:0in\;">Professional Women in Building (PWB)</li>\n</ul>\n&nbsp\;<br />\n<span style="font-family:aptos\,sans-serif\;"><span style="font-size:12.0pt\;"><strong>REGISTER NOW:</strong> <a href="https://www.eventbrite.com/e/drop-sip-shop-tickets-1409719401679?aff=oddtdtcreator" target="_blank"><span style="color:#467886\;">https://www.eventbrite.com/e/drop-sip-shop-tickets-1409719401679?aff=oddtdtcreator</span></a></span></span>
LOCATION:Caf Julia
UID:e.9314.887155
SEQUENCE:3
DTSTAMP:20260425T024354Z
URL:https://members.biahawaii.org/events/details/pwb-drop-sip-and-shop-887155
END:VEVENT

END:VCALENDAR
