BEGIN:VCALENDAR
VERSION:2.0
PRODID:-//ChamberMaster//Event Calendar 2.0//EN
METHOD:PUBLISH
X-PUBLISHED-TTL:P3D
REFRESH-INTERVAL:P3D
CALSCALE:GREGORIAN
BEGIN:VEVENT
DTSTART:20250219T183000Z
DTEND:20250219T203000Z
X-MICROSOFT-CDO-ALLDAYEVENT:FALSE
SUMMARY:PWB Coffee Talk
DESCRIPTION:Join us for the first event of 2025 with Professional Women in Building (PWB)! It's Coffee Talk time an inspiring morning to connect with incredible women shaping the building industry! Meet some of the talented women behind the Hawaii Professional Women's Building Council and get inspired by our special guest\, Kamuela Potter of Inspired Closets Hawaii!\n\nWhether you're looking to network\, share ideas\, or just enjoy a great cup of coffee\, this is the perfect opportunity to kick off the year with positivity and creativity. Let's come together\, make connections\, and inspire each other!
X-ALT-DESC;FMTTYPE=text/html:Join us for the first event of 2025 with Professional Women in Building (PWB)! It&#39\;s Coffee Talk time&mdash\;an inspiring morning to connect with incredible women shaping the building industry! Meet some of the talented women behind the Hawaii Professional Women&#39\;s Building Council and get inspired by our special guest\, Kamuela Potter of Inspired Closets Hawaii!<br />\nWhether you&rsquo\;re looking to network\, share ideas\, or just enjoy a great cup of coffee\, this is the perfect opportunity to kick off the year with positivity and creativity. Let&rsquo\;s come together\, make connections\, and inspire each other!<br />\n&nbsp\;
LOCATION:BIA Hawaii 94-487 Akoki Street\, Suite 213 Waipahu\, HI 96797
UID:e.9314.887108
SEQUENCE:3
DTSTAMP:20260425T120754Z
URL:https://members.biahawaii.org/events/details/pwb-coffee-talk-887108
END:VEVENT

END:VCALENDAR
