BEGIN:VCALENDAR
VERSION:2.0
PRODID:-//ChamberMaster//Event Calendar 2.0//EN
METHOD:PUBLISH
X-PUBLISHED-TTL:P3D
REFRESH-INTERVAL:P3D
CALSCALE:GREGORIAN
BEGIN:VEVENT
DTSTART:20250917T190000Z
DTEND:20250917T210000Z
X-MICROSOFT-CDO-ALLDAYEVENT:FALSE
SUMMARY:PWB: Coffee and Conversations with Chad and Liana Hilweh
DESCRIPTION:Join the Professional Women in Building (PWB) Council for a special morning event featuring Chad and Liana Hilweh of Hilweh Builders. Learn how this husband-and-wife team combines construction expertise with financial and operational leadership to grow a successful business and support the next generation of building professionals.\n\nFeatured Guests\n\nChad Hilweh\n\nOwner and General Contractor\, Hilweh Builders\n\nChad brings more than 15 years of experience in Hawaii's construction industry. He has managed a wide range of residential and commercial projects. A longtime resident of Kaaawa\, Chad holds a degree from the University of Hawaii at Manoa and is Lead Certified and a Certified Aging-in-Place Specialist. He is also an active volunteer with BIA Hawaii's education program.\n\nLiana Hilweh\n\nCertified Public Accountant and Director of Operations\, Hilweh Builders\n\nLiana has worked in the accounting and tax field since 2007\, including roles as Tax Manager at Moss Adams LLP and Managing Director at Hawaii Accounting LLC. She currently oversees budgeting\, strategic planning\, and client communication at Hilweh Builders. Her work ensures every project stays on track and on budget\, while also leading the company's operations\, marketing\, and financial systems.\n\nWhy You Should Attend\n\n\n	\n	Learn from the real-world experience of two local industry leaders\n	\n	\n	Hear how teamwork and communication support business success\n	\n	\n	Connect with other PWB members and industry professionals\n	\n	\n	Enjoy coffee\, light breakfast\, and good conversation\n	\n\n\nThis event is open to all BIA Hawaii members.
X-ALT-DESC;FMTTYPE=text/html:<p data-end="678" data-start="321">Join the Professional Women in Building (PWB) Council for a special morning event featuring Chad and Liana Hilweh of Hilweh Builders. Learn how this husband-and-wife team combines construction expertise with financial and operational leadership to grow a successful business and support the next generation of building professionals.</p>\n\n<p data-end="699" data-start="680"><strong data-end="699" data-start="680">Featured Guests</strong></p>\n\n<p data-end="1137" data-start="701"><strong data-end="716" data-start="701">Chad Hilweh</strong><br data-end="719" data-start="716" />\nOwner and General Contractor\, Hilweh Builders<br data-end="767" data-start="764" />\nChad brings more than 15 years of experience in Hawaii&rsquo\;s construction industry. He has managed a wide range of residential and commercial projects. A longtime resident of Kaaawa\, Chad holds a degree from the University of Hawaii at Manoa and is Lead Certified and a Certified Aging-in-Place Specialist. He is also an active volunteer with BIA Hawaii&rsquo\;s education program.</p>\n\n<p data-end="1628" data-start="1139"><strong data-end="1155" data-start="1139">Liana Hilweh</strong><br data-end="1158" data-start="1155" />\nCertified Public Accountant and Director of Operations\, Hilweh Builders<br data-end="1232" data-start="1229" />\nLiana has worked in the accounting and tax field since 2007\, including roles as Tax Manager at Moss Adams LLP and Managing Director at Hawaii Accounting LLC. She currently oversees budgeting\, strategic planning\, and client communication at Hilweh Builders. Her work ensures every project stays on track and on budget\, while also leading the company&rsquo\;s operations\, marketing\, and financial systems.</p>\n\n<p data-end="1657" data-start="1630"><strong data-end="1655" data-start="1630">Why You Should Attend</strong></p>\n\n<ul data-end="1910" data-start="1658">\n	<li data-end="1728" data-start="1658">\n	<p data-end="1728" data-start="1660">Learn from the real-world experience of two local industry leaders</p>\n	</li>\n	<li data-end="1793" data-start="1729">\n	<p data-end="1793" data-start="1731">Hear how teamwork and communication support business success</p>\n	</li>\n	<li data-end="1855" data-start="1794">\n	<p data-end="1855" data-start="1796">Connect with other PWB members and industry professionals</p>\n	</li>\n	<li data-end="1910" data-start="1856">\n	<p data-end="1910" data-start="1858">Enjoy coffee\, light breakfast\, and good conversation</p>\n	</li>\n</ul>\n\n<p data-end="1961" data-start="1912"><strong data-end="1961" data-start="1912">This event is open to all BIA Hawaii members.</strong></p>\n
LOCATION:BIA Hawaii\, Waipahu
UID:e.9314.887156
SEQUENCE:3
DTSTAMP:20260424T232734Z
URL:https://members.biahawaii.org/events/details/pwb-coffee-and-conversations-with-chad-and-liana-hilweh-887156
END:VEVENT

END:VCALENDAR
