BEGIN:VCALENDAR
VERSION:2.0
PRODID:-//ChamberMaster//Event Calendar 2.0//EN
METHOD:PUBLISH
X-PUBLISHED-TTL:P3D
REFRESH-INTERVAL:P3D
CALSCALE:GREGORIAN
BEGIN:VEVENT
DTSTART:20250714T183000Z
DTEND:20250822T013000Z
X-MICROSOFT-CDO-ALLDAYEVENT:FALSE
SUMMARY:Pre-Apprenticeship Construction Training (PACT)
DESCRIPTION:Pre-Apprenticeship Construction Training (PACT)\n\n \n\nProgram Description\n\nBIA Hawaii's Pre-Apprenticeship Construction Training (PACT) is a comprehensive\, hands-on workforce development program designed for individuals with little or no prior experience in construction. This full-time training introduces participants to the essential skills\, tools\, and knowledge needed to begin a career in the building industry.\n\n \n\nWhat You'll Learn\n\nPACT focuses on both technical and interpersonal development to prepare students for success on the jobsite and beyond.\n\n\n	Jobsite Safety & Certifications: Includes OSHA-30 Construction Safety\, Adult First Aid/CPR/AED\, and optional certifications in Lead Renovation\, Repair and Painting (RRP) and OSHA Disaster Site Worker safety.\n	Green Building Fundamentals: Explore sustainable construction practices aligned with today's environmental standards.\n	Technical Trade Skills: Gain hands-on exposure to carpentry\, electrical\, plumbing\, HVAC\, masonry\, weatherization\, and landscaping.\n	Construction Math & Blueprint Reading: Strengthen your math skills and learn how to read construction plans accurately.\n	Career Readiness & Professionalism: Build confidence in workplace communication\, teamwork\, financial literacy\, and job-seeking strategies.\n	Real-World Experience: Participate in a guided hard hat tour of an active construction site and hear directly from professionals in the field.\n\n \n\nCourse Structure\n\nTraining is organized into weekly modules that build progressively: \n\n	Week 1: Orientation\, CPR/First Aid/AED\, Basic Math Principles\n	Week 2: OSHA-30 Training\, Basic Math Principles\n	Week 3: Basic Math\, Print Reading\, Facilities\n	Week 4: Print Reading\, Facilities\, Green Building Fundamentals\n	Week 5: Review\, Facilities\, Job Readiness\, Site Tour\n	Week 6: Facilities\, Job Readiness\, Green Building Fundamentals\n\n \n\nOptional Certifications: Lead RRP and OSHA 15-hour Disaster Site Worker (as available)  \n\nCertifications Earned\n\n\n	U.S. Department of Labor Credential\n	HBI Pre-Apprenticeship Construction Training Certificate\n	Fundamentals of Green Building (BIA Hawaii)\n	OSHA-30 Construction Safety and Health\n	Adult First Aid/CPR/AED (American Red Cross)\n	Optional: Lead RRP and OSHA Disaster Site Worker Certification\n\n\n \n\nCareer Pathways\n\nGraduates are prepared for entry-level positions in a wide range of construction-related fields\, including carpentry\, plumbing\, electrical\, and equipment operation. The program also serves as an entry toward long-term career advancement in areas such as site supervision\, engineering\, or architecture.
X-ALT-DESC;FMTTYPE=text/html:<p dir="ltr" style="line-height:1.2\;margin-top:0pt\;margin-bottom:0pt\;"><strong>Pre-Apprenticeship Construction Training (PACT)</strong><br />\n&nbsp\;<br />\n<strong>Program Description</strong><br />\nBIA Hawaii&rsquo\;s Pre-Apprenticeship Construction Training (PACT) is a comprehensive\, hands-on workforce development program designed for individuals with little or no prior experience in construction. This full-time training introduces participants to the essential skills\, tools\, and knowledge needed to begin a career in the building industry.<br />\n&nbsp\;<br />\n<strong>What You&rsquo\;ll Learn</strong><br />\nPACT focuses on both technical and interpersonal development to prepare students for success on the jobsite and beyond.</p>\n\n<ul>\n	<li><strong>Jobsite Safety &amp\; Certifications</strong>: Includes OSHA-30 Construction Safety\, Adult First Aid/CPR/AED\, and optional certifications in Lead Renovation\, Repair and Painting (RRP) and OSHA Disaster Site Worker safety.</li>\n	<li><strong>Green Building Fundamentals</strong>: Explore sustainable construction practices aligned with today&rsquo\;s environmental standards.</li>\n	<li><strong>Technical Trade Skills</strong>: Gain hands-on exposure to carpentry\, electrical\, plumbing\, HVAC\, masonry\, weatherization\, and landscaping.</li>\n	<li><strong>Construction Math &amp\; Blueprint Reading</strong>: Strengthen your math skills and learn how to read construction plans accurately.</li>\n	<li><strong>Career Readiness &amp\; Professionalism</strong>: Build confidence in workplace communication\, teamwork\, financial literacy\, and job-seeking strategies.</li>\n	<li><strong>Real-World Experience</strong>: Participate in a guided hard hat tour of an active construction site and hear directly from professionals in the field.</li>\n</ul>\n&nbsp\;<br />\n<strong>Course Structure</strong><br />\nTraining is organized into weekly modules that build progressively:&nbsp\;\n<ul>\n	<li>Week 1: Orientation\, CPR/First Aid/AED\, Basic Math Principles</li>\n	<li>Week 2: OSHA-30 Training\, Basic Math Principles</li>\n	<li>Week 3: Basic Math\, Print Reading\, Facilities</li>\n	<li>Week 4: Print Reading\, Facilities\, Green Building Fundamentals</li>\n	<li>Week 5: Review\, Facilities\, Job Readiness\, Site Tour</li>\n	<li>Week 6: Facilities\, Job Readiness\, Green Building Fundamentals</li>\n</ul>\n&#8203\;<br />\n<em>Optional Certifications: Lead RRP and OSHA 15-hour Disaster Site Worker (as available)</em> &nbsp\;<br />\n<strong>Certifications Earned</strong>\n\n<ul>\n	<li>U.S. Department of Labor Credential</li>\n	<li>HBI Pre-Apprenticeship Construction Training Certificate</li>\n	<li>Fundamentals of Green Building (BIA Hawaii)</li>\n	<li>OSHA-30 Construction Safety and Health</li>\n	<li>Adult First Aid/CPR/AED (American Red Cross)</li>\n	<li>Optional: Lead RRP and OSHA Disaster Site Worker Certification</li>\n</ul>\n\n<p dir="ltr" style="line-height:1.2\;margin-top:0pt\;margin-bottom:0pt\;">&nbsp\;<br />\n<strong>Career Pathways</strong><br />\nGraduates are prepared for entry-level positions in a wide range of construction-related fields\, including carpentry\, plumbing\, electrical\, and equipment operation. The program also serves as an entry toward long-term career advancement in areas such as site supervision\, engineering\, or architecture.</p>\n
LOCATION:Building Industry Association 94-487 Akoki St\, Waipahu\, 96797
UID:e.9314.887004
SEQUENCE:3
DTSTAMP:20260425T024347Z
URL:https://members.biahawaii.org/events/details/pre-apprenticeship-construction-training-pact-05-26-2025-887004
END:VEVENT

END:VCALENDAR
