BEGIN:VCALENDAR
VERSION:2.0
PRODID:-//ChamberMaster//Event Calendar 2.0//EN
METHOD:PUBLISH
X-PUBLISHED-TTL:P3D
REFRESH-INTERVAL:P3D
CALSCALE:GREGORIAN
BEGIN:VEVENT
DTSTART:20250113T183000Z
DTEND:20250213T013000Z
X-MICROSOFT-CDO-ALLDAYEVENT:FALSE
SUMMARY:Pre-Apprenticeship Construction Training (PACT)
DESCRIPTION:This BIA training will provide participants with interpersonal skills applicable to the construction workforce\, including working with and trusting fellow coworkers. There will be guest speakers from different trades to share the pros and cons of working in the industry\, technology to enhance visual learning\, and project-based learning. Participants will experience a hard hat tour. They will learn about the different construction phases of a residential subdivision that is currently under development. The Green PACT curriculum consists of four pre-apprentice Green Building Fundamental Courses which were developed with input from the industry. The curriculum components are: (1) OSHA safety & health standards\, (2) basic construction knowledge & skills\, (3) first aid & adult CPR and (4) fundamentals of green building. (5) Lead RRP (6) OSHA Disaster \n\n \n \n\nThe training is composed of the following courses over a 6 week module:\n\n\n	Week 1: Orientation\, CPR/First Aid/AED Training\, & Basic Principles in Math\n	Week 2: OSHA 30\, Basic Principles in Math\n	Week 3: Basic Principles in Math/Print & Facilities\n	Week 4: Basic Principles in Math/Print\, Facilities\, & Green Building Fundamentals\n	Week 5: Basic Principles Review\, Facilities\, Job Readiness\, Site Tour\n	Week 6: Facilities\, Job Readiness\, & Green Building Fundamentals\n\n\n\nThis training will prepare participants for entry level positions in a construction-related apprenticeship or employment such as carpenter\, electrician\, equipment operator\, and plumber which may lead to other career pathway positions such as architect\, engineer and construction site supervisor.\n\n \n\nStudents will receive Training Certificates:\n\n\n	DOL Nationally Recognized Credential \n	Home Builder Institute (HBI) Pre Apprenticeship ConstructionTraining (PACT) \n	Fundamentals of Green Building from the Building Industry Association (BIA) Construction Training Center of the Pacific \n	Occupational Safety and Health Administration OSHA-30 Construction Safety and Health \n	Adult First Aid/CPR/AED Certificate from the American Red Cross
X-ALT-DESC;FMTTYPE=text/html:<p dir="ltr" style="line-height:1.2\;margin-top:0pt\;margin-bottom:0pt\;"><span style="font-size:24px\;"><span style="font-family:arial\;"><span id="docs-internal-guid-44d1f819-7fff-211a-8b84-8bd7dddb43fe"><span style="color: rgb(0\, 0\, 0)\; background-color: transparent\; font-variant-numeric: normal\; font-variant-east-asian: normal\; font-variant-alternates: normal\; font-variant-position: normal\; vertical-align: baseline\; white-space-collapse: preserve\;"><span style="font-size:18px\;">This BIA training will provide participants with interpersonal skills applicable to the construction workforce\, including working with and trusting fellow coworkers. There will be guest speakers from different trades to share the pros and cons of working in the industry\, technology to enhance visual learning\, and project-based learning. Participants will experience a hard hat tour. They will learn about the different construction phases of a residential subdivision that is currently under development. The Green PACT curriculum consists of four pre-apprentice Green Building Fundamental Courses which were developed with input from the industry. The curriculum components are: (1) OSHA safety &amp\; health standards\, (2) basic construction knowledge &amp\; skills\, (3) first aid &amp\; adult CPR and (4) fundamentals of green building. (5) Lead RRP (6) OSHA Disaster&nbsp\;</span></span></span></span></span></p>\n\n<p dir="ltr" style="line-height:1.2\;margin-top:0pt\;margin-bottom:0pt\;">&nbsp\;</p>\n<span style="font-size:18px\;">&nbsp\;</span>\n\n<p dir="ltr" style="line-height:1.2\;margin-top:0pt\;margin-bottom:0pt\;"><span style="font-size:18px\;"><span style="font-family:arial\;"><span id="docs-internal-guid-44d1f819-7fff-211a-8b84-8bd7dddb43fe"><span style="color: rgb(0\, 0\, 0)\; background-color: transparent\; font-variant-numeric: normal\; font-variant-east-asian: normal\; font-variant-alternates: normal\; font-variant-position: normal\; vertical-align: baseline\; white-space-collapse: preserve\;">The training is composed of the following courses over a 6 week module:</span></span></span></span></p>\n\n<ul dir="ltr">\n	<li style="line-height: 1.2\; margin-top: 0pt\; margin-bottom: 0pt\;"><span style="font-size:16px\;"><span style="background-color: transparent\; color: rgb(0\, 0\, 0)\; white-space-collapse: preserve\; font-family: arial\;">Week 1: Orientation\, CPR/First Aid/AED Training\, &amp\; Basic Principles in Math</span></span></li>\n	<li style="line-height: 1.2\; margin-top: 0pt\; margin-bottom: 0pt\;"><span style="font-size:16px\;"><span style="font-family:arial\;"><span id="docs-internal-guid-44d1f819-7fff-211a-8b84-8bd7dddb43fe"><span style="color: rgb(0\, 0\, 0)\; background-color: transparent\; font-variant-numeric: normal\; font-variant-east-asian: normal\; font-variant-alternates: normal\; font-variant-position: normal\; vertical-align: baseline\; white-space-collapse: preserve\;">Week 2: OSHA 30\, Basic Principles in Math</span></span></span></span></li>\n	<li style="line-height: 1.2\; margin-top: 0pt\; margin-bottom: 0pt\;"><span style="font-size:16px\;"><span style="font-family:arial\;"><span id="docs-internal-guid-44d1f819-7fff-211a-8b84-8bd7dddb43fe"><span style="color: rgb(0\, 0\, 0)\; background-color: transparent\; font-variant-numeric: normal\; font-variant-east-asian: normal\; font-variant-alternates: normal\; font-variant-position: normal\; vertical-align: baseline\; white-space-collapse: preserve\;">Week 3: Basic Principles in Math/Print &amp\; Facilities</span></span></span></span></li>\n	<li style="line-height: 1.2\; margin-top: 0pt\; margin-bottom: 0pt\;"><span style="font-size:16px\;"><span style="font-family:arial\;"><span id="docs-internal-guid-44d1f819-7fff-211a-8b84-8bd7dddb43fe"><span style="color: rgb(0\, 0\, 0)\; background-color: transparent\; font-variant-numeric: normal\; font-variant-east-asian: normal\; font-variant-alternates: normal\; font-variant-position: normal\; vertical-align: baseline\; white-space-collapse: preserve\;">Week 4: Basic Principles in Math/Print\, Facilities\, &amp\; Green Building Fundamentals</span></span></span></span></li>\n	<li style="line-height: 1.2\; margin-top: 0pt\; margin-bottom: 0pt\;"><span style="font-size:16px\;"><span style="font-family:arial\;"><span id="docs-internal-guid-44d1f819-7fff-211a-8b84-8bd7dddb43fe"><span style="color: rgb(0\, 0\, 0)\; background-color: transparent\; font-variant-numeric: normal\; font-variant-east-asian: normal\; font-variant-alternates: normal\; font-variant-position: normal\; vertical-align: baseline\; white-space-collapse: preserve\;">Week 5: Basic Principles Review\, Facilities\, Job Readiness\, Site Tour</span></span></span></span></li>\n	<li style="line-height: 1.2\; margin-top: 0pt\; margin-bottom: 0pt\;"><span style="font-size:16px\;"><span style="font-family:arial\;"><span id="docs-internal-guid-44d1f819-7fff-211a-8b84-8bd7dddb43fe"><span style="color: rgb(0\, 0\, 0)\; background-color: transparent\; font-variant-numeric: normal\; font-variant-east-asian: normal\; font-variant-alternates: normal\; font-variant-position: normal\; vertical-align: baseline\; white-space-collapse: preserve\;">Week 6: Facilities\, Job Readiness\, &amp\; Green Building Fundamentals</span></span></span></span></li>\n</ul>\n\n<div>\n<p dir="ltr" style="line-height:1.2\;margin-top:0pt\;margin-bottom:0pt\;"><span style="font-size:18px\;"><span style="font-family:arial\;"><span id="docs-internal-guid-2a0e2145-7fff-391e-c27e-ccdfac79bc51"><span style="color: rgb(0\, 0\, 0)\; background-color: transparent\; font-variant-numeric: normal\; font-variant-east-asian: normal\; font-variant-alternates: normal\; font-variant-position: normal\; vertical-align: baseline\; white-space-collapse: preserve\;">This training will prepare participants for entry level positions in a construction-related apprenticeship or employment such as carpenter\, electrician\, equipment operator\, and plumber which may lead to other career pathway positions such as architect\, engineer and construction site supervisor.</span></span></span></span><br />\n&nbsp\;</p>\n\n<p dir="ltr" style="line-height:1.2\;margin-top:0pt\;margin-bottom:0pt\;"><span style="font-size:18px\;"><span style="font-family:arial\;"><span id="docs-internal-guid-2a0e2145-7fff-391e-c27e-ccdfac79bc51"><span style="color: rgb(0\, 0\, 0)\; background-color: transparent\; font-weight: 700\; font-variant-numeric: normal\; font-variant-east-asian: normal\; font-variant-alternates: normal\; font-variant-position: normal\; vertical-align: baseline\; white-space-collapse: preserve\;">Students will receive Training Certificates:</span></span></span></span></p>\n\n<ul>\n	<li style="line-height: 1.2\; margin-top: 0pt\; margin-bottom: 0pt\;"><span style="font-size:18px\;"><span style="font-family:arial\;"><span style="color: rgb(0\, 0\, 0)\; background-color: transparent\; font-weight: 700\; font-variant-numeric: normal\; font-variant-east-asian: normal\; font-variant-alternates: normal\; font-variant-position: normal\; vertical-align: baseline\; white-space-collapse: preserve\;">DOL Nationally Recognized Credential&nbsp\;</span></span></span></li>\n	<li style="line-height: 1.2\; margin-top: 0pt\; margin-bottom: 0pt\;"><span style="font-size:18px\;"><span style="font-family:arial\;"><span id="docs-internal-guid-2a0e2145-7fff-391e-c27e-ccdfac79bc51"><span style="color: rgb(0\, 0\, 0)\; background-color: transparent\; font-weight: 700\; font-variant-numeric: normal\; font-variant-east-asian: normal\; font-variant-alternates: normal\; font-variant-position: normal\; vertical-align: baseline\; white-space-collapse: preserve\;">Home Builder Institute (HBI) Pre Apprenticeship ConstructionTraining (PACT)&nbsp\;</span></span></span></span></li>\n	<li style="line-height: 1.2\; margin-top: 0pt\; margin-bottom: 0pt\;"><span style="font-size:18px\;"><span style="font-family:arial\;"><span id="docs-internal-guid-2a0e2145-7fff-391e-c27e-ccdfac79bc51"><span style="color: rgb(0\, 0\, 0)\; background-color: transparent\; font-weight: 700\; font-variant-numeric: normal\; font-variant-east-asian: normal\; font-variant-alternates: normal\; font-variant-position: normal\; vertical-align: baseline\; white-space-collapse: preserve\;">Fundamentals of Green Building from the Building Industry Association (BIA) Construction Training Center of the Pacific&nbsp\;</span></span></span></span></li>\n	<li style="line-height: 1.2\; margin-top: 0pt\; margin-bottom: 0pt\;"><span style="font-size:18px\;"><span style="font-family:arial\;"><span id="docs-internal-guid-2a0e2145-7fff-391e-c27e-ccdfac79bc51"><span style="color: rgb(0\, 0\, 0)\; background-color: transparent\; font-weight: 700\; font-variant-numeric: normal\; font-variant-east-asian: normal\; font-variant-alternates: normal\; font-variant-position: normal\; vertical-align: baseline\; white-space-collapse: preserve\;">Occupational Safety and Health Administration OSHA-30 Construction Safety and Health&nbsp\;</span></span></span></span></li>\n	<li style="line-height: 1.2\; margin-top: 0pt\; margin-bottom: 0pt\;"><span style="font-size:18px\;"><span style="font-family:arial\;"><span id="docs-internal-guid-2a0e2145-7fff-391e-c27e-ccdfac79bc51"><span style="color: rgb(0\, 0\, 0)\; background-color: transparent\; font-weight: 700\; font-variant-numeric: normal\; font-variant-east-asian: normal\; font-variant-alternates: normal\; font-variant-position: normal\; vertical-align: baseline\; white-space-collapse: preserve\;">Adult First Aid/CPR/AED Certificate from the American Red Cross</span></span></span></span></li>\n</ul>\n</div>\n
LOCATION:Building Industry Association 94-487 Akoki St\, Waipahu\, 96797
UID:e.9314.887001
SEQUENCE:3
DTSTAMP:20260425T122053Z
URL:https://members.biahawaii.org/events/details/pre-apprenticeship-construction-training-pact-01-13-2025-887001
END:VEVENT

END:VCALENDAR
