BEGIN:VCALENDAR
VERSION:2.0
PRODID:-//ChamberMaster//Event Calendar 2.0//EN
METHOD:PUBLISH
X-PUBLISHED-TTL:P3D
REFRESH-INTERVAL:P3D
CALSCALE:GREGORIAN
BEGIN:VEVENT
DTSTART;VALUE=DATE:20250924
DTEND;VALUE=DATE:20250925
TRANSP:TRANSPARENT
X-MICROSOFT-CDO-ALLDAYEVENT:TRUE
SUMMARY:PBX Hawaii 2025
DESCRIPTION:PBX Hawai'i 2025\n\nWhere construction and design professionals connect for education\, products\, and networking BIA Hawaii is proud to be an industry partner of PBX Hawai'i 2025.\n\n\n	When: Wednesday\, September 24\, 2025\n	Where: Hawai'i Convention Center\, Honolulu\n\n\nRegister at PBXHawaii.com\n\n\n	Early Bird: $39 by Sept. 5\n	Regular Price: $49\n\n\nGroup and student discounts available.\n\nWhy Attend?\n\n\n	\n	Product Showcase: 200+ vendors with the latest products\, materials\, and services.\n	\n	\n	Learn & Earn: 16 expert-led seminars on design\, engineering\, climate planning\, contracting trends\, and new technology. Earn AIA LU/HSW credits.\n	\n	\n	Networking: Meet architects\, contractors\, engineers\, owners\, developers\, interior designers\, and government leaders all in one day.\n	\n\n\nRegistration Includes\n\n\n	Access to the Product Showcase and all seminars\n	Bento lunch\n	Hosted Pau Hana Celebration with prizes\, pupu\, and trivia\n\n\nExhibit Space Available\n\nContact Barbie Rosario at barbie@pbxhawaii.com
X-ALT-DESC;FMTTYPE=text/html:<p data-end="201" data-start="85"><strong data-end="105" data-start="85">PBX Hawai&lsquo\;i 2025</strong><br data-end="108" data-start="105" />\nWhere construction and design professionals connect for education\, products\, and networking BIA Hawaii is proud to be an industry partner of PBX Hawai&#39\;i 2025.</p>\n\n<ul>\n	<li data-end="278" data-start="203"><strong>When: </strong>Wednesday\, September 24\, 2025</li>\n	<li data-end="278" data-start="203"><strong>Where: </strong>Hawai&lsquo\;i Convention Center\, Honolulu</li>\n</ul>\n\n<p data-end="392" data-start="280"><strong data-end="309" data-start="280">Register at PBXHawaii.com</strong></p>\n\n<ul>\n	<li data-end="392" data-start="280"><strong>Early Bird: </strong>$39 by Sept. 5</li>\n	<li data-end="392" data-start="280"><strong>Regular Price: </strong>$49</li>\n</ul>\n\n<p data-end="392" data-start="280"><em>Group and student discounts available.</em></p>\n\n<p data-end="411" data-start="394"><strong data-end="409" data-start="394">Why Attend?</strong></p>\n\n<ul data-end="793" data-start="412">\n	<li data-end="501" data-start="412">\n	<p data-end="501" data-start="414"><strong data-end="434" data-start="414">Product Showcase</strong>: 200+ vendors with the latest products\, materials\, and services.</p>\n	</li>\n	<li data-end="653" data-start="502">\n	<p data-end="653" data-start="504"><strong data-end="520" data-start="504">Learn &amp\; Earn</strong>: 16 expert-led seminars on design\, engineering\, climate planning\, contracting trends\, and new technology. Earn AIA LU/HSW credits.</p>\n	</li>\n	<li data-end="793" data-start="654">\n	<p data-end="793" data-start="656"><strong data-end="670" data-start="656">Networking</strong>: Meet architects\, contractors\, engineers\, owners\, developers\, interior designers\, and government leaders&mdash\;all in one day.</p>\n	</li>\n</ul>\n\n<p data-end="952" data-start="795"><strong data-end="820" data-start="795">Registration Includes</strong></p>\n\n<ul>\n	<li data-end="952" data-start="795">Access to the Product Showcase and all seminars</li>\n	<li data-end="952" data-start="795">Bento lunch</li>\n	<li data-end="952" data-start="795">Hosted Pau Hana Celebration with prizes\, pupu\, and trivia</li>\n</ul>\n\n<p data-end="1032" data-start="954"><strong data-end="981" data-start="954">Exhibit Space Available</strong><br data-end="984" data-start="981" />\nContact Barbie Rosario at <a class="decorated-link cursor-pointer" data-end="1030" data-start="1010" rel="noopener">barbie@pbxhawaii.com</a></p>\n
LOCATION:Hawai'i Convention Center\, Honolulu
UID:e.9314.887179
SEQUENCE:3
DTSTAMP:20260424T232611Z
URL:https://members.biahawaii.org/events/details/pbx-hawaii-2025-887179
END:VEVENT

END:VCALENDAR
