BEGIN:VCALENDAR
VERSION:2.0
PRODID:-//ChamberMaster//Event Calendar 2.0//EN
METHOD:PUBLISH
X-PUBLISHED-TTL:P3D
REFRESH-INTERVAL:P3D
CALSCALE:GREGORIAN
BEGIN:VEVENT
DTSTART:20251017T040000Z
DTEND:20251017T060000Z
X-MICROSOFT-CDO-ALLDAYEVENT:FALSE
SUMMARY:PAU HANA: HICA x HPM | Big Island
DESCRIPTION:For the first time in a while\, we're heading to the Big Island! Join us in Hilo at HPM as HICA and HPM team up with BIA Hawaii for a special Pau Hana. This is a great opportunity for our Big Island members and industry partners to connect\, network\, and enjoy an evening of fun and camaraderie.\n\nCelebrate the season with Halloween-inspired activities. Costumes are encouraged (but not required) and will give attendees an extra chance to win prizes.\n\nHighlights:\n\n\n	\n	Zombie Mechanical Bull Ride   Test your skills and compete for prizes\n	\n	\n	Halloween Costume Contest   Dress up for an additional chance to win\n	\n	\n	Networking & Pau Hana   Strengthen industry connections in a festive setting\n	\n\n\nEvent Details:\n\n\n	\n	Date: Thursday\, October 16\, 2025\n	\n	\n	Time: 5:00   7:00 PM\n	\n	\n	Location: HPM Hilo\, Hawai'i Island\n	\n\n\n\nAbout HPM Hawaii\n\nFounded in 1921\, HPM Hawaii is a 100% employee-owned building supply company with deep roots in the islands. With locations across Hawai'i\, HPM provides lumber\, hardware\, building materials\, packaged home plans\, and professional services to builders\, homeowners\, and contractors helping communities build better for over 100 years.\n\nAbout HICA\n\nThe Hawai'i Island Contractors' Association (HICA)\, established in 1962\, represents licensed general contractors\, subcontractors\, and industry affiliates on Hawai'i Island. Through legislative advocacy\, education\, networking\, and community programs including scholarships HICA is committed to growing and supporting the island's construction industry.
X-ALT-DESC;FMTTYPE=text/html:<p data-end="488" data-start="173">For the first time in a while\, we&rsquo\;re heading to the <strong data-end="239" data-start="225">Big Island</strong>! Join us in <strong data-end="260" data-start="252">Hilo</strong> at <a href="https://www.hpmhawaii.com/"><strong data-end="271" data-start="264">HPM</strong></a> as <strong data-end="315" data-start="275"><a href="https://hicassociation.com/">HICA</a> and HPM team up with BIA Hawaii</strong> for a special <strong data-end="342" data-start="330">Pau Hana</strong>. This is a great opportunity for our Big Island members and industry partners to connect\, network\, and enjoy an evening of fun and camaraderie.</p>\n\n<p data-end="646" data-start="490">Celebrate the season with Halloween-inspired activities. Costumes are encouraged (but not required) and will give attendees an extra chance to win prizes.</p>\n\n<p data-end="665" data-start="648"><strong data-end="663" data-start="648">Highlights:</strong></p>\n\n<ul data-end="905" data-start="666">\n	<li data-end="743" data-start="666">\n	<p data-end="743" data-start="668"><strong data-end="699" data-start="668">Zombie Mechanical Bull Ride</strong> &ndash\; Test your skills and compete for prizes</p>\n	</li>\n	<li data-end="820" data-start="744">\n	<p data-end="820" data-start="746"><strong data-end="775" data-start="746">Halloween Costume Contest</strong> &ndash\; Dress up for an additional chance to win</p>\n	</li>\n	<li data-end="905" data-start="821">\n	<p data-end="905" data-start="823"><strong data-end="848" data-start="823">Networking &amp\; Pau Hana</strong> &ndash\; Strengthen industry connections in a festive setting</p>\n	</li>\n</ul>\n\n<p data-end="927" data-start="907"><strong data-end="925" data-start="907">Event Details:</strong></p>\n\n<ul data-end="1040" data-start="928">\n	<li data-end="968" data-start="928">\n	<p data-end="968" data-start="930"><strong data-end="939" data-start="930">Date:</strong> Thursday\, October 16\, 2025</p>\n	</li>\n	<li data-end="997" data-start="969">\n	<p data-end="997" data-start="971"><strong data-end="980" data-start="971">Time:</strong> 5:00 &ndash\; 7:00 PM</p>\n	</li>\n	<li data-end="1040" data-start="998">\n	<p data-end="1040" data-start="1000"><strong data-end="1013" data-start="1000">Location:</strong> HPM Hilo\, Hawai&lsquo\;i Island</p>\n	</li>\n</ul>\n\n<hr data-end="1045" data-start="1042" />\n<h3 data-end="1073" data-start="1047"><strong data-end="1071" data-start="1051">About HPM Hawaii</strong></h3>\n\n<p data-end="1411" data-start="1074">Founded in 1921\, <strong data-end="1105" data-start="1091">HPM Hawaii</strong> is a 100% employee-owned building supply company with deep roots in the islands. With locations across Hawai&lsquo\;i\, HPM provides lumber\, hardware\, building materials\, packaged home plans\, and professional services to builders\, homeowners\, and contractors&mdash\;helping communities build better for over 100 years.</p>\n\n<h3 data-end="1433" data-start="1413"><strong data-end="1431" data-start="1417">About HICA</strong></h3>\n\n<p data-end="1791" data-start="1434">The <strong data-end="1488" data-start="1438">Hawai&lsquo\;i Island Contractors&rsquo\; Association (HICA)</strong>\, established in 1962\, represents licensed general contractors\, subcontractors\, and industry affiliates on Hawai&lsquo\;i Island. Through legislative advocacy\, education\, networking\, and community programs&mdash\;including scholarships&mdash\;HICA is committed to growing and supporting the island&rsquo\;s construction industry.</p>\n
LOCATION:HPM Building Supply
UID:e.9314.887186
SEQUENCE:3
DTSTAMP:20260424T172416Z
URL:https://members.biahawaii.org/events/details/pau-hana-hica-x-hpm-big-island-887186
END:VEVENT

END:VCALENDAR
