BEGIN:VCALENDAR
VERSION:2.0
PRODID:-//ChamberMaster//Event Calendar 2.0//EN
METHOD:PUBLISH
X-PUBLISHED-TTL:P3D
REFRESH-INTERVAL:P3D
CALSCALE:GREGORIAN
BEGIN:VEVENT
DTSTART:20250821T200000Z
DTEND:20250821T230000Z
X-MICROSOFT-CDO-ALLDAYEVENT:FALSE
SUMMARY:PACT Graduation and Hiring Fair
DESCRIPTION:BIA Hawaii is proud to announce the graduation of the July 2025 Cohort of our Pre-Apprenticeship Construction Training (PACT) Program.\n\n\n\nAs part of our mission to connect job-ready individuals with industry professionals\, we invite BIA Member companies to join us for a special Hiring Fair immediately following our graduation ceremony.\n\nThis event is a chance to meet individuals who have completed the program and are looking to take the next step. It's an opportunity to talk with graduates\, learn about their interests\, and share a bit about the work your company does.\n\n\n	Meet Our Graduates:\n\n	\n		Students have completed OSHA-30 training\, earned First Aid/CPR certification\, and gained hands-on experience in basic construction skills\, green building fundamentals\, and job readiness.\n	\n	\n	Connect with Talent:\n	\n		Engage directly with current and past PACT graduates seeking internships or entry-level employment in construction and related trades.\n	\n	\n	Promote Your Company:\n	\n		Reserve a 6' table space to represent your brand\, distribute company materials\, and network with future hires who are eager to get started.\n	\n	\n	Find Your Next Hire:\n	\n		This is your chance to meet individuals who are not only trained but motivated\, career-focused\, and available now.
X-ALT-DESC;FMTTYPE=text/html:<p data-end="88" data-start="55">BIA Hawaii is proud to announce the graduation of the July 2025 Cohort of our Pre-Apprenticeship Construction Training (PACT) Program.<br />\n<br />\nAs part of our mission to connect job-ready individuals with industry professionals\, we invite BIA Member companies to join us for a special <strong data-end="418" data-start="389">Hiring Fair</strong> immediately following our graduation ceremony.</p>\n\n<p data-end="717" data-start="467">This event is a chance to meet individuals who have completed the program and are looking to take the next step. It&rsquo\;s an opportunity to talk with graduates\, learn about their interests\, and share a bit about the work your company does.</p>\n\n<ul>\n	<li data-end="952" data-start="740"><strong data-end="763" data-start="740">Meet Our Graduates:</strong>\n\n	<ul>\n		<li data-end="952" data-start="740">Students have completed OSHA-30 training\, earned First Aid/CPR certification\, and gained hands-on experience in basic construction skills\, green building fundamentals\, and job readiness.</li>\n	</ul>\n	</li>\n	<li data-end="1115" data-start="954"><strong data-end="978" data-start="954">Connect with Talent:</strong>\n	<ul>\n		<li data-end="1115" data-start="954">Engage directly with current and past PACT graduates seeking internships or entry-level employment in construction and related trades.</li>\n	</ul>\n	</li>\n	<li data-end="1284" data-start="1117"><strong data-end="1142" data-start="1117">Promote Your Company:</strong>\n	<ul>\n		<li data-end="1284" data-start="1117">Reserve a 6&#39\; table space to represent your brand\, distribute company materials\, and network with future hires who are eager to get started.</li>\n	</ul>\n	</li>\n	<li data-end="1427" data-start="1286"><strong data-end="1310" data-start="1286">Find Your Next Hire:</strong>\n	<ul>\n		<li data-end="1427" data-start="1286">This is your chance to meet individuals who are not only trained&mdash\;but motivated\, career-focused\, and available now.</li>\n	</ul>\n	</li>\n</ul>\n
LOCATION:BIA Hawaii
UID:e.9314.887175
SEQUENCE:3
DTSTAMP:20260425T011113Z
URL:https://members.biahawaii.org/events/details/pact-graduation-and-hiring-fair-887175
END:VEVENT

END:VCALENDAR
