BEGIN:VCALENDAR
VERSION:2.0
PRODID:-//ChamberMaster//Event Calendar 2.0//EN
METHOD:PUBLISH
X-PUBLISHED-TTL:P3D
REFRESH-INTERVAL:P3D
CALSCALE:GREGORIAN
BEGIN:VEVENT
DTSTART:20250115T183000Z
DTEND:20250117T013000Z
X-MICROSOFT-CDO-ALLDAYEVENT:FALSE
SUMMARY:OSHA Disaster
DESCRIPTION:The 15-Hour OSHA Disaster Site Training Course is designed for workers who may be involved in emergency response or recovery operations following natural or man-made disasters. The course provides essential knowledge and skills necessary to safely work in hazardous environments where disaster recovery operations are taking place.
X-ALT-DESC;FMTTYPE=text/html:<span style="color: rgb(36\, 36\, 36)\; font-family: Aptos\, sans-serif\; font-size: 16px\;">The&nbsp\;</span><b style="color: rgb(36\, 36\, 36)\; font-family: Aptos\, sans-serif\; font-size: 16px\;">15-Hour OSHA Disaster Site Training Course</b><span style="color: rgb(36\, 36\, 36)\; font-family: Aptos\, sans-serif\; font-size: 16px\;">&nbsp\;is designed for workers who may be involved in emergency response or recovery operations following natural or man-made disasters. The course provides essential knowledge and skills necessary to safely work in hazardous environments where disaster recovery operations are taking place.</span>
LOCATION:BIA Hawaii 94-487 Akoki St\, Waipahu\, HI 96797
UID:e.9314.887104
SEQUENCE:3
DTSTAMP:20260425T121806Z
URL:https://members.biahawaii.org/events/details/osha-disaster-887104
END:VEVENT

END:VCALENDAR
