BEGIN:VCALENDAR
VERSION:2.0
PRODID:-//ChamberMaster//Event Calendar 2.0//EN
METHOD:PUBLISH
X-PUBLISHED-TTL:P3D
REFRESH-INTERVAL:P3D
CALSCALE:GREGORIAN
BEGIN:VEVENT
DTSTART:20250716T063000Z
DTEND:20250719T013000Z
X-MICROSOFT-CDO-ALLDAYEVENT:FALSE
SUMMARY:OSHA 30
DESCRIPTION:The 30-hour training program is intended to provide workers with some safety responsibility a greater depth and variety of training.
X-ALT-DESC;FMTTYPE=text/html:&nbsp\;<br />\nThe 30-hour training program is intended to provide workers with some safety responsibility a greater depth and variety of training.
LOCATION:BIA Hawaii 94-487 Akoki St Ste 213 2nd Floor Waipahu\, HI 96797
UID:e.9314.887158
SEQUENCE:3
DTSTAMP:20260425T024349Z
URL:https://members.biahawaii.org/events/details/osha-30-887158
END:VEVENT

END:VCALENDAR
