BEGIN:VCALENDAR
VERSION:2.0
PRODID:-//ChamberMaster//Event Calendar 2.0//EN
METHOD:PUBLISH
X-PUBLISHED-TTL:P3D
REFRESH-INTERVAL:P3D
CALSCALE:GREGORIAN
BEGIN:VEVENT
DTSTART:20250114T183000Z
DTEND:20250115T013000Z
X-MICROSOFT-CDO-ALLDAYEVENT:FALSE
SUMMARY:OSHA 30
DESCRIPTION:The 30-hour training program is intended to provide workers with some safety responsibility a greater depth and variety of training.
X-ALT-DESC;FMTTYPE=text/html:<span style="color: rgb(0\, 29\, 53)\; font-family: &quot\;Google Sans&quot\;\, Roboto\, Arial\, sans-serif\; font-size: 18px\;">The 30-hour training program is intended to provide workers with some safety responsibility a greater depth and variety of training.</span>
LOCATION:BIA Hawaii 94-487 Akoki St\, Waipahu\, HI 96797
UID:e.9314.887103
SEQUENCE:3
DTSTAMP:20260425T133753Z
URL:https://members.biahawaii.org/events/details/osha-30-887103
END:VEVENT

END:VCALENDAR
