BEGIN:VCALENDAR
VERSION:2.0
PRODID:-//ChamberMaster//Event Calendar 2.0//EN
METHOD:PUBLISH
X-PUBLISHED-TTL:P3D
REFRESH-INTERVAL:P3D
CALSCALE:GREGORIAN
BEGIN:VEVENT
DTSTART:20260119T180000Z
DTEND:20260120T230000Z
X-MICROSOFT-CDO-ALLDAYEVENT:FALSE
SUMMARY:OSHA 10-Hour
DESCRIPTION:Get the essential safety training you need to work smart and stay safe on the job! The OSHA 10-Hour Construction Safety Course teaches workers how to recognize\, avoid\, and prevent common hazards on construction sites.\n\n\n\nWho Should Attend:\n\nConstruction workers\, new hires\, supervisors\, students\, and anyone looking to boost their safety knowledge and career potential.\n\nDon't wait   space is limited!\n\nGet certified and join the next generation of Hawai'i's safe and skilled construction workforce.\n\n\n\nYou'll learn about:\n\nFall protection\, ladders & scaffolds\n\nElectrical safety\n\nPersonal Protective Equipment (PPE)\n\nHazard communication & materials handling\n\nTools\, equipment\, and more!\n\nUpon completion\, participants will receive an Official OSHA 10-Hour Construction Safety Card issued by the U.S. Department of Labor   a valuable credential for anyone working or entering the construction industry.
X-ALT-DESC;FMTTYPE=text/html:Get the essential safety training you need to work smart and stay safe on the job! The OSHA 10-Hour Construction Safety Course teaches workers how to recognize\, avoid\, and prevent common hazards on construction sites.<br />\n<br />\nWho Should Attend:<br />\nConstruction workers\, new hires\, supervisors\, students\, and anyone looking to boost their safety knowledge and career potential.<br />\nDon&rsquo\;t wait &mdash\; space is limited!<br />\nGet certified and join the next generation of Hawai&lsquo\;i&rsquo\;s safe and skilled construction workforce.<br />\n<br />\nYou&rsquo\;ll learn about:<br />\nFall protection\, ladders &amp\; scaffolds<br />\nElectrical safety<br />\nPersonal Protective Equipment (PPE)<br />\nHazard communication &amp\; materials handling<br />\nTools\, equipment\, and more!<br />\nUpon completion\, participants will receive an Official OSHA 10-Hour Construction Safety Card issued by the U.S. Department of Labor &mdash\; a valuable credential for anyone working or entering the construction industry.<br />\n&nbsp\;
LOCATION:Hilo Hawai'i Community College 1175 Manono Street\, Hilo\, HI 96720
UID:e.9314.887196
SEQUENCE:3
DTSTAMP:20260424T124923Z
URL:https://members.biahawaii.org/events/details/osha-10-hour-887196
END:VEVENT

END:VCALENDAR
