BEGIN:VCALENDAR
VERSION:2.0
PRODID:-//ChamberMaster//Event Calendar 2.0//EN
METHOD:PUBLISH
X-PUBLISHED-TTL:P3D
REFRESH-INTERVAL:P3D
CALSCALE:GREGORIAN
BEGIN:VEVENT
DTSTART:20250806T170000Z
DTEND:20250807T013000Z
X-MICROSOFT-CDO-ALLDAYEVENT:FALSE
SUMMARY:NAVFAC USACE 40-hour Contractor Safety Course
DESCRIPTION:NAVFAC/USACE 40-Hour Contractor Safety Course\n\nThis advanced training is designed for construction contractors working on projects managed by the Naval Facilities Engineering Systems Command (NAVFAC) and the U.S. Army Corps of Engineers (USACE). The course provides comprehensive instruction based on the USACE EM 385-1-1 safety manual\, covering key topics to ensure safe practices across all project phases.\n\nCourse Overview:\n\n\n	\n	Duration: 40 hours\n	\n	\n	Audience: Contractors\, safety officers\, and supervisors involved in NAVFAC or USACE projects\n	\n	\n	Focus: Compliance with the EM 385-1-1 safety standards\n	\n\n\nTopics Include:\n\n\n	\n	General Safety Awareness: Principles of safety\, incident reporting\, and accident prevention\n	\n	\n	Fall Protection: Hazard identification\, use of fall arrest systems\, and anchor point selection\n	\n	\n	Excavation Safety: Trench safety\, shoring\, and protective systems\n	\n	\n	Confined Space Entry: Entry procedures\, atmospheric testing\, and rescue readiness\n	\n	\n	Hazardous Materials: Identification\, handling procedures\, and spill response\n	\n	\n	Electrical Safety: Lockout/tagout procedures and safe equipment handling\n	\n	\n	Crane & Hoist Operations: Proper signaling and operation practices\n	\n	\n	Fire Safety: Prevention strategies\, extinguisher use\, and evacuation planning\n	\n	\n	Personal Protective Equipment (PPE): Appropriate selection and usage\n	\n	\n	Occupational Health: Monitoring and managing workplace health hazards\n	\n\n\nThis course equips participants with the knowledge to maintain a safe and compliant jobsite under federal contract guidelines.
X-ALT-DESC;FMTTYPE=text/html:<p data-end="530" data-start="117"><strong data-end="166" data-start="117">NAVFAC/USACE 40-Hour Contractor Safety Course</strong><br data-end="169" data-start="166" />\nThis advanced training is designed for construction contractors working on projects managed by the Naval Facilities Engineering Systems Command (NAVFAC) and the U.S. Army Corps of Engineers (USACE). The course provides comprehensive instruction based on the USACE EM 385-1-1 safety manual\, covering key topics to ensure safe practices across all project phases.</p>\n\n<p data-end="554" data-start="532"><strong data-end="552" data-start="532">Course Overview:</strong></p>\n\n<ul data-end="743" data-start="555">\n	<li data-end="581" data-start="555">\n	<p data-end="581" data-start="557"><strong data-end="570" data-start="557">Duration:</strong> 40 hours</p>\n	</li>\n	<li data-end="682" data-start="582">\n	<p data-end="682" data-start="584"><strong data-end="597" data-start="584">Audience:</strong> Contractors\, safety officers\, and supervisors involved in NAVFAC or USACE projects</p>\n	</li>\n	<li data-end="743" data-start="683">\n	<p data-end="743" data-start="685"><strong data-end="695" data-start="685">Focus:</strong> Compliance with the EM 385-1-1 safety standards</p>\n	</li>\n</ul>\n\n<p data-end="766" data-start="745"><strong data-end="764" data-start="745">Topics Include:</strong></p>\n\n<ul data-end="1613" data-start="767">\n	<li data-end="866" data-start="767">\n	<p data-end="866" data-start="769"><strong data-end="798" data-start="769">General Safety Awareness:</strong> Principles of safety\, incident reporting\, and accident prevention</p>\n	</li>\n	<li data-end="969" data-start="867">\n	<p data-end="969" data-start="869"><strong data-end="889" data-start="869">Fall Protection:</strong> Hazard identification\, use of fall arrest systems\, and anchor point selection</p>\n	</li>\n	<li data-end="1043" data-start="970">\n	<p data-end="1043" data-start="972"><strong data-end="994" data-start="972">Excavation Safety:</strong> Trench safety\, shoring\, and protective systems</p>\n	</li>\n	<li data-end="1133" data-start="1044">\n	<p data-end="1133" data-start="1046"><strong data-end="1071" data-start="1046">Confined Space Entry:</strong> Entry procedures\, atmospheric testing\, and rescue readiness</p>\n	</li>\n	<li data-end="1218" data-start="1134">\n	<p data-end="1218" data-start="1136"><strong data-end="1160" data-start="1136">Hazardous Materials:</strong> Identification\, handling procedures\, and spill response</p>\n	</li>\n	<li data-end="1299" data-start="1219">\n	<p data-end="1299" data-start="1221"><strong data-end="1243" data-start="1221">Electrical Safety:</strong> Lockout/tagout procedures and safe equipment handling</p>\n	</li>\n	<li data-end="1374" data-start="1300">\n	<p data-end="1374" data-start="1302"><strong data-end="1331" data-start="1302">Crane &amp\; Hoist Operations:</strong> Proper signaling and operation practices</p>\n	</li>\n	<li data-end="1460" data-start="1375">\n	<p data-end="1460" data-start="1377"><strong data-end="1393" data-start="1377">Fire Safety:</strong> Prevention strategies\, extinguisher use\, and evacuation planning</p>\n	</li>\n	<li data-end="1537" data-start="1461">\n	<p data-end="1537" data-start="1463"><strong data-end="1503" data-start="1463">Personal Protective Equipment (PPE):</strong> Appropriate selection and usage</p>\n	</li>\n	<li data-end="1613" data-start="1538">\n	<p data-end="1613" data-start="1540"><strong data-end="1564" data-start="1540">Occupational Health:</strong> Monitoring and managing workplace health hazards</p>\n	</li>\n</ul>\n\n<p data-end="1741" data-start="1615">This course equips participants with the knowledge to maintain a safe and compliant jobsite under federal contract guidelines.</p>\n
LOCATION:BIA Hawaii 94-487 Akoki St. Waipahu\, HI 96797 Virtual Class Link: https://www.anymeeting.com/BIAEducation
UID:e.9314.887107
SEQUENCE:3
DTSTAMP:20260425T011119Z
URL:https://members.biahawaii.org/events/details/navfac-usace-40-hour-contractor-safety-course-07-08-2025-887107
END:VEVENT

END:VCALENDAR
