BEGIN:VCALENDAR
VERSION:2.0
PRODID:-//ChamberMaster//Event Calendar 2.0//EN
METHOD:PUBLISH
X-PUBLISHED-TTL:P3D
REFRESH-INTERVAL:P3D
CALSCALE:GREGORIAN
BEGIN:VEVENT
DTSTART:20250812T220000Z
DTEND:20250815T013000Z
X-MICROSOFT-CDO-ALLDAYEVENT:FALSE
SUMMARY:NAVFAC Construction Quality Management (CQM)
DESCRIPTION:The construction qaulity management (CQM) class is a training program that teaches contractors how to ensure that construction projects meet quality standards\, are completed on time\, and are within budget.
X-ALT-DESC;FMTTYPE=text/html:<font color="#001d35" face="Google Sans\, Roboto\, Arial\, sans-serif"><span style="font-size: 18px\;">The construction qaulity management (CQM) class is a training program that teaches contractors how to ensure that construction projects meet quality standards\, are completed on time\, and are within budget.</span></font>
LOCATION:Online https://www.anymeeting.com/BIAEducation
UID:e.9314.887061
SEQUENCE:3
DTSTAMP:20260425T011054Z
URL:https://members.biahawaii.org/events/details/navfac-construction-quality-management-cqm-887061
END:VEVENT

END:VCALENDAR
