BEGIN:VCALENDAR
VERSION:2.0
PRODID:-//ChamberMaster//Event Calendar 2.0//EN
METHOD:PUBLISH
X-PUBLISHED-TTL:P3D
REFRESH-INTERVAL:P3D
CALSCALE:GREGORIAN
BEGIN:VEVENT
DTSTART:20251021T220000Z
DTEND:20251024T013000Z
X-MICROSOFT-CDO-ALLDAYEVENT:FALSE
SUMMARY:NAVFAC Construction Quality Management (CQM)
DESCRIPTION:A training course designed to educate construction personnel on the quality control procedures and standards required by the Naval Facilities Engineering Command (NAVFAC) on construction projects\, ensuring that all work meets specified quality levels and complies with government contracts.
X-ALT-DESC;FMTTYPE=text/html:A training course designed to educate construction personnel on the quality control procedures and standards required by the Naval Facilities Engineering Command (NAVFAC) on construction projects\, ensuring that all work meets specified quality levels and complies with government contracts.
LOCATION:Online
UID:e.9314.887070
SEQUENCE:3
DTSTAMP:20260424T185811Z
URL:https://members.biahawaii.org/events/details/navfac-construction-quality-management-cqm-10-20-2025-887070
END:VEVENT

END:VCALENDAR
