BEGIN:VCALENDAR
VERSION:2.0
PRODID:-//ChamberMaster//Event Calendar 2.0//EN
METHOD:PUBLISH
X-PUBLISHED-TTL:P3D
REFRESH-INTERVAL:P3D
CALSCALE:GREGORIAN
BEGIN:VEVENT
DTSTART:20250728T180000Z
DTEND:20250729T020000Z
X-MICROSOFT-CDO-ALLDAYEVENT:FALSE
SUMMARY:Cancelled: NAHB Risk Management & Insurance for Building Professionals
DESCRIPTION:In today's volatile insurance market\, builders face rising costs\, stricter policy terms\, and limited coverage availability. This comprehensive course equips building professionals with essential strategies to proactively manage risk\, control liability exposure\, and navigate insurance complexities. Participants will learn to reduce risk through practical\, non-insurance methods\, better understand the types of insurance coverage available\, and work effectively with brokers and legal counsel to secure appropriate protection.\n\nLearning Objectives:\n\nBy the end of this course\, participants will be able to:\n\n\n	\n	Apply key insurance terms and definitions in real-world situations\n	\n	\n	Identify practical\, non-insurance strategies to reduce liability\n	\n	\n	Understand the core types of insurance coverage every building company should carry\n	\n	\n	Collaborate with brokers and legal professionals to build a comprehensive risk management program\n	\n\n\nThis course is ideal for business owners\, project managers\, and anyone involved in operations or decision-making within the construction and homebuilding sectors.\n\n \nDIRECTIONS FOR NAHB COURSE REGISTRATION\n\n\n\n1. You will need your own nahb.org username and password to get access to the NAHB course tests.\n\n\n	If you already have a nahb.org login and you know your username and password\, you may log in directly to nahb.org and skip to number 4. \n\n2. To create a free nahb.org account\, if you do not already have one:\n\n\n	go to the blue box labeled\, New to nahb.org? \n\n3. Complete the online form.\n\n\n	You do not need to have an NAHB PIN number. You can bypass this step by checking the box 'I don't have a PIN' under the PIN field on the form.\n	Once you have created an account\, you will receive an email from NAHB\, requiring you to confirm your account.\n	Once you have confirmed your account\, you can proceed to register for the course. However\, if you do not receive this email or experience any issues\, please contact the NAHB Help Desk at supportnahb@nahb.org or call 202-266-8313.\n\n4. Once you have your username and password\, you may register for the class using the Registration Link provided by the HBA/Site you are registered with.\n\n\n\n5. You will purchase the course by adding it to your cart and proceeding through the prompts.\n\n\n	You will not be charged for the course.\n\n6. You can click on "view purchased item now" to be taken directly to the package. \n\n\n\n7. You can also access your courses by going to www.nahb.org and following these steps:\n\n\n	Sign in using your NAHB.org login information\n	Hover over "Education and Events\n	In the drop down click Professional Development\n	On the following page click "Sign In"\n	Click My Online Learning\n\n8. To access the test\, you will need the verification code from your instructor. You will receive the code at the end of class.\n\n\n\nTECHNICAL SUPPORT:\n\nEmail: supportnahb@nahb.org\n\nCall: 202-266-8313
X-ALT-DESC;FMTTYPE=text/html:<p data-end="958" data-start="406">In today&rsquo\;s volatile insurance market\, builders face rising costs\, stricter policy terms\, and limited coverage availability. This comprehensive course equips building professionals with essential strategies to proactively manage risk\, control liability exposure\, and navigate insurance complexities. Participants will learn to reduce risk through practical\, non-insurance methods\, better understand the types of insurance coverage available\, and work effectively with brokers and legal counsel to secure appropriate protection.</p>\n\n<p data-end="1045" data-start="960"><strong data-end="984" data-start="960">Learning Objectives:</strong><br data-end="987" data-start="984" />\nBy the end of this course\, participants will be able to:</p>\n\n<ul data-end="1373" data-start="1046">\n	<li data-end="1116" data-start="1046">\n	<p data-end="1116" data-start="1048">Apply key insurance terms and definitions in real-world situations</p>\n	</li>\n	<li data-end="1185" data-start="1117">\n	<p data-end="1185" data-start="1119">Identify practical\, non-insurance strategies to reduce liability</p>\n	</li>\n	<li data-end="1273" data-start="1186">\n	<p data-end="1273" data-start="1188">Understand the core types of insurance coverage every building company should carry</p>\n	</li>\n	<li data-end="1373" data-start="1274">\n	<p data-end="1373" data-start="1276">Collaborate with brokers and legal professionals to build a comprehensive risk management program</p>\n	</li>\n</ul>\n\n<p data-end="1539" data-start="1375">This course is ideal for business owners\, project managers\, and anyone involved in operations or decision-making within the construction and homebuilding sectors.<br />\n&nbsp\;</p>\n<span style="box-sizing: border-box\; font-weight: bolder\; color: rgb(37\, 40\, 42)\; font-family: Lora\, sans-serif\; font-size: 16px\;">DIRECTIONS FOR NAHB COURSE REGISTRATION</span><br style="box-sizing: border-box\; color: rgb(37\, 40\, 42)\; font-family: Lora\, sans-serif\; font-size: 16px\;" />\n<br style="box-sizing: border-box\; color: rgb(37\, 40\, 42)\; font-family: Lora\, sans-serif\; font-size: 16px\;" />\n<em style="box-sizing: border-box\; color: rgb(37\, 40\, 42)\; font-family: Lora\, sans-serif\; font-size: 16px\;"><span style="box-sizing: border-box\; font-weight: bolder\;">1. You will need your own nahb.org username and password to get access to the NAHB course tests.</span></em>\n\n<ul style="box-sizing: border-box\; margin-top: 0px\; margin-bottom: 1rem\; color: rgb(37\, 40\, 42)\; font-family: Lora\, sans-serif\; font-size: 16px\;">\n	<li style="box-sizing: border-box\; margin: 0px\;">If you already have a nahb.org login and you know your username and password\, you may&nbsp\;log in directly to nahb.org and skip to number 4.&nbsp\;</li>\n</ul>\n<em style="box-sizing: border-box\; color: rgb(37\, 40\, 42)\; font-family: Lora\, sans-serif\; font-size: 16px\;"><span style="box-sizing: border-box\; font-weight: bolder\;">2. To create a free nahb.org account\, if you do not already have one:</span></em>\n\n<ul style="box-sizing: border-box\; margin-top: 0px\; margin-bottom: 1rem\; color: rgb(37\, 40\, 42)\; font-family: Lora\, sans-serif\; font-size: 16px\;">\n	<li style="box-sizing: border-box\; margin: 0px\;">go to the blue box labeled\, New to nahb.org?&nbsp\;</li>\n</ul>\n<em style="box-sizing: border-box\; color: rgb(37\, 40\, 42)\; font-family: Lora\, sans-serif\; font-size: 16px\;"><span style="box-sizing: border-box\; font-weight: bolder\;">3. Complete the online form.</span></em>\n\n<ul style="box-sizing: border-box\; margin-top: 0px\; margin-bottom: 1rem\; color: rgb(37\, 40\, 42)\; font-family: Lora\, sans-serif\; font-size: 16px\;">\n	<li style="box-sizing: border-box\; margin: 0px\;">You do not need to have an NAHB PIN number. You can bypass this step by checking the box &lsquo\;I don&rsquo\;t have a PIN&rsquo\; under the PIN field on the form.</li>\n	<li style="box-sizing: border-box\; margin: 0px\;">Once you have created an account\, you will receive an email from NAHB\, requiring you to&nbsp\;confirm your account.</li>\n	<li style="box-sizing: border-box\; margin: 0px\;">Once you have confirmed your account\, you can proceed to register for the course. However\, if you do not receive this email or experience any issues\, please contact the NAHB Help Desk at supportnahb@nahb.org or call 202-266-8313.</li>\n</ul>\n<em style="box-sizing: border-box\; color: rgb(37\, 40\, 42)\; font-family: Lora\, sans-serif\; font-size: 16px\;"><span style="box-sizing: border-box\; font-weight: bolder\;">4. Once you have your username and password\, you may register for the class using the Registration&nbsp\;Link provided by the HBA/Site you are registered with.</span></em><br style="box-sizing: border-box\; color: rgb(37\, 40\, 42)\; font-family: Lora\, sans-serif\; font-size: 16px\;" />\n<br style="box-sizing: border-box\; color: rgb(37\, 40\, 42)\; font-family: Lora\, sans-serif\; font-size: 16px\;" />\n<em style="box-sizing: border-box\; color: rgb(37\, 40\, 42)\; font-family: Lora\, sans-serif\; font-size: 16px\;"><span style="box-sizing: border-box\; font-weight: bolder\;">5. You will purchase the course by adding it to your cart and proceeding through the prompts.</span></em>\n\n<ul style="box-sizing: border-box\; margin-top: 0px\; margin-bottom: 1rem\; color: rgb(37\, 40\, 42)\; font-family: Lora\, sans-serif\; font-size: 16px\;">\n	<li style="box-sizing: border-box\; margin: 0px\;">You will&nbsp\;not be charged for the course.</li>\n</ul>\n<em style="box-sizing: border-box\; color: rgb(37\, 40\, 42)\; font-family: Lora\, sans-serif\; font-size: 16px\;"><span style="box-sizing: border-box\; font-weight: bolder\;">6. You can click on &ldquo\;view purchased item now&rdquo\; to be taken directly to the package.&nbsp\;</span><br style="box-sizing: border-box\;" />\n<br style="box-sizing: border-box\;" />\n<span style="box-sizing: border-box\; font-weight: bolder\;">7. You can also access your courses by going to www.nahb.org and following these steps:</span></em>\n\n<ul style="box-sizing: border-box\; margin-top: 0px\; margin-bottom: 1rem\; color: rgb(37\, 40\, 42)\; font-family: Lora\, sans-serif\; font-size: 16px\;">\n	<li style="box-sizing: border-box\; margin: 0px\;">Sign in using your NAHB.org login information</li>\n	<li style="box-sizing: border-box\; margin: 0px\;">Hover over &ldquo\;Education and Events</li>\n	<li style="box-sizing: border-box\; margin: 0px\;">In the drop down click Professional Development</li>\n	<li style="box-sizing: border-box\; margin: 0px\;">On the following page click &ldquo\;Sign In&rdquo\;</li>\n	<li style="box-sizing: border-box\; margin: 0px\;">Click My Online Learning</li>\n</ul>\n<em style="box-sizing: border-box\; outline: 0px\; color: rgb(37\, 40\, 42)\; font-family: Lora\, sans-serif\; font-size: 16px\;"><span style="box-sizing: border-box\; font-weight: bolder\; outline: 0px\;">8. To access the test\, you will need the verification code from your instructor. You will receive the code&nbsp\;at the end of class.</span></em><br style="box-sizing: border-box\; color: rgb(37\, 40\, 42)\; font-family: Lora\, sans-serif\; font-size: 16px\;" />\n<br style="box-sizing: border-box\; color: rgb(37\, 40\, 42)\; font-family: Lora\, sans-serif\; font-size: 16px\;" />\n<span style="box-sizing: border-box\; font-weight: bolder\; color: rgb(37\, 40\, 42)\; font-family: Lora\, sans-serif\; font-size: 16px\;">TECHNICAL SUPPORT:</span><br style="box-sizing: border-box\; color: rgb(37\, 40\, 42)\; font-family: Lora\, sans-serif\; font-size: 16px\;" />\n<span style="color: rgb(37\, 40\, 42)\; font-family: Lora\, sans-serif\; font-size: 16px\;">Email: supportnahb@nahb.org</span><br style="box-sizing: border-box\; color: rgb(37\, 40\, 42)\; font-family: Lora\, sans-serif\; font-size: 16px\;" />\n<span style="color: rgb(37\, 40\, 42)\; font-family: Lora\, sans-serif\; font-size: 16px\;">Call: 202-266-8313</span>
LOCATION:Online https://www.anymeeting.com/BIAEducation
UID:e.9314.887051
SEQUENCE:3
DTSTAMP:20260425T042128Z
URL:https://members.biahawaii.org/events/details/nahb-risk-management-insurance-for-building-professionals-887051
END:VEVENT

END:VCALENDAR
