BEGIN:VCALENDAR
VERSION:2.0
PRODID:-//ChamberMaster//Event Calendar 2.0//EN
METHOD:PUBLISH
X-PUBLISHED-TTL:P3D
REFRESH-INTERVAL:P3D
CALSCALE:GREGORIAN
BEGIN:VEVENT
DTSTART:20250723T180000Z
DTEND:20250724T020000Z
X-MICROSOFT-CDO-ALLDAYEVENT:FALSE
SUMMARY:NAHB Project Management
DESCRIPTION:Essential Skills for Residential Construction Leaders\n\nA project manager's core responsibility is to deliver projects on time\, on budget\, and with a satisfied client. To meet that challenge\, residential construction managers must master planning\, execution\, and team coordination from start to finish.\n\nThis course is designed for home building professionals seeking to strengthen their leadership and project management skills. Participants will explore key responsibilities across all phases of construction pre-construction\, construction\, and post-construction with a focus on practical tools and trade contractor management.\n\nWhat You'll Learn\n\nBy the end of this course\, participants will be able to:\n\n\n	\n	Understand the full project life cycle and the foundations of successful project management\n	\n	\n	Plan and schedule effectively during the pre-construction phase\n	\n	\n	Apply project management tools to stay organized and efficient\n	\n	\n	Lead and manage trade contractors with clarity and accountability\n	\n	\n	Oversee execution and quality during the construction phase\n	\n	\n	Fulfill key responsibilities after project completion\n	\n\n\nWho Should Attend\n\nIdeal for business owners\, project managers\, superintendents\, remodelers\, sales managers\, and anyone involved in residential pre-construction or construction especially small-volume\, custom\, and semi-custom home builders.
X-ALT-DESC;FMTTYPE=text/html:<p data-end="243" data-start="156"><strong data-end="243" data-start="186">Essential Skills for Residential Construction Leaders</strong></p>\n\n<p data-end="491" data-start="245">A project manager&rsquo\;s core responsibility is to deliver projects on time\, on budget\, and with a satisfied client. To meet that challenge\, residential construction managers must master planning\, execution\, and team coordination from start to finish.</p>\n\n<p data-end="818" data-start="493">This course is designed for home building professionals seeking to strengthen their leadership and project management skills. Participants will explore key responsibilities across all phases of construction&mdash\;pre-construction\, construction\, and post-construction&mdash\;with a focus on practical tools and trade contractor management.</p>\n\n<p data-end="902" data-start="820"><strong data-end="841" data-start="820">What You&rsquo\;ll Learn</strong><br data-end="844" data-start="841" />\nBy the end of this course\, participants will be able to:</p>\n\n<ul data-end="1325" data-start="903">\n	<li data-end="998" data-start="903">\n	<p data-end="998" data-start="905">Understand the full project life cycle and the foundations of successful project management</p>\n	</li>\n	<li data-end="1066" data-start="999">\n	<p data-end="1066" data-start="1001">Plan and schedule effectively during the pre-construction phase</p>\n	</li>\n	<li data-end="1133" data-start="1067">\n	<p data-end="1133" data-start="1069">Apply project management tools to stay organized and efficient</p>\n	</li>\n	<li data-end="1203" data-start="1134">\n	<p data-end="1203" data-start="1136">Lead and manage trade contractors with clarity and accountability</p>\n	</li>\n	<li data-end="1267" data-start="1204">\n	<p data-end="1267" data-start="1206">Oversee execution and quality during the construction phase</p>\n	</li>\n	<li data-end="1325" data-start="1268">\n	<p data-end="1325" data-start="1270">Fulfill key responsibilities after project completion</p>\n	</li>\n</ul>\n\n<p data-end="1572" data-start="1327"><strong data-end="1348" data-start="1327">Who Should Attend</strong><br data-end="1351" data-start="1348" />\nIdeal for business owners\, project managers\, superintendents\, remodelers\, sales managers\, and anyone involved in residential pre-construction or construction&mdash\;especially small-volume\, custom\, and semi-custom home builders.</p>\n
LOCATION:Online
UID:e.9314.887020
SEQUENCE:3
DTSTAMP:20260425T024354Z
URL:https://members.biahawaii.org/events/details/nahb-project-management-03-03-2025-887020
END:VEVENT

END:VCALENDAR
