BEGIN:VCALENDAR
VERSION:2.0
PRODID:-//ChamberMaster//Event Calendar 2.0//EN
METHOD:PUBLISH
X-PUBLISHED-TTL:P3D
REFRESH-INTERVAL:P3D
CALSCALE:GREGORIAN
BEGIN:VEVENT
DTSTART:20250915T190000Z
DTEND:20250915T230000Z
X-MICROSOFT-CDO-ALLDAYEVENT:FALSE
SUMMARY:Maui Enrollment & Registration – In Person
DESCRIPTION:The Building Industry Association of Hawaii (BIA) is proud to bring the PACT Program to Maui this fall!\n\nThis 6-week\, hands-on training program prepares motivated individuals for careers in Hawaii's construction industry.\n\n\n\nWhat Students Will Gain\n\n\n\n  Core trade exposure   Carpentry\, Electrical\, Plumbing\, HVAC\n\n  OSHA-30 certification + First Aid & CPR\n\n  Construction math\, tool handling & jobsite safety\n\n  Professional development & workplace readiness\n\n\n\n  Graduates leave ready to pursue apprenticeships\, connect with contractors\, and launch lasting careers in Hawaii's construction workforce.\n\n\n\nInstructor Opportunity\n\n\n\nWe're seeking experienced tradespeople\, professionals & educators to serve as instructors.\n\nBy joining us\, you will:\n\n\n\nMentor the next generation of builders\n\n\n\nStrengthen Maui's local workforce\n\n\n\nGive back to your industry with lasting impact\n\n\n\nIndustry Partnership & Career Connections
X-ALT-DESC;FMTTYPE=text/html:The Building Industry Association of Hawaii (BIA) is proud to bring the PACT Program to Maui this fall!<br />\nThis 6-week\, hands-on training program prepares motivated individuals for careers in Hawaii&rsquo\;s construction industry.<br />\n<br />\nWhat Students Will Gain<br />\n<br />\n&#10004\; Core trade exposure &ndash\; Carpentry\, Electrical\, Plumbing\, HVAC<br />\n&#10004\; OSHA-30 certification + First Aid &amp\; CPR<br />\n&#10004\; Construction math\, tool handling &amp\; jobsite safety<br />\n&#10004\; Professional development &amp\; workplace readiness<br />\n<br />\n&#127891\; Graduates leave ready to pursue apprenticeships\, connect with contractors\, and launch lasting careers in Hawaii&rsquo\;s construction workforce.<br />\n<br />\nInstructor Opportunity<br />\n<br />\nWe&rsquo\;re seeking experienced tradespeople\, professionals &amp\; educators to serve as instructors.<br />\nBy joining us\, you will:<br />\n<br />\nMentor the next generation of builders<br />\n<br />\nStrengthen Maui&rsquo\;s local workforce<br />\n<br />\nGive back to your industry with lasting impact<br />\n<br />\nIndustry Partnership &amp\; Career Connections
LOCATION:250 Alamaha St\, N16B Kahului\, HI 96732
UID:e.9314.887187
SEQUENCE:3
DTSTAMP:20260424T232723Z
URL:https://members.biahawaii.org/events/details/maui-enrollment-registration-in-person-887187
END:VEVENT

END:VCALENDAR
