BEGIN:VCALENDAR
VERSION:2.0
PRODID:-//ChamberMaster//Event Calendar 2.0//EN
METHOD:PUBLISH
X-PUBLISHED-TTL:P3D
REFRESH-INTERVAL:P3D
CALSCALE:GREGORIAN
BEGIN:VEVENT
DTSTART:20250331T173000Z
DTEND:20250331T213000Z
X-MICROSOFT-CDO-ALLDAYEVENT:FALSE
SUMMARY:Lead RRP Refresher
DESCRIPTION:Lead Renovation\, Repair\, and Painting (RRP) Refresher Course\n\n(Meets U.S. EPA Requirements 40 CFR Part 745\, Subpart L)\n\n\n\nThis course is designed for professionals who have previously completed the EPA Lead Renovation\, Repair\, and Painting (RRP) Initial Certification and need to renew their certification. The refresher course reinforces key lead-safe work practices\, regulatory updates\, and compliance requirements to help prevent lead contamination during renovation\, repair\, and painting (RRP) projects.\n\n\n\nFederal law requires firms performing RRP work in homes\, childcare facilities\, and schools built before 1978 to have at least one EPA-certified renovator on staff. Certified renovators must complete refresher training every five years to maintain compliance.\n\n\n\nCourse Highlights\n\n	Review of lead-safe work practices and containment strategies\n	Updates on EPA regulations and compliance requirements\n	Best practices for minimizing lead exposure and contamination\n\n\n\nCertification Renewal\n\n\n	Course Length: 4 hours\n	Renewal Requirement: Every 5 years\n\n\n\nUpon successful completion\, participants will receive an EPA Lead Renovation\, Repair\, and Painting (RRP) Certification\, valid for another five years.\n\n\n\nInstructor:\n\nMark T. Muranaka\, MPH\, MS Environmental Health\, Industrial Hygiene
X-ALT-DESC;FMTTYPE=text/html:<strong>Lead Renovation\, Repair\, and Painting (RRP) Refresher Course</strong><br />\n(Meets U.S. EPA Requirements 40 CFR Part 745\, Subpart L)<br />\n<br />\nThis course is designed for professionals who have previously completed the EPA Lead Renovation\, Repair\, and Painting (RRP) Initial Certification and need to renew their certification. The refresher course reinforces key lead-safe work practices\, regulatory updates\, and compliance requirements to help prevent lead contamination during renovation\, repair\, and painting (RRP) projects.<br />\n<br />\nFederal law requires firms performing RRP work in homes\, childcare facilities\, and schools built before 1978 to have at least one EPA-certified renovator on staff. Certified renovators must complete refresher training every five years to maintain compliance.<br />\n<br />\n<strong>Course Highlights</strong>\n<ul>\n	<li>Review of lead-safe work practices and containment strategies</li>\n	<li>Updates on EPA regulations and compliance requirements</li>\n	<li>Best practices for minimizing lead exposure and contamination</li>\n</ul>\n<br />\n<strong>Certification Renewal</strong>\n\n<ul>\n	<li>Course Length: 4 hours</li>\n	<li>Renewal Requirement: Every 5 years</li>\n</ul>\n<br />\nUpon successful completion\, participants will receive an EPA Lead Renovation\, Repair\, and Painting (RRP) Certification\, valid for another five years.<br />\n<br />\n<strong>Instructor:</strong><br />\nMark T. Muranaka\, MPH\, MS Environmental Health\, Industrial Hygiene
LOCATION:BIA Hawaii 94-487 Akoki St. Waipahu\, HI 96797
UID:e.9314.887109
SEQUENCE:3
DTSTAMP:20260425T103728Z
URL:https://members.biahawaii.org/events/details/lead-rrp-refresher-887109
END:VEVENT

END:VCALENDAR
