BEGIN:VCALENDAR
VERSION:2.0
PRODID:-//ChamberMaster//Event Calendar 2.0//EN
METHOD:PUBLISH
X-PUBLISHED-TTL:P3D
REFRESH-INTERVAL:P3D
CALSCALE:GREGORIAN
BEGIN:VEVENT
DTSTART:20260124T040000Z
DTEND:20260124T060000Z
X-MICROSOFT-CDO-ALLDAYEVENT:FALSE
SUMMARY:Industry Pau Hana Night
DESCRIPTION:You are invited to an invitation-only Industry Pau Hana Night at the Neal S. Blaisdell Center\, taking place on Friday\, January 23\, 2026\, from 6:00 to 8:00 PM.\n\n \n\nThis exclusive evening is designed for professionals across the home building\, home remodeling\, and adjacent industries to connect in a relaxed setting. It is an opportunity to network with fellow industry leaders\, business owners\, and key stakeholders who are shaping Hawai i's building industry.\n\n \n\nComplimentary pupus and drinks will be provided while supplies last.\n\n \n\nIn addition\, you will be among the first to experience the ESPN Honolulu Fan Cave. This immersive space showcases the ultimate game-day outdoor setup\, featuring big-screen TVs\, premium outdoor appliances\, and a high-end BBQ experience designed to inspire what an elevated outdoor entertaining space can look like.\n\n \n\nWe look forward to welcoming you for an evening of connection\, conversation\, and previewing what's ahead.
X-ALT-DESC;FMTTYPE=text/html:<p class="x_MsoNormal" data-olk-copy-source="MessageBody" style="background-color: rgb(255\, 255\, 255)\; margin: 0in\; font-size: 12pt\; font-family: Aptos\, sans-serif\; color: rgb(36\, 36\, 36)\;">You are invited to an invitation-only Industry Pau Hana Night at the Neal S. Blaisdell Center\, taking place on Friday\, January 23\, 2026\, from 6:00 to 8:00 PM.</p>\n\n<p aria-hidden="true" class="x_MsoNormal" style="background-color: rgb(255\, 255\, 255)\; margin: 0in\; font-size: 12pt\; font-family: Aptos\, sans-serif\; color: rgb(36\, 36\, 36)\;">&nbsp\;</p>\n\n<p class="x_MsoNormal" style="background-color: rgb(255\, 255\, 255)\; margin: 0in\; font-size: 12pt\; font-family: Aptos\, sans-serif\; color: rgb(36\, 36\, 36)\;">This exclusive evening is designed for professionals across the home building\, home remodeling\, and adjacent industries to connect in a relaxed setting. It is an opportunity to network with fellow industry leaders\, business owners\, and key stakeholders who are shaping Hawai<span style="border: 0px\; font-style: inherit\; font-variant: inherit\; font-weight: inherit\; font-stretch: inherit\; font-size: inherit\; line-height: inherit\; font-family: Arial\, sans-serif\; font-optical-sizing: inherit\; font-size-adjust: inherit\; font-kerning: inherit\; font-feature-settings: inherit\; font-variation-settings: inherit\; font-language-override: inherit\; margin: 0px\; padding: 0px\; vertical-align: baseline\; color: inherit\;">&#699\;</span>i&rsquo\;s building industry.</p>\n\n<p aria-hidden="true" class="x_MsoNormal" style="background-color: rgb(255\, 255\, 255)\; margin: 0in\; font-size: 12pt\; font-family: Aptos\, sans-serif\; color: rgb(36\, 36\, 36)\;">&nbsp\;</p>\n\n<p class="x_MsoNormal" style="background-color: rgb(255\, 255\, 255)\; margin: 0in\; font-size: 12pt\; font-family: Aptos\, sans-serif\; color: rgb(36\, 36\, 36)\;">Complimentary pupus&nbsp\;and drinks will be provided while supplies last.</p>\n\n<p aria-hidden="true" class="x_MsoNormal" style="background-color: rgb(255\, 255\, 255)\; margin: 0in\; font-size: 12pt\; font-family: Aptos\, sans-serif\; color: rgb(36\, 36\, 36)\;">&nbsp\;</p>\n\n<p class="x_MsoNormal" style="background-color: rgb(255\, 255\, 255)\; margin: 0in\; font-size: 12pt\; font-family: Aptos\, sans-serif\; color: rgb(36\, 36\, 36)\;">In addition\, you will be among the first to experience the ESPN Honolulu Fan Cave. This immersive space showcases the ultimate game-day outdoor setup\, featuring big-screen TVs\, premium outdoor appliances\, and a high-end BBQ experience designed to inspire what an elevated outdoor entertaining space can look like.</p>\n\n<p aria-hidden="true" class="x_MsoNormal" style="background-color: rgb(255\, 255\, 255)\; margin: 0in\; font-size: 12pt\; font-family: Aptos\, sans-serif\; color: rgb(36\, 36\, 36)\;">&nbsp\;</p>\n\n<p class="x_MsoNormal" style="background-color: rgb(255\, 255\, 255)\; margin: 0in\; font-size: 12pt\; font-family: Aptos\, sans-serif\; color: rgb(36\, 36\, 36)\;">We look forward to welcoming you for an evening of connection\, conversation\, and previewing what&rsquo\;s ahead.</p>\n
LOCATION:Neal S. Blaisdell Center Exhibition Hall in the ESPN Honolulu Fan Zone.
UID:e.9314.887210
SEQUENCE:3
DTSTAMP:20260424T125336Z
URL:https://members.biahawaii.org/events/details/industry-pau-hana-night-887210
END:VEVENT

END:VCALENDAR
