BEGIN:VCALENDAR
VERSION:2.0
PRODID:-//ChamberMaster//Event Calendar 2.0//EN
METHOD:PUBLISH
X-PUBLISHED-TTL:P3D
REFRESH-INTERVAL:P3D
CALSCALE:GREGORIAN
BEGIN:VEVENT
DTSTART:20251023T190000Z
DTEND:20251023T210000Z
X-MICROSOFT-CDO-ALLDAYEVENT:FALSE
SUMMARY:HOME SHOW 101
DESCRIPTION:Home Show Vendor Success Workshop\n\nMake the Most of Your Booth   Before\, During\, and After the Show\n\nBIA Hawaii invites you to a focused\, in-person workshop designed to Home Show vendors maximize their booth presence and connect with more customers. Whether you've already secured a booth or are still considering it\, this session will provide practical guidance to help you get results.\n\nWhat You'll Learn:\n\n\n	\n	How to market your participation before the show to build interest and drive traffic\n	\n	\n	Best practices for booth design\, signage\, and visitor engagement\n	\n	\n	How to capture leads and follow up effectively after the event\n	\n\n\nThis workshop is open to all confirmed August 2025 Home Show vendors and anyone interested in exhibiting. Booth space is still available.\n\nTo reserve a booth at the January 2026 Home Show or to get more information\, contact Jemma at jemma@biahawaii.org or call (808) 629-7508.
X-ALT-DESC;FMTTYPE=text/html:<p data-end="264" data-start="156"><strong data-end="193" data-start="156">Home Show Vendor Success Workshop</strong><br data-end="196" data-start="193" />\n<strong data-end="264" data-start="196">Make the Most of Your Booth &ndash\; Before\, During\, and After the Show</strong></p>\n\n<p data-end="557" data-start="266">BIA Hawaii invites you to a focused\, in-person workshop designed to Home Show vendors maximize their booth presence and connect with more customers. Whether you&rsquo\;ve already secured a booth or are still considering it\, this session will provide practical guidance to help you get results.</p>\n\n<p data-end="581" data-start="559"><strong data-end="581" data-start="559">What You&rsquo\;ll Learn:</strong></p>\n\n<ul data-end="800" data-start="582">\n	<li data-end="668" data-start="582">\n	<p data-end="668" data-start="584">How to market your participation before the show to build interest and drive traffic</p>\n	</li>\n	<li data-end="735" data-start="669">\n	<p data-end="735" data-start="671">Best practices for booth design\, signage\, and visitor engagement</p>\n	</li>\n	<li data-end="800" data-start="736">\n	<p data-end="800" data-start="738">How to capture leads and follow up effectively after the event</p>\n	</li>\n</ul>\n\n<p data-end="927" data-start="802">This workshop is open to all confirmed August 2025 Home Show vendors and anyone interested in exhibiting. Booth space is still available.</p>\n\n<p data-end="1071" data-start="929"><strong data-end="993" data-start="929">To reserve a booth at the January 2026 Home Show or to get more information\, contact Jemma at</strong> <a class="cursor-pointer" data-end="1043" data-start="994" rel="noopener">jemma@biahawaii.org</a> <strong data-end="1071" data-start="1044">or call (808) 629-7508.</strong></p>\n
LOCATION:BIA Hawaii
UID:e.9314.887192
SEQUENCE:3
DTSTAMP:20260424T171857Z
URL:https://members.biahawaii.org/events/details/home-show-101-887192
END:VEVENT

END:VCALENDAR
