BEGIN:VCALENDAR
VERSION:2.0
PRODID:-//ChamberMaster//Event Calendar 2.0//EN
METHOD:PUBLISH
X-PUBLISHED-TTL:P3D
REFRESH-INTERVAL:P3D
CALSCALE:GREGORIAN
BEGIN:VEVENT
DTSTART:20251026T230000Z
DTEND:20251027T020000Z
X-MICROSOFT-CDO-ALLDAYEVENT:FALSE
SUMMARY:Halloween Bowling Family FUNdraiser
DESCRIPTION:SAVE THE DATE\n\n\n\nBIA Hawaii invites members\, families\, and friends to our Halloween Bowling Fundraiser\, an afternoon of strikes\, costumes\, and community spirit.\n\nThis family-friendly event is a fun way to connect outside the jobsite\, strengthen industry relationships\, and support the important work BIA Hawaii does for our members and the building industry.\n\nCome in costume\, bring your keiki\, and form a team for friendly competition. Whether you are aiming for a perfect game or simply enjoying the laughter\, you will be part of an afternoon filled with prizes\, fun\, and BIA ohana spirit.\n\nReserve Your Team\n\nSpace is limited to 10 teams.\n\n\n	BIA Member: $100\n	Non-BIA Member: $150\n\n\nEach team purchase includes:\n\n\n	Five player spots\n	Lunch bento for each player\n	One complimentary drink per player\n	Bowling shoes for each player\n\n\nTEAMS ARE SOLD OUT!\n\n\n\nSponsorship opportunities are still available\n\n\n\nFor more info email: events@biahawaii.org\n\n \n\n\n\n\nSPONOSORSHIP OPPORTUNITIES:\n\n\n\nPlease consider sponsoring our event. Sponsorship goes towards providing materials and resources to make our event successful.\n\n\n\nFor questions or to reserve your sponsorship\, please email events@biahawaii.org of call 808-629-7508.\n\n \n\n\n	\n		\n			SPONSOR: PRIZE - BIA\n			$400\n		\n		\n			SPONSOR: PRIZE - NON-BIA\n			$600\n		\n		\n			SPONSOR: DRINK - BIA\n			$300\n		\n		\n			SPONSOR: DRINK - NON-BIA\n			$500\n		\n		\n			SPONSOR: LUNCH - BIA\n			$500\n		\n		\n			SPONSOR: LUNCH - NON-BIA\n			$700\n		\n		\n			SPONSOR: LANE\n			$100
X-ALT-DESC;FMTTYPE=text/html:<p data-end="258" data-start="113"><strong>SAVE THE DATE</strong><br />\n<br />\nBIA Hawaii invites members\, families\, and friends to our <strong>Halloween Bowling Fundraiser</strong>\, an afternoon of strikes\, costumes\, and community spirit.</p>\n\n<p data-end="458" data-start="260">This family-friendly event is a fun way to connect outside the jobsite\, strengthen industry relationships\, and support the important work BIA Hawaii does for our members and the building industry.</p>\n\n<p data-end="694" data-start="460">Come in costume\, bring your keiki\, and form a team for friendly competition. Whether you are aiming for a perfect game or simply enjoying the laughter\, you will be part of an afternoon filled with prizes\, fun\, and BIA ohana spirit.</p>\n\n<p style="margin: 0px\;"><strong>Reserve Your Team</strong></p>\n\n<p style="margin: 0px\;"><em>Space is limited to 10 teams.</em></p>\n\n<ul>\n	<li>BIA Member: $100</li>\n	<li>Non-BIA Member: $150</li>\n</ul>\n\n<p style="margin: 0px\;"><strong>Each team purchase includes:</strong></p>\n\n<ul>\n	<li>Five player spots</li>\n	<li>Lunch bento for each player</li>\n	<li>One complimentary drink per player</li>\n	<li>Bowling shoes for each player</li>\n</ul>\n\n<p style="margin: 0px\;"><b>TEAMS ARE SOLD OUT!<br />\n<br />\nSponsorship opportunities are still available</b><br />\n<br />\nFor more info email: <a href="mailto:events@biahawaii.org">events@biahawaii.org</a><br />\n&nbsp\;</p>\n\n<hr />\n<p data-end="694" data-start="460"><br />\n<strong>SPONOSORSHIP OPPORTUNITIES:</strong><br />\n<br />\nPlease consider sponsoring our event. Sponsorship goes towards providing materials and resources to make our event successful.<br />\n<br />\nFor questions or to reserve your sponsorship\, please email events@biahawaii.org of call 808-629-7508.<br />\n&nbsp\;</p>\n\n<table border="0" cellpadding="0" cellspacing="0" style="width:577px\;border-collapse:collapse\;" width="577">\n	<tbody>\n		<tr style="height:27px\;">\n			<td style="width:428px\;padding:0in 5.4pt 0in 5.4pt\;height:27px\;"><span style="font-family:arial\,sans-serif\;"><span style="font-size:11.0pt\;">SPONSOR: PRIZE - BIA</span></span></td>\n			<td style="width:58px\;padding:0in 5.4pt 0in 5.4pt\;height:27px\;"><span style="font-family:arial\,sans-serif\;"><span style="font-size:11.0pt\;">$400</span></span></td>\n		</tr>\n		<tr style="height:27px\;">\n			<td style="width:428px\;padding:0in 5.4pt 0in 5.4pt\;height:27px\;"><span style="font-family:arial\,sans-serif\;"><span style="font-size:11.0pt\;">SPONSOR: PRIZE - NON-BIA</span></span></td>\n			<td style="width:58px\;padding:0in 5.4pt 0in 5.4pt\;height:27px\;"><span style="font-family:arial\,sans-serif\;"><span style="font-size:11.0pt\;">$600</span></span></td>\n		</tr>\n		<tr style="height:27px\;">\n			<td style="width:428px\;padding:0in 5.4pt 0in 5.4pt\;height:27px\;"><span style="font-family:arial\,sans-serif\;"><span style="font-size:11.0pt\;">SPONSOR: DRINK - BIA</span></span></td>\n			<td style="width:58px\;padding:0in 5.4pt 0in 5.4pt\;height:27px\;"><span style="font-family:arial\,sans-serif\;"><span style="font-size:11.0pt\;">$300</span></span></td>\n		</tr>\n		<tr style="height:27px\;">\n			<td style="width:428px\;padding:0in 5.4pt 0in 5.4pt\;height:27px\;"><span style="font-family:arial\,sans-serif\;"><span style="font-size:11.0pt\;">SPONSOR: DRINK - NON-BIA</span></span></td>\n			<td style="width:58px\;padding:0in 5.4pt 0in 5.4pt\;height:27px\;"><span style="font-family:arial\,sans-serif\;"><span style="font-size:11.0pt\;">$500</span></span></td>\n		</tr>\n		<tr style="height:27px\;">\n			<td style="width:428px\;padding:0in 5.4pt 0in 5.4pt\;height:27px\;"><span style="font-family:arial\,sans-serif\;"><span style="font-size:11.0pt\;">SPONSOR: LUNCH - BIA</span></span></td>\n			<td style="width:58px\;padding:0in 5.4pt 0in 5.4pt\;height:27px\;"><span style="font-family:arial\,sans-serif\;"><span style="font-size:11.0pt\;">$500</span></span></td>\n		</tr>\n		<tr style="height:27px\;">\n			<td style="width:428px\;padding:0in 5.4pt 0in 5.4pt\;height:27px\;"><span style="font-family:arial\,sans-serif\;"><span style="font-size:11.0pt\;">SPONSOR: LUNCH - NON-BIA</span></span></td>\n			<td style="width:58px\;padding:0in 5.4pt 0in 5.4pt\;height:27px\;"><span style="font-family:arial\,sans-serif\;"><span style="font-size:11.0pt\;">$700</span></span></td>\n		</tr>\n		<tr style="height:27px\;">\n			<td style="width:428px\;padding:0in 5.4pt 0in 5.4pt\;height:27px\;"><span style="font-family:arial\,sans-serif\;"><span style="font-size:11.0pt\;">SPONSOR: LANE</span></span></td>\n			<td style="width:58px\;padding:0in 5.4pt 0in 5.4pt\;height:27px\;"><span style="font-family:arial\,sans-serif\;"><span style="font-size:11.0pt\;">$100</span></span></td>\n		</tr>\n	</tbody>\n</table>\n
LOCATION:Leeward Bowl
UID:e.9314.887168
SEQUENCE:3
DTSTAMP:20260424T185729Z
URL:https://members.biahawaii.org/events/details/halloween-bowling-family-fundraiser-887168
END:VEVENT

END:VCALENDAR
