BEGIN:VCALENDAR
VERSION:2.0
PRODID:-//ChamberMaster//Event Calendar 2.0//EN
METHOD:PUBLISH
X-PUBLISHED-TTL:P3D
REFRESH-INTERVAL:P3D
CALSCALE:GREGORIAN
BEGIN:VEVENT
DTSTART:20250124T180000Z
DTEND:20250125T020000Z
X-MICROSOFT-CDO-ALLDAYEVENT:FALSE
SUMMARY:Forklift Training
DESCRIPTION:A forklift training class is a course that teaches students how to safely operate a forklift. Forklift training classes are typically included:\n\n	Theoretical instruction\n	Practical training\n	Truck-related topics
X-ALT-DESC;FMTTYPE=text/html:<font color="#001d35" face="Google Sans\, Roboto\, Arial\, sans-serif"><span style="font-size: 18px\;">A forklift training class is a course that teaches students how to safely operate a forklift. Forklift training classes are typically included:</span></font>\n<ul>\n	<li><font color="#001d35" face="Google Sans\, Roboto\, Arial\, sans-serif"><span style="font-size: 18px\;">Theoretical instruction</span></font></li>\n	<li><span style="font-size:18px\;">Practical training</span></li>\n	<li><span style="font-size:18px\;">Truck-related topics</span></li>\n</ul>\n
LOCATION:BIA Hawaii 94-487 Akoki St Ste 213 2nd Floor Waipahu\, HI 96797
UID:e.9314.887013
SEQUENCE:3
DTSTAMP:20260425T121633Z
URL:https://members.biahawaii.org/events/details/forklift-training-887013
END:VEVENT

END:VCALENDAR
