BEGIN:VCALENDAR
VERSION:2.0
PRODID:-//ChamberMaster//Event Calendar 2.0//EN
METHOD:PUBLISH
X-PUBLISHED-TTL:P3D
REFRESH-INTERVAL:P3D
CALSCALE:GREGORIAN
BEGIN:VEVENT
DTSTART:20250804T220000Z
DTEND:20250804T230000Z
X-MICROSOFT-CDO-ALLDAYEVENT:FALSE
SUMMARY:Financial Strategies for Construction Leaders
DESCRIPTION:Financial\, Tax & Business Planning Update for AEC Firms\n\nIn today's evolving economy\, leaders of Architecture\, Engineering\, and Construction (AEC) firms need clear\, actionable guidance to make confident financial decisions. This seminar provides timely updates on financial planning\, tax strategies\, and business management tailored to the unique needs of AEC professionals.\n\n \n\nKey Topics:\n\n	Financial Planning for Business Owners: Align personal and business finances for long-term security.\n	Tax Planning Strategies: Explore deductions\, deferrals\, business structures\, and available tax credits.\n	Business Planning: Improve business valuation\, support employee retention\, and address partnership challenges.\n	Retirement & Exit Strategy: Review owner-focused retirement options and explore succession and exit planning.\n\n \n\nFeatured Speakers:\n\n\n	Marko Mijuskovic\, MBA\, MSIS\, CExP    Senior Partner\, Certified Exit Planner\, WestPac Wealth Partners\n	Charles Au\, CPA   Business Tax Advisors Hawaii\n\n \n\nModerator: Samantha Haas\, CEPA \, CLTC    Financial Advisor\, Certified Exit Planning Advisor\n\n \n\nThis workshop is designed for AEC firm owners\, executives\, and managers who want to better navigate financial complexities and plan strategically for the future.\n\n\n\n*Light refreshments will be served.
X-ALT-DESC;FMTTYPE=text/html:<strong>Financial\, Tax &amp\; Business Planning Update for AEC Firms</strong><br />\nIn today&rsquo\;s evolving economy\, leaders of Architecture\, Engineering\, and Construction (AEC) firms need clear\, actionable guidance to make confident financial decisions. This seminar provides timely updates on financial planning\, tax strategies\, and business management tailored to the unique needs of AEC professionals.<br />\n&nbsp\;<br />\n<strong>Key Topics:</strong>\n<ul>\n	<li><strong>Financial Planning for Business Owners</strong>: Align personal and business finances for long-term security.</li>\n	<li><strong>Tax Planning Strategies</strong>: Explore deductions\, deferrals\, business structures\, and available tax credits.</li>\n	<li><strong>Business Planning</strong>: Improve business valuation\, support employee retention\, and address partnership challenges.</li>\n	<li><strong>Retirement &amp\; Exit Strategy</strong>: Review owner-focused retirement options and explore succession and exit planning.</li>\n</ul>\n&nbsp\;<br />\n<strong>Featured Speakers:</strong>\n\n<ul>\n	<li><em>Marko Mijuskovic\, MBA\, MSIS\, CExP&trade\;</em> &ndash\; Senior Partner\, Certified Exit Planner\, WestPac Wealth Partners</li>\n	<li><em>Charles Au\, CPA</em> &ndash\; Business Tax Advisors Hawaii</li>\n</ul>\n&nbsp\;<br />\n<strong>Moderator:</strong> <em>Samantha Haas\, CEPA&reg\;\, CLTC&reg\;</em> &ndash\; Financial Advisor\, Certified Exit Planning Advisor<br />\n&nbsp\;<br />\nThis workshop is designed for AEC firm owners\, executives\, and managers who want to better navigate financial complexities and plan strategically for the future.<br />\n<br />\n<em><strong>*Light refreshments will be served.</strong></em>
LOCATION:BIA Hawaii\, Waipahu
UID:e.9314.887157
SEQUENCE:3
DTSTAMP:20260425T011030Z
URL:https://members.biahawaii.org/events/details/financial-strategies-for-construction-leaders-887157
END:VEVENT

END:VCALENDAR
