BEGIN:VCALENDAR
VERSION:2.0
PRODID:-//ChamberMaster//Event Calendar 2.0//EN
METHOD:PUBLISH
X-PUBLISHED-TTL:P3D
REFRESH-INTERVAL:P3D
CALSCALE:GREGORIAN
BEGIN:VEVENT
DTSTART:20250110T180000Z
DTEND:20250110T220000Z
X-MICROSOFT-CDO-ALLDAYEVENT:FALSE
SUMMARY:Fall Protection Awareness
DESCRIPTION:This course is based on the regulatory requirements of HIOSH (OSHA)\n\n\n\nCourse Topics Include:\n\n\n	General safety requirements related to fall exposures - hazard recognition\n	Roles and responsibilities (qualified\, competent\, authorized)\n	Basics of Personal Fall Equipment (Anchorage\, Bodywear\, Connection Devices)\, fall clearance calculations\, suspension trauma and common causes of failure\n	Inspection criteria\n	Manufacturers Use and Limitations - Importance of
X-ALT-DESC;FMTTYPE=text/html:<div style="text-align: center\;">&nbsp\;</div>\nThis course is based on the regulatory requirements of HIOSH (OSHA)<br />\n<br />\n<strong>Course Topics Include:</strong>\n\n<ul>\n	<li>General safety requirements related to fall exposures - hazard recognition</li>\n	<li>Roles and responsibilities (qualified\, competent\, authorized)</li>\n	<li>Basics of Personal Fall Equipment (Anchorage\, Bodywear\, Connection Devices)\, fall clearance calculations\, suspension trauma and common causes of failure</li>\n	<li>Inspection criteria</li>\n	<li>Manufacturers Use and Limitations - Importance of</li>\n</ul>\n<br />\n<br />\n<br />\n<br />\n&nbsp\;
LOCATION:BIA-Hawaii 94-487 Akoki Street\, Waipahu\, HI 96797
UID:e.9314.887012
SEQUENCE:3
DTSTAMP:20260425T121233Z
URL:https://members.biahawaii.org/events/details/fall-protection-awareness-887012
END:VEVENT

END:VCALENDAR
