BEGIN:VCALENDAR
VERSION:2.0
PRODID:-//ChamberMaster//Event Calendar 2.0//EN
METHOD:PUBLISH
X-PUBLISHED-TTL:P3D
REFRESH-INTERVAL:P3D
CALSCALE:GREGORIAN
BEGIN:VEVENT
DTSTART:20250722T180000Z
DTEND:20250722T220000Z
X-MICROSOFT-CDO-ALLDAYEVENT:FALSE
SUMMARY:Cancelled: Ergonomics
DESCRIPTION:Ergonomics involves the assessment of job tasks to identify ergonomic risk factors and appropriate engineering or work practice controls to reduce or eliminate the identified risk factors.
X-ALT-DESC;FMTTYPE=text/html:<font color="#001d35" face="Google Sans\, Roboto\, Arial\, sans-serif"><span style="font-size: 18px\;">Ergonomics involves the assessment of job tasks to identify ergonomic risk factors and appropriate engineering or work practice controls to reduce or eliminate the identified risk factors.</span></font>
LOCATION:BIA Hawaii 94-487 Akoki St Ste 213 2nd Floor Waipahu\, HI 96797
UID:e.9314.887057
SEQUENCE:3
DTSTAMP:20260425T024159Z
URL:https://members.biahawaii.org/events/details/ergonomics-887057
END:VEVENT

END:VCALENDAR
