BEGIN:VCALENDAR
VERSION:2.0
PRODID:-//ChamberMaster//Event Calendar 2.0//EN
METHOD:PUBLISH
X-PUBLISHED-TTL:P3D
REFRESH-INTERVAL:P3D
CALSCALE:GREGORIAN
BEGIN:VEVENT
DTSTART:20251212T190000Z
DTEND:20251212T220000Z
X-MICROSOFT-CDO-ALLDAYEVENT:FALSE
SUMMARY:CPR/First Aid (HYBRID)
DESCRIPTION:Adult:\nThe Adult First Aid/CPR/AED blended learning course equips students to recognize and care for a variety of first aid\, breathing\, and cardiac emergencies involving adults. It is designed for students who need a certification that satisfies OSHA\, workplace\, or other regulatory requirements. This class is taught in a blended learning format and the online portion (accessed via mobile\, desktop\, or tablet) must be completed prior to attending the Instructor-led skills session. Upon successful completion\, a valid 2-year digital certificate for Adult and Pediatric First Aid/CPR/AED is issued.\n\n \n\n\nADD ON: Adult & Pediatric $175\n\nThe Adult and Pediatric First Aid/CPR/AED blended learning course equips students to recognize and care for a variety of first aid\, breathing\, and cardiac emergencies involving adults\, children\, and infants. It is designed for students who need a certification that satisfies OSHA\, workplace\, or other regulatory requirements. This class is taught in a blended learning format and the online portion (accessed via mobile\, desktop\, or tablet) must be completed prior to attending the Instructor-led skills session. Upon successful completion\, a valid 2-year digital certificate for Adult and Pediatric First Aid/CPR/AED is issued.\n\n \n ADDITIONAL: Bloodborne Pathogens $50 per person\n\nDesigned for those who are at risk for on the job exposure to blood and other bodily fluids in the workplace. The course teaches staff how bloodborne pathogens are spread how to avoid exposure and what to do if exposed to infectious material. This course is one of the requirements of the OSHA Bloodborne Pathogens Standard. After taking this course students should talk with their employer about their workplace's specific policies and procedures. Those who complete the training receive a Bloodborne Pathogens Training certification valid for one year.
X-ALT-DESC;FMTTYPE=text/html:<br />\n<span style="font-size: 12px\;">Adult:</span>\n<p style="color: rgb(36\, 36\, 36)\; font-size: 12pt\; font-family: Aptos\, sans-serif\; margin: 0px\;"><span style="font-size:12px\;"><span data-olk-copy-source="MessageBody" style="border: 0px\; font-style: inherit\; font-variant: inherit\; font-weight: inherit\; font-stretch: inherit\; line-height: inherit\; font-family: inherit\; font-optical-sizing: inherit\; font-size-adjust: inherit\; font-kerning: inherit\; font-feature-settings: inherit\; font-variation-settings: inherit\; margin: 0px\; padding: 0px\; vertical-align: baseline\; color: inherit\;">The Adult First Aid/CPR/AED blended learning course equips students to recognize and care for a variety of first aid\, breathing\, and cardiac emergencies involving adults. It is designed for students who need a certification that satisfies OSHA\, workplace\, or other regulatory requirements. This class is taught in a blended learning format and the online portion (accessed via mobile\, desktop\, or tablet) must be completed prior to attending the Instructor-led skills session. Upon successful completion\, a valid 2-year digital certificate for Adult and Pediatric First Aid/CPR/AED is issued.</span></span></p>\n\n<p style="color: rgb(36\, 36\, 36)\; font-size: 12pt\; font-family: Aptos\, sans-serif\; margin: 0px\;"><span style="border: 0px\; font-style: inherit\; font-variant: inherit\; font-weight: inherit\; font-stretch: inherit\; font-size: 11pt\; line-height: inherit\; font-family: inherit\; font-optical-sizing: inherit\; font-size-adjust: inherit\; font-kerning: inherit\; font-feature-settings: inherit\; font-variation-settings: inherit\; margin: 0px\; padding: 0px\; vertical-align: baseline\; color: inherit\;">&nbsp\;</span></p>\n<br />\n<span style="font-size: 12px\;"><span data-olk-copy-source="MessageBody" style="font-family: Aptos\, sans-serif\; margin: 0px\;">ADD ON: Adult &amp\; Pediatric $175</span></span><br />\n<span style="font-size: 12px\;"><span data-olk-copy-source="MessageBody" style="font-family: Aptos\, sans-serif\; margin: 0px\;">The Adult and Pediatric First Aid/CPR/AED blended learning course equips students to recognize and care for a variety of first aid\, breathing\, and cardiac emergencies involving adults\, children\, and infants. It is designed for students who need a certification that satisfies OSHA\, workplace\, or other regulatory requirements. This class is taught in a blended learning format and the online portion (accessed via mobile\, desktop\, or tablet) must be completed prior to attending the Instructor-led skills session. Upon successful completion\, a valid 2-year digital certificate for Adult and Pediatric First Aid/CPR/AED is issued.</span></span><br />\n&nbsp\;\n<p style="color: rgb(36\, 36\, 36)\; font-size: 12pt\; font-family: Aptos\, sans-serif\; margin: 0px\;"><span style="font-size: 12px\;"><u data-olk-copy-source="MessageBody">&nbsp\;ADDITIONAL: Bloodborne Pathogens $50&nbsp\;per person</u></span></p>\n\n<p style="color: rgb(36\, 36\, 36)\; font-size: 12pt\; font-family: Aptos\, sans-serif\; margin: 0px\;"><span style="font-size: 12px\;">Designed for those who are at risk for on the job exposure to blood and other bodily fluids in the workplace. The course teaches staff how bloodborne pathogens are spread how to avoid exposure and what to do if exposed to infectious material. This course is one of the requirements of the OSHA Bloodborne Pathogens Standard. After taking this course students should talk with their employer about their workplace&rsquo\;s specific policies and procedures. Those who complete the training receive a Bloodborne Pathogens Training certification valid for one year.</span></p>\n
LOCATION:BIA Hawaii 94-487 Akoki St Ste 213 2nd Floor\, Waipahu\, HI 96797 HYBRID: ONLINE
UID:e.9314.887095
SEQUENCE:3
DTSTAMP:20260424T142316Z
URL:https://members.biahawaii.org/events/details/cpr-first-aid-hybrid-887095
END:VEVENT

END:VCALENDAR
