BEGIN:VCALENDAR
VERSION:2.0
PRODID:-//ChamberMaster//Event Calendar 2.0//EN
METHOD:PUBLISH
X-PUBLISHED-TTL:P3D
REFRESH-INTERVAL:P3D
CALSCALE:GREGORIAN
BEGIN:VEVENT
DTSTART:20251117T180000Z
DTEND:20251118T023000Z
X-MICROSOFT-CDO-ALLDAYEVENT:FALSE
SUMMARY:Confined Space/ Fall Protection Awareness
DESCRIPTION:Instructor: SeaRay Beltran\n\nFall Protection Description: \n\nFall protection training teaches workers how to recognize fall hazards\, use protective equipment properly\, and comply with OSHA standards to prevent injuries from falls. This training is essential for anyone working at heights or in environments where falls are a risk. \n\nConfined Space Description:\n\nConfined space training equips workers with the knowledge and skills to safely enter\, work in\, and exit confined spaces while complying with OSHA regulations. This training is essential for industries like construction\, manufacturing\, utilities\, and emergency services where workers may encounter hazardous enclosed environments.
X-ALT-DESC;FMTTYPE=text/html:<span style="font-family:arial\,sans-serif\;"><span style="font-size:12.0pt\;">Instructor: SeaRay Beltran</span></span><br />\n<strong><u><span style="background:#D9EAD3\;"><span style="color:black\;"><span style="font-family:arial\,sans-serif\;">Fall Protection Description:&nbsp\;</span></span></span></u></strong><br />\n<span style="font-family:arial\,sans-serif\;">Fall protection training teaches workers how to recognize fall hazards\, use protective equipment properly\, and comply with OSHA standards to prevent injuries from falls.&nbsp\;This training is essential for anyone working at heights or in environments where falls are a risk.&nbsp\;</span><br />\n<strong><u><span style="background:#D9EAD3\;"><span style="color:black\;"><span style="font-family:arial\,sans-serif\;">Confined Space Description:</span></span></span></u></strong><br />\n<span style="font-family:arial\,sans-serif\;">Confined space training equips workers with the knowledge and skills to safely enter\, work in\, and exit confined spaces while complying with OSHA regulations. This training is essential for industries like construction\, manufacturing\, utilities\, and emergency services where workers may encounter hazardous enclosed environments.</span>
LOCATION:BIA Hawaii 94-487 Akoki St Waipahu\, HI 96797
UID:e.9314.887202
SEQUENCE:3
DTSTAMP:20260424T160023Z
URL:https://members.biahawaii.org/events/details/confined-space-fall-protection-awareness-887202
END:VEVENT

END:VCALENDAR
