BEGIN:VCALENDAR
VERSION:2.0
PRODID:-//ChamberMaster//Event Calendar 2.0//EN
METHOD:PUBLISH
X-PUBLISHED-TTL:P3D
REFRESH-INTERVAL:P3D
CALSCALE:GREGORIAN
BEGIN:VEVENT
DTSTART:20250627T180000Z
DTEND:20250627T200000Z
X-MICROSOFT-CDO-ALLDAYEVENT:FALSE
SUMMARY:Coffee Talk: June 2025
DESCRIPTION:Join us for Coffee Talk\, a relaxed morning networking event hosted at BIA Hawaii. Whether you're a long-standing member or new to the association\, this is your chance to connect with fellow industry professionals\, explore opportunities for collaboration\, and learn how to make the most of your BIA membership. Coffee and light refreshments will be provided.\n\nWho Should Attend:\n\n\n	\n	Current BIA Hawaii members\n	\n	\n	New and prospective members\n	\n	\n	Professionals in construction\, architecture\, engineering\, development\, and related fields\n	\n\n\nWhy Attend:\n\n\n	\n	Build relationships with industry peers\n	\n	\n	Learn about BIA member benefits\n	\n	\n	Find potential partners for upcoming projects\n	\n	\n	Discover ways to get involved in committees\, events\, and leadership
X-ALT-DESC;FMTTYPE=text/html:<p data-end="718" data-start="330">Join us for <em data-end="384" data-start="361">Coffee Talk</em>\, a relaxed morning networking event hosted at BIA Hawaii. Whether you&#39\;re a long-standing member or new to the association\, this is your chance to connect with fellow industry professionals\, explore opportunities for collaboration\, and learn how to make the most of your BIA membership. Coffee and light refreshments will be provided.</p>\n\n<p data-end="744" data-start="720"><strong data-end="742" data-start="720">Who Should Attend:</strong></p>\n\n<ul data-end="899" data-start="745">\n	<li data-end="775" data-start="745">\n	<p data-end="775" data-start="747">Current BIA Hawaii members</p>\n	</li>\n	<li data-end="807" data-start="776">\n	<p data-end="807" data-start="778">New and prospective members</p>\n	</li>\n	<li data-end="899" data-start="808">\n	<p data-end="899" data-start="810">Professionals in construction\, architecture\, engineering\, development\, and related fields</p>\n	</li>\n</ul>\n\n<p data-end="918" data-start="901"><strong data-end="916" data-start="901">Why Attend:</strong></p>\n\n<ul data-end="1120" data-start="919">\n	<li data-end="962" data-start="919">\n	<p data-end="962" data-start="921">Build relationships with industry peers</p>\n	</li>\n	<li data-end="998" data-start="963">\n	<p data-end="998" data-start="965">Learn about BIA member benefits</p>\n	</li>\n	<li data-end="1048" data-start="999">\n	<p data-end="1048" data-start="1001">Find potential partners for upcoming projects</p>\n	</li>\n	<li data-end="1120" data-start="1049">\n	<p data-end="1120" data-start="1051">Discover ways to get involved in committees\, events\, and leadership</p>\n	</li>\n</ul>\n
LOCATION:
UID:e.9314.887146
SEQUENCE:3
DTSTAMP:20260425T042921Z
URL:https://members.biahawaii.org/events/details/coffee-talk-june-2025-887146
END:VEVENT

END:VCALENDAR
