BEGIN:VCALENDAR
VERSION:2.0
PRODID:-//ChamberMaster//Event Calendar 2.0//EN
METHOD:PUBLISH
X-PUBLISHED-TTL:P3D
REFRESH-INTERVAL:P3D
CALSCALE:GREGORIAN
BEGIN:VEVENT
DTSTART:20250513T180000Z
DTEND:20250513T220000Z
X-MICROSOFT-CDO-ALLDAYEVENT:FALSE
SUMMARY:Cancelled: Trench & Excavation Awareness
DESCRIPTION:Trenching and excavation are among the most hazardous operations in the construction industry. According to OSHA\, the fatality rate for excavation work is more than twice that of general construction. This in-person course provides essential awareness training for individuals who work in or around trenches\, equipping them with the knowledge needed to identify risks and follow industry best practices. The training aligns with OSHA standards (29 CFR  1926 Subpart P) and supports safe\, compliant operations on the jobsite.\n\nTopics Include:\n\n\n	Soil classification and types\n	Protective systems: hydraulic shoring\, timber shoring\, trench boxes\n	Types and causes of trench collapse\n	General trench and excavation safety requirements\n	OSHA compliance expectations\n	Hazard recognition and prevention strategies\n	 And more\n\n\nLearning Objectives:\n\nBy the end of this course\, participants will be able to:\n\n\n	Understand the critical importance of trench and excavation safety\n	 Identify various soil types and assess their stability\n	Define key terms such as stratigraphy\, competent soil\, and incompetent soil\n	Recognize common hazards associated with trenching and how to mitigate them\n	Know when and how to implement protective systems like shoring and shielding\n	Apply safe practices for entering and exiting trenches and managing spoils\n	Understand the responsibilities of individuals working near or within excavations\n	Follow OSHA-approved procedures to ensure safe work environments\n\n\nWhy It Matters:\n\nMost trench-related incidents are preventable. Collapses often occur due to improper evaluation of soil conditions\, lack of protective systems\, or inadequate hazard awareness. This course provides foundational knowledge that empowers workers and supervisors to make informed\, safety-first decisions in the field.\n\nUnderstanding Trench Safety:\n\nTrench safety encompasses the OSHA-mandated measures required to protect workers from cave-ins and related hazards. These include sloping or benching trench walls\, installing shoring supports\, and using trench shields. Regular inspection and risk awareness are essential components of a safe excavation operation.\n\nBest Practices for Jobsite Safety:\n\nSafe trench work begins with preparation and awareness. Workers must inspect conditions before entry\, ensure proper access and egress\, and remain alert to environmental changes such as rain or standing water. This training helps build a culture of safety\, where each worker understands their role in preventing accidents.
X-ALT-DESC;FMTTYPE=text/html:<p data-end="829" data-start="282">Trenching and excavation are among the most hazardous operations in the construction industry. According to OSHA\, the fatality rate for excavation work is more than twice that of general construction. This in-person course provides essential awareness training for individuals who work in or around trenches\, equipping them with the knowledge needed to identify risks and follow industry best practices. The training aligns with OSHA standards (29 CFR &sect\;1926 Subpart P) and supports safe\, compliant operations on the jobsite.</p>\n\n<p data-end="850" data-start="831"><strong data-end="850" data-start="831">Topics Include:</strong></p>\n\n<ul>\n	<li data-end="884" data-start="853">Soil classification and types</li>\n	<li data-end="884" data-start="853">Protective systems: hydraulic shoring\, timber shoring\, trench boxes</li>\n	<li data-end="884" data-start="853">Types and causes of trench collapse</li>\n	<li data-end="884" data-start="853">General trench and excavation safety requirements</li>\n	<li data-end="884" data-start="853">OSHA compliance expectations</li>\n	<li data-end="884" data-start="853">Hazard recognition and prevention strategies</li>\n	<li data-end="884" data-start="853">&#8203\;And more</li>\n</ul>\n\n<p data-end="1228" data-start="1145"><strong data-end="1169" data-start="1145">Learning Objectives:</strong><br data-end="1172" data-start="1169" />\nBy the end of this course\, participants will be able to:</p>\n\n<ul>\n	<li data-end="1299" data-start="1231">Understand the critical importance of trench and excavation safety</li>\n	<li data-end="1299" data-start="1231">&#8203\;Identify various soil types and assess their stability</li>\n	<li data-end="1299" data-start="1231">Define key terms such as stratigraphy\, competent soil\, and incompetent soil</li>\n	<li data-end="1299" data-start="1231">Recognize common hazards associated with trenching and how to mitigate them</li>\n	<li data-end="1299" data-start="1231">Know when and how to implement protective systems like shoring and shielding</li>\n	<li data-end="1299" data-start="1231">Apply safe practices for entering and exiting trenches and managing spoils</li>\n	<li data-end="1299" data-start="1231">Understand the responsibilities of individuals working near or within excavations</li>\n	<li data-end="1299" data-start="1231">Follow OSHA-approved procedures to ensure safe work environments</li>\n</ul>\n\n<p data-end="2169" data-start="1835"><strong data-end="1854" data-start="1835">Why It Matters:</strong><br data-end="1857" data-start="1854" />\nMost trench-related incidents are preventable. Collapses often occur due to improper evaluation of soil conditions\, lack of protective systems\, or inadequate hazard awareness. This course provides foundational knowledge that empowers workers and supervisors to make informed\, safety-first decisions in the field.</p>\n\n<p data-end="2519" data-start="2171"><strong data-end="2203" data-start="2171">Understanding Trench Safety:</strong><br data-end="2206" data-start="2203" />\nTrench safety encompasses the OSHA-mandated measures required to protect workers from cave-ins and related hazards. These include sloping or benching trench walls\, installing shoring supports\, and using trench shields. Regular inspection and risk awareness are essential components of a safe excavation operation.</p>\n\n<p data-end="2883" data-start="2521"><strong data-end="2559" data-start="2521">Best Practices for Jobsite Safety:</strong><br data-end="2562" data-start="2559" />\nSafe trench work begins with preparation and awareness. Workers must inspect conditions before entry\, ensure proper access and egress\, and remain alert to environmental changes such as rain or standing water. This training helps build a culture of safety\, where each worker understands their role in preventing accidents.</p>\n
LOCATION:BIA Hawaii 94-487 Akoki St Ste 213 2nd Floor Waipahu\, HI 96797
UID:e.9314.887038
SEQUENCE:3
DTSTAMP:20260421T085745Z
URL:https://members.biahawaii.org/events/details/cancelled-trench-excavation-awareness-887038
END:VEVENT

END:VCALENDAR
