BEGIN:VCALENDAR
VERSION:2.0
PRODID:-//ChamberMaster//Event Calendar 2.0//EN
METHOD:PUBLISH
X-PUBLISHED-TTL:P3D
REFRESH-INTERVAL:P3D
CALSCALE:GREGORIAN
BEGIN:VEVENT
DTSTART:20251010T213000Z
DTEND:20251010T230000Z
X-MICROSOFT-CDO-ALLDAYEVENT:FALSE
SUMMARY:Cancelled: Supervise Your Staff - Week 2
DESCRIPTION:Supervise Your Staff: How to be a Better Employer\n\n \n\nSupervise Your Staff: How to be a Better Employer\n\nThis 6-week course is designed for small business owners who want to reduce stress\, improve team dynamics\, and drive stronger results. You'll gain the leadership skills needed to build a motivated\, engaged team by learning how to hire effectively\, foster a positive work environment\, communicate clearly\, handle performance issues\, and manage a diverse workforce. With practical tools and proven strategies\, you'll be ready to lead your team with confidence and create lasting success for your business.\n\n\n\nWeek 2   Hiring\, Onboarding\, and Training Your Employees\n\nHiring someone new can feel like a gamble. In this session\, you'll learn how to attract the right people\, ask smarter interview questions\, and build a simple onboarding process that helps new staff hit the ground running. We'll also show you how to train employees without having to hand-hold every step of the way.\n\n\n\n---\n\n\n\nA 6-week course for small business owners who want less stress\, better staff\, and stronger results.\n\n\n\n90-Day Follow-Up Coaching Session: Putting It All into Practice (exclusive to those who buy the whole series)\n\nLearning is just the beginning real change happens when you apply it.\n\nThis 90-day follow-up coaching session is designed to help small business owners reflect\, troubleshoot\, and fine-tune the systems they've started building during the course. We'll revisit the core areas of supervision hiring\, communication\, performance\, and culture and check in on what's working\, what's not\, and where to adjust.\n\nWhether you've hit the ground running or still feel stuck in the day-to-day\, this coaching session gives you the accountability\, clarity\, and expert support to lead your team with greater ease and confidence.\n\nBecause managing people doesn't come with a pause button but it should come with support.
X-ALT-DESC;FMTTYPE=text/html:<strong><span style="font-size:16.0pt\;">Supervise Your Staff: How to be a Better Employer</span></strong><br />\n&nbsp\;<br />\nSupervise Your Staff: How to be a Better Employer<br />\nThis 6-week course is designed for small business owners who want to reduce stress\, improve team dynamics\, and drive stronger results. You&rsquo\;ll gain the leadership skills needed to build a motivated\, engaged team by learning how to hire effectively\, foster a positive work environment\, communicate clearly\, handle performance issues\, and manage a diverse workforce. With practical tools and proven strategies\, you&rsquo\;ll be ready to lead your team with confidence and create lasting success for your business.<br />\n<br />\n<strong><span style="font-size:14.0pt\;">Week 2 &ndash\; Hiring\, Onboarding\, and Training Your Employees</span></strong><br />\nHiring someone new can feel like a gamble. In this session\, you&rsquo\;ll learn how to attract the right people\, ask smarter interview questions\, and build a simple onboarding process that helps new staff hit the ground running. We&rsquo\;ll also show you how to train employees without having to hand-hold every step of the way.<br />\n<br />\n---<br />\n<br />\nA 6-week course for small business owners who want less stress\, better staff\, and stronger results.<br />\n<br />\n90-Day Follow-Up Coaching Session: Putting It All into Practice <strong>(exclusive to those who buy the whole series)</strong><br />\nLearning is just the beginning&mdash\;real change happens when you apply it.<br />\nThis 90-day follow-up coaching session is designed to help small business owners reflect\, troubleshoot\, and fine-tune the systems they&rsquo\;ve started building during the course. We&rsquo\;ll revisit the core areas of supervision&mdash\;hiring\, communication\, performance\, and culture&mdash\;and check in on what&rsquo\;s working\, what&rsquo\;s not\, and where to adjust.<br />\nWhether you&rsquo\;ve hit the ground running or still feel stuck in the day-to-day\, this coaching session gives you the accountability\, clarity\, and expert support to lead your team with greater ease and confidence.<br />\nBecause managing people doesn&rsquo\;t come with a pause button&mdash\;but it should come with support.<br />\n&nbsp\;
LOCATION:
UID:e.9314.887170
SEQUENCE:3
DTSTAMP:20260424T172207Z
URL:https://members.biahawaii.org/events/details/cancelled-supervise-your-staff-week-2-887170
END:VEVENT

END:VCALENDAR
