BEGIN:VCALENDAR
VERSION:2.0
PRODID:-//ChamberMaster//Event Calendar 2.0//EN
METHOD:PUBLISH
X-PUBLISHED-TTL:P3D
REFRESH-INTERVAL:P3D
CALSCALE:GREGORIAN
BEGIN:VEVENT
DTSTART:20250726T180000Z
DTEND:20250726T220000Z
X-MICROSOFT-CDO-ALLDAYEVENT:FALSE
SUMMARY:Cancelled: Scaffold User Awareness
DESCRIPTION:This Scaffold User Awareness course provides essential safety knowledge for individuals working with or near scaffolding systems. Tailored for workers\, supervisors\, and safety professionals\, the course addresses the potential hazards of scaffold use and promotes best practices for setup\, operation\, inspection\, and takedown.\n\nParticipants will learn how to recognize and avoid common risks\, ensure scaffold stability\, and comply with industry regulations and safety standards. The course emphasizes real-world applications and provides the knowledge necessary to contribute to a safer job site.\n\nTopics Covered:\n\n\n	Scaffold components and structural anatomy\n	Guidelines for safe and stable setup\n	Safe dismantling procedures\n	Identification and mitigation of common hazards\n	 Scaffold inspection protocols and documentation\n\n\nWhat You'll Learn:\n\n\n\nBy the end of this course\, participants will be able to:\n\n\n	Understand scaffold anatomy and terminology\n	Perform safe setup and takedown of scaffolding\n	Recognize and respond to common safety hazards\n	Conduct thorough scaffold inspections\n	Apply best practices for safe scaffold usage on-site\n\n\nThis course is ideal for anyone responsible for or working around scaffolding\, including construction workers\, foremen\, and site safety managers.
X-ALT-DESC;FMTTYPE=text/html:<p data-end="634" data-start="283">This Scaffold User Awareness course provides essential safety knowledge for individuals working with or near scaffolding systems. Tailored for workers\, supervisors\, and safety professionals\, the course addresses the potential hazards of scaffold use and promotes best practices for setup\, operation\, inspection\, and takedown.</p>\n\n<p data-end="904" data-start="636">Participants will learn how to recognize and avoid common risks\, ensure scaffold stability\, and comply with industry regulations and safety standards. The course emphasizes real-world applications and provides the knowledge necessary to contribute to a safer job site.</p>\n\n<p data-end="927" data-start="906"><strong data-end="925" data-start="906">Topics Covered:</strong></p>\n\n<ul>\n	<li data-end="974" data-start="930">Scaffold components and structural anatomy</li>\n	<li data-end="974" data-start="930">Guidelines for safe and stable setup</li>\n	<li data-end="974" data-start="930">Safe dismantling procedures</li>\n	<li data-end="974" data-start="930">Identification and mitigation of common hazards</li>\n	<li data-end="974" data-start="930">&#8203\;Scaffold inspection protocols and documentation</li>\n</ul>\n\n<p data-end="1236" data-start="1153"><strong data-end="1175" data-start="1153">What You&rsquo\;ll Learn:</strong><br />\n<br data-end="1178" data-start="1175" />\nBy the end of this course\, participants will be able to:</p>\n\n<ul>\n	<li data-end="1284" data-start="1239">Understand scaffold anatomy and terminology</li>\n	<li data-end="1284" data-start="1239">Perform safe setup and takedown of scaffolding</li>\n	<li data-end="1284" data-start="1239">Recognize and respond to common safety hazards</li>\n	<li data-end="1284" data-start="1239">Conduct thorough scaffold inspections</li>\n	<li data-end="1284" data-start="1239">Apply best practices for safe scaffold usage on-site</li>\n</ul>\n\n<p data-end="1632" data-start="1487">This course is ideal for anyone responsible for or working around scaffolding\, including construction workers\, foremen\, and site safety managers.</p>\n
LOCATION:BIA Hawaii 94-487 Akoki St Ste 213 2nd Floor Waipahu\, HI 96797
UID:e.9314.887059
SEQUENCE:3
DTSTAMP:20260425T024335Z
URL:https://members.biahawaii.org/events/details/cancelled-scaffold-user-awareness-887059
END:VEVENT

END:VCALENDAR
