BEGIN:VCALENDAR
VERSION:2.0
PRODID:-//ChamberMaster//Event Calendar 2.0//EN
METHOD:PUBLISH
X-PUBLISHED-TTL:P3D
REFRESH-INTERVAL:P3D
CALSCALE:GREGORIAN
BEGIN:VEVENT
DTSTART:20250818T180000Z
DTEND:20250819T020000Z
X-MICROSOFT-CDO-ALLDAYEVENT:FALSE
SUMMARY:Cancelled: NAHB Estimating and Scheduling for Profitable Business Operations
DESCRIPTION:Instructor:  Michael Strong\n\n\n\nThe ability to effectively prepare for a project is vital to the success of any business.  Project preparation consists of multiple processes that work together and\, when performed effectively\, enable you to increase your efficiency\, achieve greater client satisfaction\, enhance team and vendor relationships and protect profitability.  This course provides you with the knowledge of skills to perform two of the critical processes in project preparation:  estimating costs and creating the schedule to complete the project.\n\n\n\nAs a graduate of this course\, participants will be able to:\n\n1.    Illustrate how estimating and scheduling work together to effectively set up the project\n\n2.    Identify the fundamentals of estimating to identify the costs (not the selling price)\n\n3.    Use spreadsheets and packaged estimating systems\n\n4.    Identify the fundamentals of scheduling\n\n5.    Illustrate the schedule as a key communication tool.\n\n\n\nDIRECTIONS FOR NAHB COURSE REGISTRATION\n\n\n\n1. You will need your own nahb.org username and password to get access to the NAHB course tests.\n\n	If you already have a nahb.org login and you know your username and password\, you may log in directly to nahb.org and skip to number 4. \n\n2. To create a free nahb.org account\, if you do not already have one:\n\n\n	go to the blue box labeled\, New to nahb.org? \n\n3. Complete the online form.\n\n\n	You do not need to have an NAHB PIN number. You can bypass this step by checking the box 'I don't have a PIN' under the PIN field on the form.\n	Once you have created an account\, you will receive an email from NAHB\, requiring you to confirm your account.\n	Once you have confirmed your account\, you can proceed to register for the course. However\, if you do not receive this email or experience any issues\, please contact the NAHB Help Desk at supportnahb@nahb.org or call 202-266-8313.\n\n4. Once you have your username and password\, you may register for the class using the Registration Link provided by the HBA/Site you are registered with.\n\n\n\n5. You will purchase the course by adding it to your cart and proceeding through the prompts.\n\n\n	You will not be charged for the course.\n\n6. You can click on "view purchased item now" to be taken directly to the package. \n\n\n\n7. You can also access your courses by going to www.nahb.org and following these steps:\n\n\n	Sign in using your NAHB.org login information\n	Hover over "Education and Events\n	In the drop down click Professional Development\n	On the following page click "Sign In"\n	Click My Online Learning\n\n8. To access the test\, you will need the verification code from your instructor. You will receive the code at the end of class.\n\n\n\nTECHNICAL SUPPORT:\n\nEmail: supportnahb@nahb.org\n\nCall: 202-266-8313
X-ALT-DESC;FMTTYPE=text/html:<strong><em>Instructor:&nbsp\; Michael Strong</em></strong><br />\n<br />\nThe ability to effectively prepare for a project is vital to the success of any business.&nbsp\; Project preparation consists of multiple processes that work together and\, when performed effectively\, enable you to increase your efficiency\, achieve greater client satisfaction\, enhance team and vendor relationships and protect profitability.&nbsp\; This course provides you with the knowledge of skills to perform two of the critical processes in project preparation:&nbsp\; estimating costs and creating the schedule to complete the project.<br />\n<br />\nAs a graduate of this course\, participants will be able to:<br />\n1.&nbsp\; &nbsp\; Illustrate how estimating and scheduling work together to effectively set up the project<br />\n2.&nbsp\; &nbsp\; Identify the fundamentals of estimating to identify the costs (not the selling price)<br />\n3.&nbsp\; &nbsp\; Use spreadsheets and packaged estimating systems<br />\n4.&nbsp\;&nbsp\;&nbsp\;&nbsp\;Identify the fundamentals of scheduling<br />\n5.&nbsp\; &nbsp\; Illustrate the schedule as a key communication tool.<br />\n<br />\n<span style="box-sizing: border-box\; font-weight: bolder\; color: rgb(37\, 40\, 42)\; font-family: Lora\, sans-serif\; font-size: 16px\;">DIRECTIONS FOR NAHB COURSE REGISTRATION</span><br style="box-sizing: border-box\; color: rgb(37\, 40\, 42)\; font-family: Lora\, sans-serif\; font-size: 16px\;" />\n<br style="box-sizing: border-box\; color: rgb(37\, 40\, 42)\; font-family: Lora\, sans-serif\; font-size: 16px\;" />\n<em style="box-sizing: border-box\; color: rgb(37\, 40\, 42)\; font-family: Lora\, sans-serif\; font-size: 16px\;"><span style="box-sizing: border-box\; font-weight: bolder\;">1. You will need your own nahb.org username and password to get access to the NAHB course tests.</span></em>\n<ul style="box-sizing: border-box\; margin-top: 0px\; margin-bottom: 1rem\; color: rgb(37\, 40\, 42)\; font-family: Lora\, sans-serif\; font-size: 16px\;">\n	<li style="box-sizing: border-box\; margin: 0px\;">If you already have a nahb.org login and you know your username and password\, you may&nbsp\;log in directly to nahb.org and skip to number 4.&nbsp\;</li>\n</ul>\n<em style="box-sizing: border-box\; color: rgb(37\, 40\, 42)\; font-family: Lora\, sans-serif\; font-size: 16px\;"><span style="box-sizing: border-box\; font-weight: bolder\;">2. To create a free nahb.org account\, if you do not already have one:</span></em>\n\n<ul style="box-sizing: border-box\; margin-top: 0px\; margin-bottom: 1rem\; color: rgb(37\, 40\, 42)\; font-family: Lora\, sans-serif\; font-size: 16px\;">\n	<li style="box-sizing: border-box\; margin: 0px\;">go to the blue box labeled\, New to nahb.org?&nbsp\;</li>\n</ul>\n<em style="box-sizing: border-box\; color: rgb(37\, 40\, 42)\; font-family: Lora\, sans-serif\; font-size: 16px\;"><span style="box-sizing: border-box\; font-weight: bolder\;">3. Complete the online form.</span></em>\n\n<ul style="box-sizing: border-box\; margin-top: 0px\; margin-bottom: 1rem\; color: rgb(37\, 40\, 42)\; font-family: Lora\, sans-serif\; font-size: 16px\;">\n	<li style="box-sizing: border-box\; margin: 0px\;">You do not need to have an NAHB PIN number. You can bypass this step by checking the box &lsquo\;I don&rsquo\;t have a PIN&rsquo\; under the PIN field on the form.</li>\n	<li style="box-sizing: border-box\; margin: 0px\;">Once you have created an account\, you will receive an email from NAHB\, requiring you to&nbsp\;confirm your account.</li>\n	<li style="box-sizing: border-box\; margin: 0px\;">Once you have confirmed your account\, you can proceed to register for the course. However\, if you do not receive this email or experience any issues\, please contact the NAHB Help Desk at supportnahb@nahb.org or call 202-266-8313.</li>\n</ul>\n<em style="box-sizing: border-box\; color: rgb(37\, 40\, 42)\; font-family: Lora\, sans-serif\; font-size: 16px\;"><span style="box-sizing: border-box\; font-weight: bolder\;">4. Once you have your username and password\, you may register for the class using the Registration&nbsp\;Link provided by the HBA/Site you are registered with.</span></em><br style="box-sizing: border-box\; color: rgb(37\, 40\, 42)\; font-family: Lora\, sans-serif\; font-size: 16px\;" />\n<br style="box-sizing: border-box\; color: rgb(37\, 40\, 42)\; font-family: Lora\, sans-serif\; font-size: 16px\;" />\n<em style="box-sizing: border-box\; color: rgb(37\, 40\, 42)\; font-family: Lora\, sans-serif\; font-size: 16px\;"><span style="box-sizing: border-box\; font-weight: bolder\;">5. You will purchase the course by adding it to your cart and proceeding through the prompts.</span></em>\n\n<ul style="box-sizing: border-box\; margin-top: 0px\; margin-bottom: 1rem\; color: rgb(37\, 40\, 42)\; font-family: Lora\, sans-serif\; font-size: 16px\;">\n	<li style="box-sizing: border-box\; margin: 0px\;">You will&nbsp\;not be charged for the course.</li>\n</ul>\n<em style="box-sizing: border-box\; color: rgb(37\, 40\, 42)\; font-family: Lora\, sans-serif\; font-size: 16px\;"><span style="box-sizing: border-box\; font-weight: bolder\;">6. You can click on &ldquo\;view purchased item now&rdquo\; to be taken directly to the package.&nbsp\;</span><br style="box-sizing: border-box\;" />\n<br style="box-sizing: border-box\;" />\n<span style="box-sizing: border-box\; font-weight: bolder\;">7. You can also access your courses by going to www.nahb.org and following these steps:</span></em>\n\n<ul style="box-sizing: border-box\; margin-top: 0px\; margin-bottom: 1rem\; color: rgb(37\, 40\, 42)\; font-family: Lora\, sans-serif\; font-size: 16px\;">\n	<li style="box-sizing: border-box\; margin: 0px\;">Sign in using your NAHB.org login information</li>\n	<li style="box-sizing: border-box\; margin: 0px\;">Hover over &ldquo\;Education and Events</li>\n	<li style="box-sizing: border-box\; margin: 0px\;">In the drop down click Professional Development</li>\n	<li style="box-sizing: border-box\; margin: 0px\;">On the following page click &ldquo\;Sign In&rdquo\;</li>\n	<li style="box-sizing: border-box\; margin: 0px\;">Click My Online Learning</li>\n</ul>\n<em style="box-sizing: border-box\; outline: 0px\; color: rgb(37\, 40\, 42)\; font-family: Lora\, sans-serif\; font-size: 16px\;"><span style="box-sizing: border-box\; font-weight: bolder\; outline: 0px\;">8. To access the test\, you will need the verification code from your instructor. You will receive the code&nbsp\;at the end of class.</span></em><br style="box-sizing: border-box\; color: rgb(37\, 40\, 42)\; font-family: Lora\, sans-serif\; font-size: 16px\;" />\n<br style="box-sizing: border-box\; color: rgb(37\, 40\, 42)\; font-family: Lora\, sans-serif\; font-size: 16px\;" />\n<span style="box-sizing: border-box\; font-weight: bolder\; color: rgb(37\, 40\, 42)\; font-family: Lora\, sans-serif\; font-size: 16px\;">TECHNICAL SUPPORT:</span><br style="box-sizing: border-box\; color: rgb(37\, 40\, 42)\; font-family: Lora\, sans-serif\; font-size: 16px\;" />\n<span style="color: rgb(37\, 40\, 42)\; font-family: Lora\, sans-serif\; font-size: 16px\;">Email: supportnahb@nahb.org</span><br style="box-sizing: border-box\; color: rgb(37\, 40\, 42)\; font-family: Lora\, sans-serif\; font-size: 16px\;" />\n<span style="color: rgb(37\, 40\, 42)\; font-family: Lora\, sans-serif\; font-size: 16px\;">Call: 202-266-8313</span>
LOCATION:BIA Hawaii
UID:e.9314.887124
SEQUENCE:3
DTSTAMP:20260425T024557Z
URL:https://members.biahawaii.org/events/details/cancelled-nahb-estimating-and-scheduling-for-profitable-business-operations-08-18-2025-887124
END:VEVENT

END:VCALENDAR
