BEGIN:VCALENDAR
VERSION:2.0
PRODID:-//ChamberMaster//Event Calendar 2.0//EN
METHOD:PUBLISH
X-PUBLISHED-TTL:P3D
REFRESH-INTERVAL:P3D
CALSCALE:GREGORIAN
BEGIN:VEVENT
DTSTART:20250804T180000Z
DTEND:20250805T020000Z
X-MICROSOFT-CDO-ALLDAYEVENT:FALSE
SUMMARY:Cancelled: Mobile Elevating Work Platform(MEWP) 3A/B (HERC)
DESCRIPTION:MEWP Safety Training: 3A & 3B Certification (Scissor & Boom Lifts)\n\n\n\nPrepare your workforce to operate Mobile Elevating Work Platforms (MEWPs) safely and efficiently with our focused training course\, covering the two most common classifications:\n\n	3A (Mobile Vertical)   Scissor lifts\n	3B (Mobile Boom)   Boom lifts\n\nThis course meets OSHA and ANSI A92 standards and is designed for operators and supervisors who work with mobile MEWPs on construction sites\, in warehouses\, or other elevated work environments.\n\n\n\nWhat the Course Covers:\n\n\n	Safety Standards & Compliance: OSHA requirements and ANSI A92 guidelines specific to 3A and 3B MEWPs\n	Pre-Use Inspection & Maintenance: How to conduct daily checks and identify hazards\n	Safe Operation Techniques: Best practices for maneuvering\, setup\, elevation\, and descent\n	Emergency Procedures: Fall protection\, safe shutdowns\, and what to do in case of equipment failure\n	Operator Responsibilities: Load capacity awareness\, hazard recognition\, and stability control\n\nWhy It Matters: MEWP-related incidents are preventable with proper training. This course equips your team to work safely at heights\, reduce downtime\, and ensure full compliance with OSHA and ANSI regulations.
X-ALT-DESC;FMTTYPE=text/html:<strong>MEWP Safety Training: 3A &amp\; 3B Certification (Scissor &amp\; Boom Lifts)</strong><br />\n<br />\nPrepare your workforce to operate Mobile Elevating Work Platforms (MEWPs) safely and efficiently with our focused training course\, covering the two most common classifications:\n<ul>\n	<li>3A (Mobile Vertical) &ndash\; Scissor lifts</li>\n	<li>3B (Mobile Boom) &ndash\; Boom lifts</li>\n</ul>\nThis course meets OSHA and ANSI A92 standards and is designed for operators and supervisors who work with mobile MEWPs on construction sites\, in warehouses\, or other elevated work environments.<br />\n<br />\n<strong>What the Course Covers:</strong>\n\n<ul>\n	<li>Safety Standards &amp\; Compliance: OSHA requirements and ANSI A92 guidelines specific to 3A and 3B MEWPs</li>\n	<li>Pre-Use Inspection &amp\; Maintenance: How to conduct daily checks and identify hazards</li>\n	<li>Safe Operation Techniques: Best practices for maneuvering\, setup\, elevation\, and descent</li>\n	<li>Emergency Procedures: Fall protection\, safe shutdowns\, and what to do in case of equipment failure</li>\n	<li>Operator Responsibilities: Load capacity awareness\, hazard recognition\, and stability control</li>\n</ul>\n<strong>Why It Matters:</strong> MEWP-related incidents are preventable with proper training. This course equips your team to work safely at heights\, reduce downtime\, and ensure full compliance with OSHA and ANSI regulations.
LOCATION:BIA Hawaii 94-487 Akoki St Ste 213 2nd Floor Waipahu\, HI 96797
UID:e.9314.887041
SEQUENCE:3
DTSTAMP:20260425T024349Z
URL:https://members.biahawaii.org/events/details/cancelled-mobile-elevating-work-platform-mewp-3a-b-herc-887041
END:VEVENT

END:VCALENDAR
