BEGIN:VCALENDAR
VERSION:2.0
PRODID:-//ChamberMaster//Event Calendar 2.0//EN
METHOD:PUBLISH
X-PUBLISHED-TTL:P3D
REFRESH-INTERVAL:P3D
CALSCALE:GREGORIAN
BEGIN:VEVENT
DTSTART:20250710T180000Z
DTEND:20250710T220000Z
X-MICROSOFT-CDO-ALLDAYEVENT:FALSE
SUMMARY:Cancelled: Machine Guarding
DESCRIPTION:Machine guarding classes teach the importance of machine guarding and how to prevent injuries.
X-ALT-DESC;FMTTYPE=text/html:Machine guarding classes teach the importance of machine guarding and how to prevent injuries.<br />\n&nbsp\;
LOCATION:BIA Hawaii 94-487 Akoki St Ste 213 2nd Floor Waipahu\, HI 96797
UID:e.9314.887052
SEQUENCE:3
DTSTAMP:20260425T024354Z
URL:https://members.biahawaii.org/events/details/cancelled-machine-guarding-07-10-2025-887052
END:VEVENT

END:VCALENDAR
