BEGIN:VCALENDAR
VERSION:2.0
PRODID:-//ChamberMaster//Event Calendar 2.0//EN
METHOD:PUBLISH
X-PUBLISHED-TTL:P3D
REFRESH-INTERVAL:P3D
CALSCALE:GREGORIAN
BEGIN:VEVENT
DTSTART:20250806T180000Z
DTEND:20250806T220000Z
X-MICROSOFT-CDO-ALLDAYEVENT:FALSE
SUMMARY:Cancelled: Lockout/Tagout
DESCRIPTION:: Proper lockout/tagout (LOTO) practices and procedures safeguard workers from hazardous energy releases. OSHA Lockout/Tagout Fact sheet describes the practices and procedures necessary to disable machinery or equipment to prevent hazardous energy release.
X-ALT-DESC;FMTTYPE=text/html:: Proper lockout/tagout (LOTO) practices and procedures safeguard workers from hazardous energy releases. OSHA Lockout/Tagout Fact sheet describes the practices and procedures necessary to disable machinery or equipment to prevent hazardous energy release.<br />\n&nbsp\;
LOCATION:BIA Hawaii 94-487 Akoki St Ste 213 2nd Floor Waipahu\, HI 96797
UID:e.9314.887060
SEQUENCE:3
DTSTAMP:20260425T011113Z
URL:https://members.biahawaii.org/events/details/cancelled-lockout-tagout-08-06-2025-887060
END:VEVENT

END:VCALENDAR
