BEGIN:VCALENDAR
VERSION:2.0
PRODID:-//ChamberMaster//Event Calendar 2.0//EN
METHOD:PUBLISH
X-PUBLISHED-TTL:P3D
REFRESH-INTERVAL:P3D
CALSCALE:GREGORIAN
BEGIN:VEVENT
DTSTART:20250702T180000Z
DTEND:20250703T020000Z
X-MICROSOFT-CDO-ALLDAYEVENT:FALSE
SUMMARY:Cancelled: Lead Safety for Renovation\, Repair\, and Painting
DESCRIPTION:A lead safety renovation\, repair\, and painting class teaches how to work safely with lead-based paint in a way that complies with the EPA's Renovation\, Repair\, and Painting (RRP) Rule and the HUD's Lead Sade Housing Rule (LSHR).
X-ALT-DESC;FMTTYPE=text/html:A lead safety renovation\, repair\, and painting class teaches how to work safely with lead-based paint in a way that complies with the EPA&#39\;s Renovation\, Repair\, and Painting (RRP) Rule and the HUD&#39\;s Lead Sade Housing Rule (LSHR).<br />\n&nbsp\;
LOCATION:BIA Hawaii 94-487 Akoki St Ste 213 2nd Floor Waipahu\, HI 96797
UID:e.9314.887050
SEQUENCE:3
DTSTAMP:20260425T024633Z
URL:https://members.biahawaii.org/events/details/cancelled-lead-safety-for-renovation-repair-and-painting-07-02-2025-887050
END:VEVENT

END:VCALENDAR
