BEGIN:VCALENDAR
VERSION:2.0
PRODID:-//ChamberMaster//Event Calendar 2.0//EN
METHOD:PUBLISH
X-PUBLISHED-TTL:P3D
REFRESH-INTERVAL:P3D
CALSCALE:GREGORIAN
BEGIN:VEVENT
DTSTART:20250723T180000Z
DTEND:20250723T220000Z
X-MICROSOFT-CDO-ALLDAYEVENT:FALSE
SUMMARY:Cancelled: Heat Stress
DESCRIPTION:This course covers the signs\, symptoms and treatment of heat-related illnesses and how to prevent them from happening.
X-ALT-DESC;FMTTYPE=text/html:This course covers the signs\, symptoms and treatment of heat-related illnesses and how to prevent them from happening.<br />\n&nbsp\;
LOCATION:BIA Hawaii 94-487 Akoki St Ste 213 2nd Floor Waipahu\, HI 96797
UID:e.9314.887058
SEQUENCE:3
DTSTAMP:20260425T024557Z
URL:https://members.biahawaii.org/events/details/cancelled-heat-stress-07-23-2025-887058
END:VEVENT

END:VCALENDAR
