BEGIN:VCALENDAR
VERSION:2.0
PRODID:-//ChamberMaster//Event Calendar 2.0//EN
METHOD:PUBLISH
X-PUBLISHED-TTL:P3D
REFRESH-INTERVAL:P3D
CALSCALE:GREGORIAN
BEGIN:VEVENT
DTSTART:20250711T180000Z
DTEND:20250711T220000Z
X-MICROSOFT-CDO-ALLDAYEVENT:FALSE
SUMMARY:Cancelled: Forklift Training
DESCRIPTION:Forklift Training\n\nThis safety-focused training course provides essential instruction for individuals who operate or work near forklifts in construction sites\, warehouses\, and similar environments. Operating a forklift presents a unique set of hazards\, and proper training is critical to ensuring a safe workplace.\n\nParticipants will learn to recognize and mitigate risks associated with forklift operation\, including vehicle inspections\, safe handling procedures\, and the use of personal protective equipment (PPE). The course is designed to meet Occupational Safety and Health Administration (OSHA) requirements for forklift safety training and includes instruction on:\n\n\n	\n	Forklift operation principles and safety protocols\n	\n	\n	Inspection and maintenance of powered industrial trucks\n	\n	\n	Hazard recognition and prevention\n	\n	\n	Communication methods\, including hand signals\n	\n	\n	Lockout/Tagout procedures\n	\n	\n	Safety considerations for pedestrians working near forklifts\n	\n\n\nThis course is suitable for both forklift operators and personnel who work in environments where forklifts are in use. Operators will gain practical safety knowledge related to equipment handling\, while non-operators will learn how to safely navigate workspaces where forklifts are present.\n\nUpon successful completion\, participants will receive a certificate of completion verifying their training in forklift safety. This course does not provide an official operator certification or license but serves as a foundational training component required by many employers.
X-ALT-DESC;FMTTYPE=text/html:<p data-end="110" data-start="89"><strong data-end="110" data-start="89">Forklift Training</strong></p>\n\n<p data-end="407" data-start="112">This safety-focused training course provides essential instruction for individuals who operate or work near forklifts in construction sites\, warehouses\, and similar environments. Operating a forklift presents a unique set of hazards\, and proper training is critical to ensuring a safe workplace.</p>\n\n<p data-end="764" data-start="409">Participants will learn to recognize and mitigate risks associated with forklift operation\, including vehicle inspections\, safe handling procedures\, and the use of personal protective equipment (PPE). The course is designed to meet Occupational Safety and Health Administration (OSHA) requirements for forklift safety training and includes instruction on:</p>\n\n<ul data-end="1063" data-start="766">\n	<li data-end="820" data-start="766">\n	<p data-end="820" data-start="768">Forklift operation principles and safety protocols</p>\n	</li>\n	<li data-end="880" data-start="821">\n	<p data-end="880" data-start="823">Inspection and maintenance of powered industrial trucks</p>\n	</li>\n	<li data-end="918" data-start="881">\n	<p data-end="918" data-start="883">Hazard recognition and prevention</p>\n	</li>\n	<li data-end="968" data-start="919">\n	<p data-end="968" data-start="921">Communication methods\, including hand signals</p>\n	</li>\n	<li data-end="998" data-start="969">\n	<p data-end="998" data-start="971">Lockout/Tagout procedures</p>\n	</li>\n	<li data-end="1063" data-start="999">\n	<p data-end="1063" data-start="1001">Safety considerations for pedestrians working near forklifts</p>\n	</li>\n</ul>\n\n<p data-end="1355" data-start="1065">This course is suitable for both forklift operators and personnel who work in environments where forklifts are in use. Operators will gain practical safety knowledge related to equipment handling\, while non-operators will learn how to safely navigate workspaces where forklifts are present.</p>\n\n<p data-end="1638" data-start="1357">Upon successful completion\, participants will receive a certificate of completion verifying their training in forklift safety. This course does <strong data-end="1508" data-start="1501">not</strong> provide an official operator certification or license but serves as a foundational training component required by many employers.</p>\n
LOCATION:BIA Hawaii 94-487 Akoki St Ste 213 2nd Floor Waipahu\, HI 96797
UID:e.9314.887054
SEQUENCE:3
DTSTAMP:20260425T024349Z
URL:https://members.biahawaii.org/events/details/cancelled-forklift-training-887054
END:VEVENT

END:VCALENDAR
