BEGIN:VCALENDAR
VERSION:2.0
PRODID:-//ChamberMaster//Event Calendar 2.0//EN
METHOD:PUBLISH
X-PUBLISHED-TTL:P3D
REFRESH-INTERVAL:P3D
CALSCALE:GREGORIAN
BEGIN:VEVENT
DTSTART:20250815T180000Z
DTEND:20250815T220000Z
X-MICROSOFT-CDO-ALLDAYEVENT:FALSE
SUMMARY:Cancelled: Fire Safety
DESCRIPTION:A fire safety class is a structured program that teaches people how to prevent\, respond to\, and reduce the risk of fires.
X-ALT-DESC;FMTTYPE=text/html:A fire safety class is a structured program that teaches people how to prevent\, respond to\, and reduce the risk of fires.<br />\n&nbsp\;
LOCATION:BIA Hawaii 94-487 Akoki St Ste 213 2nd Floor Waipahu\, HI 96797
UID:e.9314.887062
SEQUENCE:3
DTSTAMP:20260425T024604Z
URL:https://members.biahawaii.org/events/details/cancelled-fire-safety-08-15-2025-887062
END:VEVENT

END:VCALENDAR
