BEGIN:VCALENDAR
VERSION:2.0
PRODID:-//ChamberMaster//Event Calendar 2.0//EN
METHOD:PUBLISH
X-PUBLISHED-TTL:P3D
REFRESH-INTERVAL:P3D
CALSCALE:GREGORIAN
BEGIN:VEVENT
DTSTART:20250320T180000Z
DTEND:20250320T220000Z
X-MICROSOFT-CDO-ALLDAYEVENT:FALSE
SUMMARY:Cancelled: Ergonomics
DESCRIPTION:Ergonomics awareness training can help employees:\n\n\n\n\n\n	Learn how to report early symptoms of MSDs \n\n	\n	\n	\n	\n	\n	\n	\n\n	\n	 \n	\n	\n\n\n\n\n	Learn about risk factors and signs of musculoskeletal disorders (MSDs) \n\n	\n	\n	\n	\n	\n	\n	\n\n	\n	 \n	\n	\n	Learn how to design and arrange their workspaces \n	\n	\n	\n	\n	\n	\n	\n\n	\n	 \n	\n	\n	Learn proper lifting techniques and body mechanics \n	\n	\n	\n	\n	\n	\n	\n\n	\n	 \n	\n	\n\n\n\n\n\nErgonomics awareness training can help organizations: Protect employee health\, Improve workplace safety\, Boost productivity\, Lower healthcare costs\, and Improve employee morale. \n\n\n\n\n\n\n\n\n\n\n \n\n\n\n\n\n\n\nSome tips for effective ergonomics training include: Being hands-on\, Following up with ongoing classroom sessions and one-on-one training
X-ALT-DESC;FMTTYPE=text/html:<div class="WaaZC" style="color: rgb(0\, 29\, 53)\; font-family: &quot\;Google Sans&quot\;\, Roboto\, Arial\, sans-serif\; font-size: 18px\;">\n<div class="rPeykc uP58nb" data-hveid="CAcQAQ" data-ved="2ahUKEwjc-cmHz-6JAxUOl-4BHVBFLMoQo_EKegQIBxAB" style="margin: 20px 0px 10px\; letter-spacing: 0px\; line-height: 26px\;"><span aria-level="2" role="heading">Ergonomics awareness training can help employees:</span></div>\n</div>\n\n<div class="WaaZC" style="color: rgb(0\, 29\, 53)\; font-family: &quot\;Google Sans&quot\;\, Roboto\, Arial\, sans-serif\; font-size: 18px\;">\n<div class="bsmXxe" id="cMc_Z9yBF46uur8P0Iqx0Qw__13" style="display: contents\;">\n<ul>\n	<li style="margin: 0px\; padding: 0px 0px 0px 4px\; list-style: inherit\;">Learn how to report early symptoms of MSDs<span class="UV3uM" style="text-wrap-mode: nowrap\;">&nbsp\;</span>\n\n	<div class="NPrrbc" data-cid="_cMc_Z9yBF46uur8P0Iqx0Qw_118" style="margin-right: 6px\; display: inline-flex\; vertical-align: middle\;">\n	<div aria-label="View related links" class="BMebGe btku5b k0Jjg fCrZyc LwdV0e FR7ZSc OJeuxf" data-hveid="CIIBEAE" data-ved="2ahUKEwjc-cmHz-6JAxUOl-4BHVBFLMoQ3fYKegUIggEQAQ" jsaction="click:trigger.YbaXcb\;" jsname="HtgYJd" role="button" style="display: inline-block\; vertical-align: middle\; cursor: pointer\; outline: 0px\; -webkit-tap-highlight-color: transparent\; color: var(--rrJJUc)\;" tabindex="0">\n	<div class="niO4u" style="display: flex\; justify-content: center\; position: relative\; align-items: stretch\; width: 28px\; outline: 1px solid var(--Yi4Nb)\; background-color: transparent\; border-radius: 9999px\; margin: 0px auto\; outline-offset: -1px\; height: 20px\; min-height: 20px\;">\n	<div class="kHtcsd" style="display: flex\; align-items: center\; justify-content: center\; width: 28px\; border-radius: 9999px\; height: 20px\;"><span class="UV3uM" style="text-wrap-mode: nowrap\;"><span class="d3o3Ad gJdC8e Hkv2Pe" style="color: rgb(11\, 87\, 208)\; background: unset !important\; display: flex\; align-items: center\; margin: 0px\;"><span class="iPjmzb Sorfoc gNGSDf" style="display: flex\; height: unset\; rotate: 135deg\;"><span class="z1asCe Sb7k4e" style="display: inline-block\; fill: currentcolor\; height: 18px\; line-height: 18px\; position: relative\; width: 18px\;"><svg focusable="false" viewbox="0 0 24 24" xmlns="http://www.w3.org/2000/svg"><path d="M3.9 12c0-1.71 1.39-3.1 3.1-3.1h4V7H7c-2.76 0-5 2.24-5 5s2.24 5 5 5h4v-1.9H7c-1.71 0-3.1-1.39-3.1-3.1zM8 13h8v-2H8v2zm9-6h-4v1.9h4c1.71 0 3.1 1.39 3.1 3.1s-1.39 3.1-3.1 3.1h-4V17h4c2.76 0 5-2.24 5-5s-2.24-5-5-5z"></path></svg></span></span></span></span></div>\n	</div>\n	</div>\n	</div>\n\n	<div class="acn1Z Kwoiqd" style="position: absolute\; width: 632px\;">\n	<div class="Kwoiqd">&nbsp\;</div>\n	</div>\n	</li>\n</ul>\n</div>\n\n<ul data-hveid="CBEQAQ" data-ved="2ahUKEwjc-cmHz-6JAxUOl-4BHVBFLMoQm_YKegQIERAB" jsaction="jZtoLb:SaHfyb" jscontroller="M2ABbc" style="margin: 10px 0px 20px\; padding-right: 0px\; padding-left: 24px\; font-size: 16px\; line-height: 22px\;">\n	<li style="margin: 0px 0px 8px\; padding: 0px 0px 0px 4px\; list-style: inherit\;">Learn about risk factors and signs of musculoskeletal disorders (MSDs)<span class="UV3uM" style="text-wrap-mode: nowrap\;">&nbsp\;</span>\n\n	<div class="NPrrbc" data-cid="_cMc_Z9yBF46uur8P0Iqx0Qw_17" style="margin-right: 6px\; display: inline-flex\; vertical-align: middle\;">\n	<div aria-label="View related links" class="BMebGe btku5b k0Jjg fCrZyc LwdV0e FR7ZSc OJeuxf" data-hveid="CA8QAQ" data-ved="2ahUKEwjc-cmHz-6JAxUOl-4BHVBFLMoQ3fYKegQIDxAB" jsaction="click:trigger.YbaXcb\;" jsname="HtgYJd" role="button" style="display: inline-block\; vertical-align: middle\; cursor: pointer\; outline: 0px\; -webkit-tap-highlight-color: transparent\; color: var(--rrJJUc)\;" tabindex="0">\n	<div class="niO4u" style="display: flex\; justify-content: center\; position: relative\; align-items: stretch\; width: 28px\; outline: 1px solid var(--Yi4Nb)\; background-color: transparent\; border-radius: 9999px\; margin: 0px auto\; outline-offset: -1px\; height: 20px\; min-height: 20px\;">\n	<div class="kHtcsd" style="display: flex\; align-items: center\; justify-content: center\; width: 28px\; border-radius: 9999px\; height: 20px\;"><span class="UV3uM" style="text-wrap-mode: nowrap\;"><span class="d3o3Ad gJdC8e Hkv2Pe" style="color: rgb(11\, 87\, 208)\; background: unset !important\; display: flex\; align-items: center\; margin: 0px\;"><span class="iPjmzb Sorfoc gNGSDf" style="display: flex\; height: unset\; rotate: 135deg\;"><span class="z1asCe Sb7k4e" style="display: inline-block\; fill: currentcolor\; height: 18px\; line-height: 18px\; position: relative\; width: 18px\;"><svg focusable="false" viewbox="0 0 24 24" xmlns="http://www.w3.org/2000/svg"><path d="M3.9 12c0-1.71 1.39-3.1 3.1-3.1h4V7H7c-2.76 0-5 2.24-5 5s2.24 5 5 5h4v-1.9H7c-1.71 0-3.1-1.39-3.1-3.1zM8 13h8v-2H8v2zm9-6h-4v1.9h4c1.71 0 3.1 1.39 3.1 3.1s-1.39 3.1-3.1 3.1h-4V17h4c2.76 0 5-2.24 5-5s-2.24-5-5-5z"></path></svg></span></span></span></span></div>\n	</div>\n	</div>\n	</div>\n\n	<div class="acn1Z Kwoiqd" style="position: absolute\; width: 632px\;">\n	<div class="Kwoiqd">&nbsp\;</div>\n	</div>\n	</li>\n	<li style="margin: 0px 0px 8px\; padding: 0px 0px 0px 4px\; list-style: inherit\;">Learn how to design and arrange their workspaces<span class="UV3uM" style="text-wrap-mode: nowrap\;">&nbsp\;</span>\n	<div class="NPrrbc" data-cid="_cMc_Z9yBF46uur8P0Iqx0Qw_18" style="margin-right: 6px\; display: inline-flex\; vertical-align: middle\;">\n	<div aria-label="View related links" class="BMebGe btku5b k0Jjg fCrZyc LwdV0e FR7ZSc OJeuxf" data-hveid="CBAQAQ" data-ved="2ahUKEwjc-cmHz-6JAxUOl-4BHVBFLMoQ3fYKegQIEBAB" jsaction="click:trigger.YbaXcb\;" jsname="HtgYJd" role="button" style="display: inline-block\; vertical-align: middle\; cursor: pointer\; outline: 0px\; -webkit-tap-highlight-color: transparent\; color: var(--rrJJUc)\;" tabindex="0">\n	<div class="niO4u" style="display: flex\; justify-content: center\; position: relative\; align-items: stretch\; width: 28px\; outline: 1px solid var(--Yi4Nb)\; background-color: transparent\; border-radius: 9999px\; margin: 0px auto\; outline-offset: -1px\; height: 20px\; min-height: 20px\;">\n	<div class="kHtcsd" style="display: flex\; align-items: center\; justify-content: center\; width: 28px\; border-radius: 9999px\; height: 20px\;"><span class="UV3uM" style="text-wrap-mode: nowrap\;"><span class="d3o3Ad gJdC8e Hkv2Pe" style="color: rgb(11\, 87\, 208)\; background: unset !important\; display: flex\; align-items: center\; margin: 0px\;"><span class="iPjmzb Sorfoc gNGSDf" style="display: flex\; height: unset\; rotate: 135deg\;"><span class="z1asCe Sb7k4e" style="display: inline-block\; fill: currentcolor\; height: 18px\; line-height: 18px\; position: relative\; width: 18px\;"><svg focusable="false" viewbox="0 0 24 24" xmlns="http://www.w3.org/2000/svg"><path d="M3.9 12c0-1.71 1.39-3.1 3.1-3.1h4V7H7c-2.76 0-5 2.24-5 5s2.24 5 5 5h4v-1.9H7c-1.71 0-3.1-1.39-3.1-3.1zM8 13h8v-2H8v2zm9-6h-4v1.9h4c1.71 0 3.1 1.39 3.1 3.1s-1.39 3.1-3.1 3.1h-4V17h4c2.76 0 5-2.24 5-5s-2.24-5-5-5z"></path></svg></span></span></span></span></div>\n	</div>\n	</div>\n	</div>\n\n	<div class="acn1Z Kwoiqd" style="position: absolute\; width: 632px\;">\n	<div class="Kwoiqd">&nbsp\;</div>\n	</div>\n	</li>\n	<li style="margin: 0px 0px 8px\; padding: 0px 0px 0px 4px\; list-style: inherit\;">Learn proper lifting techniques and body mechanics<span class="UV3uM" style="text-wrap-mode: nowrap\;">&nbsp\;</span>\n	<div class="NPrrbc" data-cid="_cMc_Z9yBF46uur8P0Iqx0Qw_16" style="margin-right: 6px\; display: inline-flex\; vertical-align: middle\;">\n	<div aria-label="View related links" class="BMebGe btku5b k0Jjg fCrZyc LwdV0e FR7ZSc OJeuxf" data-hveid="CA4QAQ" data-ved="2ahUKEwjc-cmHz-6JAxUOl-4BHVBFLMoQ3fYKegQIDhAB" jsaction="click:trigger.YbaXcb\;" jsname="HtgYJd" role="button" style="display: inline-block\; vertical-align: middle\; cursor: pointer\; outline: 0px\; -webkit-tap-highlight-color: transparent\; color: var(--rrJJUc)\;" tabindex="0">\n	<div class="niO4u" style="display: flex\; justify-content: center\; position: relative\; align-items: stretch\; width: 28px\; outline: 1px solid var(--Yi4Nb)\; background-color: transparent\; border-radius: 9999px\; margin: 0px auto\; outline-offset: -1px\; height: 20px\; min-height: 20px\;">\n	<div class="kHtcsd" style="display: flex\; align-items: center\; justify-content: center\; width: 28px\; border-radius: 9999px\; height: 20px\;"><span class="UV3uM" style="text-wrap-mode: nowrap\;"><span class="d3o3Ad gJdC8e Hkv2Pe" style="color: rgb(11\, 87\, 208)\; background: unset !important\; display: flex\; align-items: center\; margin: 0px\;"><span class="iPjmzb Sorfoc gNGSDf" style="display: flex\; height: unset\; rotate: 135deg\;"><span class="z1asCe Sb7k4e" style="display: inline-block\; fill: currentcolor\; height: 18px\; line-height: 18px\; position: relative\; width: 18px\;"><svg focusable="false" viewbox="0 0 24 24" xmlns="http://www.w3.org/2000/svg"><path d="M3.9 12c0-1.71 1.39-3.1 3.1-3.1h4V7H7c-2.76 0-5 2.24-5 5s2.24 5 5 5h4v-1.9H7c-1.71 0-3.1-1.39-3.1-3.1zM8 13h8v-2H8v2zm9-6h-4v1.9h4c1.71 0 3.1 1.39 3.1 3.1s-1.39 3.1-3.1 3.1h-4V17h4c2.76 0 5-2.24 5-5s-2.24-5-5-5z"></path></svg></span></span></span></span></div>\n	</div>\n	</div>\n	</div>\n\n	<div class="acn1Z Kwoiqd" style="position: absolute\; width: 632px\;">\n	<div class="Kwoiqd">&nbsp\;</div>\n	</div>\n	</li>\n</ul>\n</div>\n\n<div class="WaaZC" style="color: rgb(0\, 29\, 53)\; font-family: &quot\;Google Sans&quot\;\, Roboto\, Arial\, sans-serif\; font-size: 18px\;">\n<div class="bsmXxe" id="cMc_Z9yBF46uur8P0Iqx0Qw__21" style="display: contents\;">\n<div class="rPeykc" data-hveid="CIoBEAE" data-ved="2ahUKEwjc-cmHz-6JAxUOl-4BHVBFLMoQo_EKegUIigEQAQ" style="margin: 10px 0px 20px\;">Ergonomics awareness training can help organizations:&nbsp\;Protect employee health\, Improve workplace safety\, Boost productivity\, Lower healthcare costs\, and Improve employee morale.<span class="UV3uM" style="text-wrap-mode: nowrap\;">&nbsp\;</span>\n\n<div class="NPrrbc" data-cid="_cMc_Z9yBF46uur8P0Iqx0Qw_120" style="margin-right: 6px\; display: inline-flex\; vertical-align: middle\;">\n<div aria-label="View related links" class="BMebGe btku5b k0Jjg fCrZyc LwdV0e FR7ZSc OJeuxf" data-hveid="CIcBEAE" data-ved="2ahUKEwjc-cmHz-6JAxUOl-4BHVBFLMoQ3fYKegUIhwEQAQ" jsaction="click:trigger.YbaXcb\;" jsname="HtgYJd" role="button" style="display: inline-block\; vertical-align: middle\; cursor: pointer\; outline: 0px\; -webkit-tap-highlight-color: transparent\; color: var(--rrJJUc)\;" tabindex="0">\n<div class="niO4u" style="display: flex\; justify-content: center\; position: relative\; align-items: stretch\; width: 28px\; outline: 1px solid var(--Yi4Nb)\; background-color: transparent\; border-radius: 9999px\; margin: 0px auto\; outline-offset: -1px\; height: 20px\; min-height: 20px\;">\n<div class="kHtcsd" style="display: flex\; align-items: center\; justify-content: center\; width: 28px\; border-radius: 9999px\; height: 20px\;"><span class="UV3uM" style="text-wrap-mode: nowrap\;"><span class="d3o3Ad gJdC8e Hkv2Pe" style="color: rgb(11\, 87\, 208)\; background: unset !important\; display: flex\; align-items: center\; margin: 0px\;"><span class="iPjmzb Sorfoc gNGSDf" style="display: flex\; height: unset\; rotate: 135deg\;"><span class="z1asCe Sb7k4e" style="display: inline-block\; fill: currentcolor\; height: 18px\; line-height: 18px\; position: relative\; width: 18px\;"><svg focusable="false" viewbox="0 0 24 24" xmlns="http://www.w3.org/2000/svg"><path d="M3.9 12c0-1.71 1.39-3.1 3.1-3.1h4V7H7c-2.76 0-5 2.24-5 5s2.24 5 5 5h4v-1.9H7c-1.71 0-3.1-1.39-3.1-3.1zM8 13h8v-2H8v2zm9-6h-4v1.9h4c1.71 0 3.1 1.39 3.1 3.1s-1.39 3.1-3.1 3.1h-4V17h4c2.76 0 5-2.24 5-5s-2.24-5-5-5z"></path></svg></span></span></span></span></div>\n</div>\n</div>\n</div>\n\n<div class="acn1Z Kwoiqd" style="position: absolute\; width: 632px\;">\n<div class="Kwoiqd">&nbsp\;</div>\n</div>\n</div>\n</div>\n</div>\n\n<div class="WaaZC" style="color: rgb(0\, 29\, 53)\; font-family: &quot\;Google Sans&quot\;\, Roboto\, Arial\, sans-serif\; font-size: 18px\;">\n<div class="bsmXxe" id="cMc_Z9yBF46uur8P0Iqx0Qw__16" style="display: contents\;">\n<div class="rPeykc" data-hveid="CIkBEAE" data-ved="2ahUKEwjc-cmHz-6JAxUOl-4BHVBFLMoQo_EKegUIiQEQAQ" style="margin: 10px 0px 20px\;">Some tips for effective ergonomics training include:&nbsp\;Being hands-on\, Following up with ongoing classroom sessions and one-on-one training</div>\n</div>\n</div>\n
LOCATION:BIA Hawaii 94-487 Akoki St Ste 213 2nd Floor Waipahu\, HI 96797
UID:e.9314.887024
SEQUENCE:3
DTSTAMP:20260425T103804Z
URL:https://members.biahawaii.org/events/details/cancelled-ergonomics-887024
END:VEVENT

END:VCALENDAR
