BEGIN:VCALENDAR
VERSION:2.0
PRODID:-//ChamberMaster//Event Calendar 2.0//EN
METHOD:PUBLISH
X-PUBLISHED-TTL:P3D
REFRESH-INTERVAL:P3D
CALSCALE:GREGORIAN
BEGIN:VEVENT
DTSTART:20250820T180000Z
DTEND:20250820T220000Z
X-MICROSOFT-CDO-ALLDAYEVENT:FALSE
SUMMARY:Cancelled: Electrical Safety
DESCRIPTION:Electrical safety classes to indicate how well an electrical appliance protects the user from electric shock.
X-ALT-DESC;FMTTYPE=text/html:Electrical safety classes to indicate how well an electrical appliance protects the user from electric shock.<br />\n&nbsp\;
LOCATION:BIA Hawaii 94-487 Akoki St Ste 213 2nd Floor Waipahu\, HI 96797
UID:e.9314.887063
SEQUENCE:3
DTSTAMP:20260425T010948Z
URL:https://members.biahawaii.org/events/details/cancelled-electrical-safety-08-20-2025-887063
END:VEVENT

END:VCALENDAR
