BEGIN:VCALENDAR
VERSION:2.0
PRODID:-//ChamberMaster//Event Calendar 2.0//EN
METHOD:PUBLISH
X-PUBLISHED-TTL:P3D
REFRESH-INTERVAL:P3D
CALSCALE:GREGORIAN
BEGIN:VEVENT
DTSTART:20250328T190000Z
DTEND:20250328T220000Z
X-MICROSOFT-CDO-ALLDAYEVENT:FALSE
SUMMARY:Cancelled: CPR/First Aid (HYBRID)
DESCRIPTION:Adult First Aid/CPR/AED (Blended Learning)\n\nThis course prepares students to recognize and respond to a variety of first aid\, breathing\, and cardiac emergencies involving adults. Designed for individuals who need certification to meet OSHA\, workplace\, or other regulatory requirements\, the course is offered in a blended learning format. Students must complete the online portion (accessible via mobile\, desktop\, or tablet) before attending the instructor-led skills session. Upon successful completion\, participants will receive a valid 2-year digital certification in Adult and Pediatric First Aid/CPR/AED.\n\n\n\nAdd-On: Adult & Pediatric First Aid/CPR/AED   $175\n\nExpand your certification to include care for children and infants. This course covers first aid\, breathing\, and cardiac emergencies for all ages\, following the same blended learning format. Students must complete the online portion before attending the in-person skills session. Upon successful completion\, participants will receive a valid 2-year digital certification in Adult and Pediatric First Aid/CPR/AED.\n\n\n\nAdditional Course: Bloodborne Pathogens   $50 per person\n\nThis course is designed for individuals at risk of occupational exposure to blood and other potentially infectious materials. It covers how bloodborne pathogens are spread\, methods for preventing exposure\, and steps to take if exposure occurs. This training meets OSHA Bloodborne Pathogens Standard requirements. Participants should consult their employer about workplace-specific policies and procedures. Upon completion\, students will receive a 1-year Bloodborne Pathogens Training certification.
X-ALT-DESC;FMTTYPE=text/html:<strong>Adult First Aid/CPR/AED (Blended Learning)</strong><br />\nThis course prepares students to recognize and respond to a variety of first aid\, breathing\, and cardiac emergencies involving adults. Designed for individuals who need certification to meet OSHA\, workplace\, or other regulatory requirements\, the course is offered in a blended learning format. Students must complete the online portion (accessible via mobile\, desktop\, or tablet) before attending the instructor-led skills session. Upon successful completion\, participants will receive a valid 2-year digital certification in Adult and Pediatric First Aid/CPR/AED.<br />\n<br />\n<strong>Add-On: Adult &amp\; Pediatric First Aid/CPR/AED &ndash\; $175</strong><br />\nExpand your certification to include care for children and infants. This course covers first aid\, breathing\, and cardiac emergencies for all ages\, following the same blended learning format. Students must complete the online portion before attending the in-person skills session. Upon successful completion\, participants will receive a valid 2-year digital certification in Adult and Pediatric First Aid/CPR/AED.<br />\n<br />\n<strong>Additional Course: Bloodborne Pathogens &ndash\; $50 per person</strong><br />\nThis course is designed for individuals at risk of occupational exposure to blood and other potentially infectious materials. It covers how bloodborne pathogens are spread\, methods for preventing exposure\, and steps to take if exposure occurs. This training meets OSHA Bloodborne Pathogens Standard requirements. Participants should consult their employer about workplace-specific policies and procedures. Upon completion\, students will receive a 1-year Bloodborne Pathogens Training certification.
LOCATION:BIA Hawaii 94-487 Akoki St Ste 213 2nd Floor\, Waipahu\, HI 96797 HYBRID: ONLINE
UID:e.9314.887078
SEQUENCE:3
DTSTAMP:20260425T104109Z
URL:https://members.biahawaii.org/events/details/cancelled-cpr-first-aid-hybrid-887078
END:VEVENT

END:VCALENDAR
