BEGIN:VCALENDAR
VERSION:2.0
PRODID:-//ChamberMaster//Event Calendar 2.0//EN
METHOD:PUBLISH
X-PUBLISHED-TTL:P3D
REFRESH-INTERVAL:P3D
CALSCALE:GREGORIAN
BEGIN:VEVENT
DTSTART:20250712T180000Z
DTEND:20250713T020000Z
X-MICROSOFT-CDO-ALLDAYEVENT:FALSE
SUMMARY:Cancelled: Aerial Training
DESCRIPTION:Aerial lift classes are defined by the platforms location relative to tipping line (group) and how the lift travels (type).
X-ALT-DESC;FMTTYPE=text/html:Aerial lift classes are defined by the platforms location relative to tipping line (group) and how the lift travels (type).<br />\n&nbsp\;
LOCATION:BIA Hawaii 94-487 Akoki St Ste 213 2nd Floor Waipahu\, HI 96797
UID:e.9314.887055
SEQUENCE:3
DTSTAMP:20260425T024320Z
URL:https://members.biahawaii.org/events/details/cancelled-aerial-training-887055
END:VEVENT

END:VCALENDAR
