BEGIN:VCALENDAR
VERSION:2.0
PRODID:-//ChamberMaster//Event Calendar 2.0//EN
METHOD:PUBLISH
X-PUBLISHED-TTL:P3D
REFRESH-INTERVAL:P3D
CALSCALE:GREGORIAN
BEGIN:VEVENT
DTSTART:20250125T030000Z
DTEND:20250125T050000Z
X-MICROSOFT-CDO-ALLDAYEVENT:FALSE
SUMMARY:Building Industry Design and Construction Awards (BIDCA)
DESCRIPTION:For over three decades\, BIA Hawaii has been at the forefront of the construction and design industry\, hosting an annual competition that has become a pinnacle event. Formerly known as "The Renaissance Competition\," the Building Industry Design and Construction Awards (BIDCA) stand as a distinguished platform\, showcasing and honoring exceptional commercial and residential projects across Hawaii. This prestigious competition emphasizes the diverse range of construction and design projects\, spanning new developments to impressive remodels.
X-ALT-DESC;FMTTYPE=text/html:<p style="box-sizing: border-box\; margin: 0px\; cursor: text\; padding: 0px\; counter-reset: list-1 0 list-2 0 list-3 0 list-4 0 list-5 0 list-6 0 list-7 0 list-8 0 list-9 0\; font-family: &quot\;Open Sans&quot\;\, sans-serif\; font-size: 16px\;">For over three decades\, BIA Hawaii has been at the forefront of the construction and design industry\, hosting an annual competition that has become a pinnacle event. Formerly known as &quot\;The Renaissance Competition\,&quot\; the Building Industry Design and Construction Awards (BIDCA) stand as a distinguished platform\, showcasing and honoring exceptional commercial and residential projects across Hawaii. This prestigious competition emphasizes the diverse range of construction and design projects\, spanning new developments to impressive remodels.</p>\n\n<p style="box-sizing: border-box\; margin: 0px\; cursor: text\; padding: 0px\; counter-reset: list-1 0 list-2 0 list-3 0 list-4 0 list-5 0 list-6 0 list-7 0 list-8 0 list-9 0\; font-family: &quot\;Open Sans&quot\;\, sans-serif\; font-size: 16px\;">&nbsp\;</p>\n
LOCATION:The Neal S. Blaisdell Center
UID:e.9314.886998
SEQUENCE:3
DTSTAMP:20260425T122240Z
URL:https://members.biahawaii.org/events/details/building-industry-design-and-construction-awards-bidca-886998
END:VEVENT

END:VCALENDAR
